| Back to Multiple platform build/check report for BioC 3.11 | 
  | 
This page was generated on 2020-10-17 11:56:34 -0400 (Sat, 17 Oct 2020).
| TO THE DEVELOPERS/MAINTAINERS OF THE flowClust PACKAGE: Please make sure to use the following settings in order to reproduce any error or warning you see on this page. | 
| Package 609/1905 | Hostname | OS / Arch | INSTALL | BUILD | CHECK | BUILD BIN | ||||||
| flowClust 3.26.0 Greg Finak 
  | malbec2 | Linux (Ubuntu 18.04.4 LTS) / x86_64 | OK | OK | OK | |||||||
| tokay2 | Windows Server 2012 R2 Standard / x64 | OK | [ OK ] | WARNINGS | OK | |||||||
| machv2 | macOS 10.14.6 Mojave / x86_64 | OK | OK | WARNINGS | OK | 
| Package: flowClust | 
| Version: 3.26.0 | 
| Command: chmod a+r flowClust -R && C:\Users\biocbuild\bbs-3.11-bioc\R\bin\R.exe CMD build --keep-empty-dirs --no-resave-data flowClust | 
| StartedAt: 2020-10-16 21:41:22 -0400 (Fri, 16 Oct 2020) | 
| EndedAt: 2020-10-16 21:44:04 -0400 (Fri, 16 Oct 2020) | 
| EllapsedTime: 161.4 seconds | 
| RetCode: 0 | 
| Status: OK | 
| PackageFile: flowClust_3.26.0.tar.gz | 
| PackageFileSize: 1.623 MiB | 
############################################################################## ############################################################################## ### ### Running command: ### ### chmod a+r flowClust -R && C:\Users\biocbuild\bbs-3.11-bioc\R\bin\R.exe CMD build --keep-empty-dirs --no-resave-data flowClust ### ############################################################################## ############################################################################## * checking for file 'flowClust/DESCRIPTION' ... OK * preparing 'flowClust': * checking DESCRIPTION meta-information ... OK * cleaning src * installing the package to build vignettes * creating vignettes ... OK * cleaning src * checking for LF line-endings in source and make files and shell scripts * checking for empty or unneeded directories * looking to see if a 'data/datalist' file should be added * building 'flowClust_3.26.0.tar.gz' Warning: file 'flowClust/cleanup' did not have execute permissions: corrected Warning: file 'flowClust/configure' did not have execute permissions: corrected