| Back to Multiple platform build/check report for BioC 3.11 |
|
This page was generated on 2020-10-17 11:56:34 -0400 (Sat, 17 Oct 2020).
| TO THE DEVELOPERS/MAINTAINERS OF THE flowBeads PACKAGE: Please make sure to use the following settings in order to reproduce any error or warning you see on this page. |
| Package 603/1905 | Hostname | OS / Arch | INSTALL | BUILD | CHECK | BUILD BIN | ||||||
| flowBeads 1.26.0 Nikolas Pontikos
| malbec2 | Linux (Ubuntu 18.04.4 LTS) / x86_64 | OK | OK | WARNINGS | |||||||
| tokay2 | Windows Server 2012 R2 Standard / x64 | OK | OK | WARNINGS | [ OK ] | |||||||
| machv2 | macOS 10.14.6 Mojave / x86_64 | OK | OK | WARNINGS | OK |
| Package: flowBeads |
| Version: 1.26.0 |
| Command: rm -rf flowBeads.buildbin-libdir && mkdir flowBeads.buildbin-libdir && C:\Users\biocbuild\bbs-3.11-bioc\R\bin\R.exe CMD INSTALL --merge-multiarch --build --library=flowBeads.buildbin-libdir flowBeads_1.26.0.tar.gz |
| StartedAt: 2020-10-17 10:30:31 -0400 (Sat, 17 Oct 2020) |
| EndedAt: 2020-10-17 10:31:19 -0400 (Sat, 17 Oct 2020) |
| EllapsedTime: 48.2 seconds |
| RetCode: 0 |
| Status: OK |
| PackageFile: flowBeads_1.26.0.zip |
| PackageFileSize: 1.129 MiB |
##############################################################################
##############################################################################
###
### Running command:
###
### rm -rf flowBeads.buildbin-libdir && mkdir flowBeads.buildbin-libdir && C:\Users\biocbuild\bbs-3.11-bioc\R\bin\R.exe CMD INSTALL --merge-multiarch --build --library=flowBeads.buildbin-libdir flowBeads_1.26.0.tar.gz
###
##############################################################################
##############################################################################
install for i386
* installing *source* package 'flowBeads' ...
** using staged installation
** R
** data
** inst
** byte-compile and prepare package for lazy loading
** help
*** installing help indices
converting help for package 'flowBeads'
finding HTML links ... done
BeadFlowFrame-class html
finding level-2 HTML links ... done
GatedBeadFlowFrame-class html
absoluteNormalise-methods html
beads1 html
beads2 html
cytocalmef html
dakomef html
flowBeads-package html
gateBeads-methods html
generateReport-methods html
getClusteringStats-methods html
getDate-methods html
getMEFparams-methods html
getMEFtransform-methods html
getParams-methods html
getTransformFunction-methods html
hasMEF-methods html
length-methods html
mefTransform html
plot-methods html
relativeNormalise-methods html
show-methods html
toMEF-methods html
** building package indices
** installing vignettes
** testing if installed package can be loaded from temporary location
** testing if installed package can be loaded from final location
** testing if installed package keeps a record of temporary installation path
install for x64
* installing *source* package 'flowBeads' ...
** testing if installed package can be loaded
* MD5 sums
packaged installation of 'flowBeads' as flowBeads_1.26.0.zip
* DONE (flowBeads)