| Back to Multiple platform build/check report for BioC 3.11 |
|
This page was generated on 2020-10-17 11:56:33 -0400 (Sat, 17 Oct 2020).
| TO THE DEVELOPERS/MAINTAINERS OF THE fCI PACKAGE: Please make sure to use the following settings in order to reproduce any error or warning you see on this page. |
| Package 588/1905 | Hostname | OS / Arch | INSTALL | BUILD | CHECK | BUILD BIN | ||||||
| fCI 1.18.0 Shaojun Tang
| malbec2 | Linux (Ubuntu 18.04.4 LTS) / x86_64 | OK | OK | OK | |||||||
| tokay2 | Windows Server 2012 R2 Standard / x64 | [ OK ] | OK | OK | OK | |||||||
| machv2 | macOS 10.14.6 Mojave / x86_64 | OK | OK | WARNINGS | OK |
| Package: fCI |
| Version: 1.18.0 |
| Command: C:\cygwin\bin\curl.exe -O https://malbec2.bioconductor.org/BBS/3.11/bioc/src/contrib/fCI_1.18.0.tar.gz && rm -rf fCI.buildbin-libdir && mkdir fCI.buildbin-libdir && C:\Users\biocbuild\bbs-3.11-bioc\R\bin\R.exe CMD INSTALL --merge-multiarch --build --library=fCI.buildbin-libdir fCI_1.18.0.tar.gz && C:\Users\biocbuild\bbs-3.11-bioc\R\bin\R.exe CMD INSTALL fCI_1.18.0.zip && rm fCI_1.18.0.tar.gz fCI_1.18.0.zip |
| StartedAt: 2020-10-16 19:02:33 -0400 (Fri, 16 Oct 2020) |
| EndedAt: 2020-10-16 19:03:18 -0400 (Fri, 16 Oct 2020) |
| EllapsedTime: 45.0 seconds |
| RetCode: 0 |
| Status: OK |
##############################################################################
##############################################################################
###
### Running command:
###
### C:\cygwin\bin\curl.exe -O https://malbec2.bioconductor.org/BBS/3.11/bioc/src/contrib/fCI_1.18.0.tar.gz && rm -rf fCI.buildbin-libdir && mkdir fCI.buildbin-libdir && C:\Users\biocbuild\bbs-3.11-bioc\R\bin\R.exe CMD INSTALL --merge-multiarch --build --library=fCI.buildbin-libdir fCI_1.18.0.tar.gz && C:\Users\biocbuild\bbs-3.11-bioc\R\bin\R.exe CMD INSTALL fCI_1.18.0.zip && rm fCI_1.18.0.tar.gz fCI_1.18.0.zip
###
##############################################################################
##############################################################################
% Total % Received % Xferd Average Speed Time Time Time Current
Dload Upload Total Spent Left Speed
0 0 0 0 0 0 0 0 --:--:-- --:--:-- --:--:-- 0
100 886k 100 886k 0 0 4789k 0 --:--:-- --:--:-- --:--:-- 4977k
install for i386
* installing *source* package 'fCI' ...
** using staged installation
** R
** data
** inst
** byte-compile and prepare package for lazy loading
in method for 'initialize' with signature '"NPCI"': no definition for class "NPCI"
in method for 'normalization' with signature '"NPCI"': no definition for class "NPCI"
in method for 'setfCI' with signature '"NPCI"': no definition for class "NPCI"
in method for 'populate' with signature '"NPCI"': no definition for class "NPCI"
in method for 'find.fci.targets' with signature '"NPCI"': no definition for class "NPCI"
in method for 'show.targets' with signature '"NPCI"': no definition for class "NPCI"
in method for 'call.npci' with signature '"NPCI"': no definition for class "NPCI"
in method for 'compute' with signature '"NPCI"': no definition for class "NPCI"
** help
*** installing help indices
converting help for package 'fCI'
finding HTML links ... done
NPCI-class html
call.npci-methods html
call.npci html
compute-methods html
compute html
deg.pairwise.fold.change html
deg.up.down.info html
deseq.median.ratio.normalization html
divergence.multivariate.distributions html
fCI-class html
fCI.call.by.index html
fci.data html
figures-methods html
figures html
find.fci.targets-methods html
find.fci.targets html
find.mid.point html
get.fold.large.step html
get.npci.data html
get.npci.distance.matrix html
get.outline.index html
get.protein.fold.step html
get.rank.combinations html
get.rna.fold.step html
initialize-methods html
intersect.of.lists html
is.installed html
multi.dimensional.fci.data html
normalization-methods html
normalization html
npci.gene.by.pvalues html
npci.index.reconsidered html
npci.index.to.be.removed html
npci.venn.diagram html
pairwise.change.occupancy html
populate-methods html
populate html
report.target.summary html
setfCI-methods html
setfCI html
show.targets-methods html
show.targets html
summarize-methods html
summarize html
total.library.size.normalization html
trim.size.normalization html
two.sample.log.ratio html
two.sample.permutation.test html
venndiagram-methods html
venndiagram html
** building package indices
** installing vignettes
'fCI.Rmd'
** testing if installed package can be loaded from temporary location
** testing if installed package can be loaded from final location
** testing if installed package keeps a record of temporary installation path
install for x64
* installing *source* package 'fCI' ...
** testing if installed package can be loaded
* MD5 sums
packaged installation of 'fCI' as fCI_1.18.0.zip
* DONE (fCI)
* installing to library 'C:/Users/biocbuild/bbs-3.11-bioc/R/library'
package 'fCI' successfully unpacked and MD5 sums checked