| Back to Multiple platform build/check report for BioC 3.11 |
|
This page was generated on 2020-10-17 11:56:33 -0400 (Sat, 17 Oct 2020).
| TO THE DEVELOPERS/MAINTAINERS OF THE exomePeak2 PACKAGE: Please make sure to use the following settings in order to reproduce any error or warning you see on this page. |
| Package 572/1905 | Hostname | OS / Arch | INSTALL | BUILD | CHECK | BUILD BIN | ||||||
| exomePeak2 1.0.0 Zhen Wei
| malbec2 | Linux (Ubuntu 18.04.4 LTS) / x86_64 | OK | OK | OK | |||||||
| tokay2 | Windows Server 2012 R2 Standard / x64 | OK | OK | [ OK ] | OK | |||||||
| machv2 | macOS 10.14.6 Mojave / x86_64 | OK | OK | OK | OK |
| Package: exomePeak2 |
| Version: 1.0.0 |
| Command: C:\Users\biocbuild\bbs-3.11-bioc\R\bin\R.exe CMD check --force-multiarch --install=check:exomePeak2.install-out.txt --library=C:\Users\biocbuild\bbs-3.11-bioc\R\library --no-vignettes --timings exomePeak2_1.0.0.tar.gz |
| StartedAt: 2020-10-17 03:56:23 -0400 (Sat, 17 Oct 2020) |
| EndedAt: 2020-10-17 04:09:40 -0400 (Sat, 17 Oct 2020) |
| EllapsedTime: 797.7 seconds |
| RetCode: 0 |
| Status: OK |
| CheckDir: exomePeak2.Rcheck |
| Warnings: 0 |
##############################################################################
##############################################################################
###
### Running command:
###
### C:\Users\biocbuild\bbs-3.11-bioc\R\bin\R.exe CMD check --force-multiarch --install=check:exomePeak2.install-out.txt --library=C:\Users\biocbuild\bbs-3.11-bioc\R\library --no-vignettes --timings exomePeak2_1.0.0.tar.gz
###
##############################################################################
##############################################################################
* using log directory 'C:/Users/biocbuild/bbs-3.11-bioc/meat/exomePeak2.Rcheck'
* using R version 4.0.3 (2020-10-10)
* using platform: x86_64-w64-mingw32 (64-bit)
* using session charset: ISO8859-1
* using option '--no-vignettes'
* checking for file 'exomePeak2/DESCRIPTION' ... OK
* checking extension type ... Package
* this is package 'exomePeak2' version '1.0.0'
* package encoding: UTF-8
* checking package namespace information ... OK
* checking package dependencies ... OK
* checking if this is a source package ... OK
* checking if there is a namespace ... OK
* checking for hidden files and directories ... OK
* checking for portable file names ... OK
* checking whether package 'exomePeak2' can be installed ... OK
* checking installed package size ... OK
* checking package directory ... OK
* checking 'build' directory ... OK
* checking DESCRIPTION meta-information ... OK
* checking top-level files ... OK
* checking for left-over files ... OK
* checking index information ... OK
* checking package subdirectories ... OK
* checking R files for non-ASCII characters ... OK
* checking R files for syntax errors ... OK
* loading checks for arch 'i386'
** checking whether the package can be loaded ... OK
** checking whether the package can be loaded with stated dependencies ... OK
** checking whether the package can be unloaded cleanly ... OK
** checking whether the namespace can be loaded with stated dependencies ... OK
** checking whether the namespace can be unloaded cleanly ... OK
* loading checks for arch 'x64'
** checking whether the package can be loaded ... OK
** checking whether the package can be loaded with stated dependencies ... OK
** checking whether the package can be unloaded cleanly ... OK
** checking whether the namespace can be loaded with stated dependencies ... OK
** checking whether the namespace can be unloaded cleanly ... OK
* checking dependencies in R code ... OK
* checking S3 generic/method consistency ... OK
* checking replacement functions ... OK
* checking foreign function calls ... OK
* checking R code for possible problems ... NOTE
Results,SummarizedExomePeak: no visible global function definition for
'glm_M'
exomePeakCalling,MeripBamFileList: no visible global function
definition for 'metadata'
exomePeakCalling,MeripBamFileList: no visible global function
definition for '%over%'
plotLfcGC,SummarizedExomePeak: no visible binding for global variable
'GC_idx'
plotLfcGC,SummarizedExomePeak: no visible binding for global variable
'Log2FC'
plotLfcGC,SummarizedExomePeak: no visible binding for global variable
'Label'
plotReadsGC,SummarizedExomePeak: no visible binding for global variable
'GC_cont'
plotReadsGC,SummarizedExomePeak: no visible binding for global variable
'value'
plotSizeFactors,SummarizedExomePeak: no visible binding for global
variable 'samples'
plotSizeFactors,SummarizedExomePeak: no visible binding for global
variable 'size_factors'
plotSizeFactors,SummarizedExomePeak: no visible binding for global
variable 'Estimation_Methods'
Undefined global functions or variables:
%over% Estimation_Methods GC_cont GC_idx Label Log2FC glm_M metadata
samples size_factors value
* checking Rd files ... OK
* checking Rd metadata ... OK
* checking Rd cross-references ... OK
* checking for missing documentation entries ... OK
* checking for code/documentation mismatches ... OK
* checking Rd \usage sections ... OK
* checking Rd contents ... OK
* checking for unstated dependencies in examples ... OK
* checking files in 'vignettes' ... OK
* checking examples ...
** running examples for arch 'i386' ... OK
Examples with CPU (user + system) or elapsed time > 5s
user system elapsed
exomePeak2 63.41 0.28 64.05
exomePeakCalling-methods 33.36 0.17 33.62
SummarizedExomePeak-class 23.50 1.35 26.60
** running examples for arch 'x64' ... OK
Examples with CPU (user + system) or elapsed time > 5s
user system elapsed
exomePeak2 59.31 0.14 72.44
exomePeakCalling-methods 41.93 0.19 42.47
SummarizedExomePeak-class 22.88 0.83 34.24
Results-methods 1.01 0.00 5.75
* checking for unstated dependencies in vignettes ... OK
* checking package vignettes in 'inst/doc' ... OK
* checking running R code from vignettes ... SKIPPED
* checking re-building of vignette outputs ... SKIPPED
* checking PDF version of manual ... OK
* DONE
Status: 1 NOTE
See
'C:/Users/biocbuild/bbs-3.11-bioc/meat/exomePeak2.Rcheck/00check.log'
for details.
exomePeak2.Rcheck/00install.out
##############################################################################
##############################################################################
###
### Running command:
###
### C:\cygwin\bin\curl.exe -O https://malbec2.bioconductor.org/BBS/3.11/bioc/src/contrib/exomePeak2_1.0.0.tar.gz && rm -rf exomePeak2.buildbin-libdir && mkdir exomePeak2.buildbin-libdir && C:\Users\biocbuild\bbs-3.11-bioc\R\bin\R.exe CMD INSTALL --merge-multiarch --build --library=exomePeak2.buildbin-libdir exomePeak2_1.0.0.tar.gz && C:\Users\biocbuild\bbs-3.11-bioc\R\bin\R.exe CMD INSTALL exomePeak2_1.0.0.zip && rm exomePeak2_1.0.0.tar.gz exomePeak2_1.0.0.zip
###
##############################################################################
##############################################################################
% Total % Received % Xferd Average Speed Time Time Time Current
Dload Upload Total Spent Left Speed
0 0 0 0 0 0 0 0 --:--:-- --:--:-- --:--:-- 0
100 2303k 100 2303k 0 0 23.6M 0 --:--:-- --:--:-- --:--:-- 25.5M
install for i386
* installing *source* package 'exomePeak2' ...
** using staged installation
** R
** inst
** byte-compile and prepare package for lazy loading
** help
*** installing help indices
converting help for package 'exomePeak2'
finding HTML links ... done
ExonPlot html
GC_content_over_grl html
GCsizeFactors-methods html
GLM_inference html
LibraryType-methods html
MeripBamFileList-class html
finding level-2 HTML links ... done
Parameter-methods html
Results-methods html
SummarizedExomePeak-class html
call_peaks_with_GLM html
consDESeq2_DM html
consDESeq2_M html
convertTxDb html
ctest html
decision_deseq2 html
disj_background html
estimateSeqDepth-methods html
exomePeak2 html
exomePeak2Results-methods html
exomePeakCalling-methods html
exome_bins_from_txdb html
exons_by_unique_gene html
exportResults-methods html
flank_on_exons html
glmDM-methods html
glmM-methods html
mclust_bg html
normalizeGC-methods html
plotExonLength-methods html
plotLfcGC-methods html
plotReadsGC-methods html
plotSizeFactors-methods html
quiet html
reads_five_POS html
reads_five_POS_rev html
reduce_peaks html
remove_introns html
replace_bg html
scanMeripBAM html
split_by_name html
** building package indices
** installing vignettes
** testing if installed package can be loaded from temporary location
** testing if installed package can be loaded from final location
** testing if installed package keeps a record of temporary installation path
install for x64
* installing *source* package 'exomePeak2' ...
** testing if installed package can be loaded
* MD5 sums
packaged installation of 'exomePeak2' as exomePeak2_1.0.0.zip
* DONE (exomePeak2)
* installing to library 'C:/Users/biocbuild/bbs-3.11-bioc/R/library'
package 'exomePeak2' successfully unpacked and MD5 sums checked
|
exomePeak2.Rcheck/examples_i386/exomePeak2-Ex.timings
|
exomePeak2.Rcheck/examples_x64/exomePeak2-Ex.timings
|