| Back to Multiple platform build/check report for BioC 3.11 |
|
This page was generated on 2020-10-17 11:56:32 -0400 (Sat, 17 Oct 2020).
| TO THE DEVELOPERS/MAINTAINERS OF THE eudysbiome PACKAGE: Please make sure to use the following settings in order to reproduce any error or warning you see on this page. |
| Package 566/1905 | Hostname | OS / Arch | INSTALL | BUILD | CHECK | BUILD BIN | ||||||
| eudysbiome 1.18.0 Xiaoyuan Zhou
| malbec2 | Linux (Ubuntu 18.04.4 LTS) / x86_64 | OK | OK | OK | |||||||
| tokay2 | Windows Server 2012 R2 Standard / x64 | OK | OK | OK | [ OK ] | |||||||
| machv2 | macOS 10.14.6 Mojave / x86_64 | OK | OK | OK | OK |
| Package: eudysbiome |
| Version: 1.18.0 |
| Command: rm -rf eudysbiome.buildbin-libdir && mkdir eudysbiome.buildbin-libdir && C:\Users\biocbuild\bbs-3.11-bioc\R\bin\R.exe CMD INSTALL --merge-multiarch --build --library=eudysbiome.buildbin-libdir eudysbiome_1.18.0.tar.gz |
| StartedAt: 2020-10-17 10:27:54 -0400 (Sat, 17 Oct 2020) |
| EndedAt: 2020-10-17 10:28:43 -0400 (Sat, 17 Oct 2020) |
| EllapsedTime: 49.9 seconds |
| RetCode: 0 |
| Status: OK |
| PackageFile: eudysbiome_1.18.0.zip |
| PackageFileSize: 4.326 MiB |
##############################################################################
##############################################################################
###
### Running command:
###
### rm -rf eudysbiome.buildbin-libdir && mkdir eudysbiome.buildbin-libdir && C:\Users\biocbuild\bbs-3.11-bioc\R\bin\R.exe CMD INSTALL --merge-multiarch --build --library=eudysbiome.buildbin-libdir eudysbiome_1.18.0.tar.gz
###
##############################################################################
##############################################################################
install for i386
* installing *source* package 'eudysbiome' ...
** using staged installation
** R
** data
*** moving datasets to lazyload DB
** inst
** byte-compile and prepare package for lazy loading
** help
*** installing help indices
converting help for package 'eudysbiome'
finding HTML links ... done
Cartesian html
assignTax html
contingencyCount html
contingencyTest html
diffGenera html
eudysbiome html
harmGenera html
microAnnotate html
microCount html
microDiff html
tableSpecies html
** building package indices
** installing vignettes
** testing if installed package can be loaded from temporary location
** testing if installed package can be loaded from final location
** testing if installed package keeps a record of temporary installation path
install for x64
* installing *source* package 'eudysbiome' ...
** testing if installed package can be loaded
* MD5 sums
packaged installation of 'eudysbiome' as eudysbiome_1.18.0.zip
* DONE (eudysbiome)