| Back to Multiple platform build/check report for BioC 3.11 |
|
This page was generated on 2020-10-17 11:56:32 -0400 (Sat, 17 Oct 2020).
| TO THE DEVELOPERS/MAINTAINERS OF THE esetVis PACKAGE: Please make sure to use the following settings in order to reproduce any error or warning you see on this page. |
| Package 565/1905 | Hostname | OS / Arch | INSTALL | BUILD | CHECK | BUILD BIN | ||||||
| esetVis 1.14.0 Laure Cougnaud
| malbec2 | Linux (Ubuntu 18.04.4 LTS) / x86_64 | OK | OK | OK | |||||||
| tokay2 | Windows Server 2012 R2 Standard / x64 | OK | OK | [ OK ] | OK | |||||||
| machv2 | macOS 10.14.6 Mojave / x86_64 | OK | OK | OK | OK |
| Package: esetVis |
| Version: 1.14.0 |
| Command: C:\Users\biocbuild\bbs-3.11-bioc\R\bin\R.exe CMD check --force-multiarch --install=check:esetVis.install-out.txt --library=C:\Users\biocbuild\bbs-3.11-bioc\R\library --no-vignettes --timings esetVis_1.14.0.tar.gz |
| StartedAt: 2020-10-17 03:55:36 -0400 (Sat, 17 Oct 2020) |
| EndedAt: 2020-10-17 04:02:21 -0400 (Sat, 17 Oct 2020) |
| EllapsedTime: 404.8 seconds |
| RetCode: 0 |
| Status: OK |
| CheckDir: esetVis.Rcheck |
| Warnings: 0 |
##############################################################################
##############################################################################
###
### Running command:
###
### C:\Users\biocbuild\bbs-3.11-bioc\R\bin\R.exe CMD check --force-multiarch --install=check:esetVis.install-out.txt --library=C:\Users\biocbuild\bbs-3.11-bioc\R\library --no-vignettes --timings esetVis_1.14.0.tar.gz
###
##############################################################################
##############################################################################
* using log directory 'C:/Users/biocbuild/bbs-3.11-bioc/meat/esetVis.Rcheck'
* using R version 4.0.3 (2020-10-10)
* using platform: x86_64-w64-mingw32 (64-bit)
* using session charset: ISO8859-1
* using option '--no-vignettes'
* checking for file 'esetVis/DESCRIPTION' ... OK
* checking extension type ... Package
* this is package 'esetVis' version '1.14.0'
* checking package namespace information ... OK
* checking package dependencies ... OK
* checking if this is a source package ... OK
* checking if there is a namespace ... OK
* checking for hidden files and directories ... OK
* checking for portable file names ... OK
* checking whether package 'esetVis' can be installed ... OK
* checking installed package size ... OK
* checking package directory ... OK
* checking 'build' directory ... OK
* checking DESCRIPTION meta-information ... OK
* checking top-level files ... OK
* checking for left-over files ... OK
* checking index information ... OK
* checking package subdirectories ... OK
* checking R files for non-ASCII characters ... OK
* checking R files for syntax errors ... OK
* loading checks for arch 'i386'
** checking whether the package can be loaded ... OK
** checking whether the package can be loaded with stated dependencies ... OK
** checking whether the package can be unloaded cleanly ... OK
** checking whether the namespace can be loaded with stated dependencies ... OK
** checking whether the namespace can be unloaded cleanly ... OK
* loading checks for arch 'x64'
** checking whether the package can be loaded ... OK
** checking whether the package can be loaded with stated dependencies ... OK
** checking whether the package can be unloaded cleanly ... OK
** checking whether the namespace can be loaded with stated dependencies ... OK
** checking whether the namespace can be unloaded cleanly ... OK
* checking dependencies in R code ... OK
* checking S3 generic/method consistency ... OK
* checking replacement functions ... OK
* checking foreign function calls ... OK
* checking R code for possible problems ... NOTE
getMethodsInputObjectEsetVis: no visible binding for global variable
'rowData'
getMethodsInputObjectEsetVis: no visible binding for global variable
'colData'
getMethodsInputObjectEsetVis: no visible binding for global variable
'assay'
getMethodsInputObjectEsetVis : <anonymous>: no visible global function
definition for 'colData'
getMethodsInputObjectEsetVis : <anonymous>: no visible global function
definition for 'rowData'
ggvisPlotEset: no visible global function definition for ':='
ggvisPlotEset: no visible binding for global variable 'fill'
ggvisPlotEset: no visible binding for global variable 'shape'
ggvisPlotEset: no visible binding for global variable 'size'
ggvisPlotEset: no visible binding for global variable 'opacity'
ggvisPlotEset: no visible global function definition for '%>%'
ggvisPlotEset: no visible global function definition for
'scale_ordinal'
ggvisPlotEset: no visible global function definition for 'set_options'
Undefined global functions or variables:
%>% := assay colData fill opacity rowData scale_ordinal set_options
shape size
* checking Rd files ... OK
* checking Rd metadata ... OK
* checking Rd cross-references ... OK
* checking for missing documentation entries ... OK
* checking for code/documentation mismatches ... OK
* checking Rd \usage sections ... OK
* checking Rd contents ... OK
* checking for unstated dependencies in examples ... OK
* checking files in 'vignettes' ... OK
* checking examples ...
** running examples for arch 'i386' ... OK
Examples with CPU (user + system) or elapsed time > 5s
user system elapsed
getGeneSetsForPlot 62.18 5.24 179.18
esetLda 6.67 0.20 6.87
esetPlotWrapper 5.25 0.28 5.53
** running examples for arch 'x64' ... OK
Examples with CPU (user + system) or elapsed time > 5s
user system elapsed
getGeneSetsForPlot 50.17 1.32 51.48
esetPlotWrapper 5.33 0.33 5.66
esetLda 5.22 0.21 5.42
* checking for unstated dependencies in vignettes ... OK
* checking package vignettes in 'inst/doc' ... OK
* checking running R code from vignettes ... SKIPPED
* checking re-building of vignette outputs ... SKIPPED
* checking PDF version of manual ... OK
* DONE
Status: 1 NOTE
See
'C:/Users/biocbuild/bbs-3.11-bioc/meat/esetVis.Rcheck/00check.log'
for details.
esetVis.Rcheck/00install.out
##############################################################################
##############################################################################
###
### Running command:
###
### C:\cygwin\bin\curl.exe -O https://malbec2.bioconductor.org/BBS/3.11/bioc/src/contrib/esetVis_1.14.0.tar.gz && rm -rf esetVis.buildbin-libdir && mkdir esetVis.buildbin-libdir && C:\Users\biocbuild\bbs-3.11-bioc\R\bin\R.exe CMD INSTALL --merge-multiarch --build --library=esetVis.buildbin-libdir esetVis_1.14.0.tar.gz && C:\Users\biocbuild\bbs-3.11-bioc\R\bin\R.exe CMD INSTALL esetVis_1.14.0.zip && rm esetVis_1.14.0.tar.gz esetVis_1.14.0.zip
###
##############################################################################
##############################################################################
% Total % Received % Xferd Average Speed Time Time Time Current
Dload Upload Total Spent Left Speed
0 0 0 0 0 0 0 0 --:--:-- --:--:-- --:--:-- 0
100 43257 100 43257 0 0 767k 0 --:--:-- --:--:-- --:--:-- 880k
install for i386
* installing *source* package 'esetVis' ...
** using staged installation
** R
** inst
** byte-compile and prepare package for lazy loading
** help
*** installing help indices
converting help for package 'esetVis'
finding HTML links ... done
characterORexpressionOrCall-class html
esetLda html
finding level-2 HTML links ... done
esetPlot-class html
esetPlotInteractive-class html
esetPlotWrapper html
esetSpectralMap html
esetTsne html
formatManualScale html
formatOutput html
getAxesLimits-methods html
getCoordGeneSets html
getDataPlotSamplesWithAnnotation-methods
html
getGeneSetsForPlot html
getMethodsInputObjectEsetVis html
ggPlotEset html
ggplotEsetPlot-class html
ggvisEsetPlot-class html
ggvisPlotEset html
plotEset-methods html
plotTopElements html
rbokehEsetPlot-class html
rbokehPlotEset html
setFixElement html
setManualScale html
simpleCap html
** building package indices
** installing vignettes
** testing if installed package can be loaded from temporary location
** testing if installed package can be loaded from final location
** testing if installed package keeps a record of temporary installation path
install for x64
* installing *source* package 'esetVis' ...
** testing if installed package can be loaded
* MD5 sums
packaged installation of 'esetVis' as esetVis_1.14.0.zip
* DONE (esetVis)
* installing to library 'C:/Users/biocbuild/bbs-3.11-bioc/R/library'
package 'esetVis' successfully unpacked and MD5 sums checked
|
esetVis.Rcheck/examples_i386/esetVis-Ex.timings
|
esetVis.Rcheck/examples_x64/esetVis-Ex.timings
|