| Back to Multiple platform build/check report for BioC 3.11 |
|
This page was generated on 2020-10-17 11:56:32 -0400 (Sat, 17 Oct 2020).
| TO THE DEVELOPERS/MAINTAINERS OF THE erma PACKAGE: Please make sure to use the following settings in order to reproduce any error or warning you see on this page. |
| Package 562/1905 | Hostname | OS / Arch | INSTALL | BUILD | CHECK | BUILD BIN | ||||||
| erma 1.4.0 VJ Carey
| malbec2 | Linux (Ubuntu 18.04.4 LTS) / x86_64 | OK | OK | OK | |||||||
| tokay2 | Windows Server 2012 R2 Standard / x64 | OK | OK | [ OK ] | OK | |||||||
| machv2 | macOS 10.14.6 Mojave / x86_64 | OK | OK | OK | OK |
| Package: erma |
| Version: 1.4.0 |
| Command: C:\Users\biocbuild\bbs-3.11-bioc\R\bin\R.exe CMD check --force-multiarch --install=check:erma.install-out.txt --library=C:\Users\biocbuild\bbs-3.11-bioc\R\library --no-vignettes --timings erma_1.4.0.tar.gz |
| StartedAt: 2020-10-17 03:49:30 -0400 (Sat, 17 Oct 2020) |
| EndedAt: 2020-10-17 04:02:58 -0400 (Sat, 17 Oct 2020) |
| EllapsedTime: 808.5 seconds |
| RetCode: 0 |
| Status: OK |
| CheckDir: erma.Rcheck |
| Warnings: 0 |
##############################################################################
##############################################################################
###
### Running command:
###
### C:\Users\biocbuild\bbs-3.11-bioc\R\bin\R.exe CMD check --force-multiarch --install=check:erma.install-out.txt --library=C:\Users\biocbuild\bbs-3.11-bioc\R\library --no-vignettes --timings erma_1.4.0.tar.gz
###
##############################################################################
##############################################################################
* using log directory 'C:/Users/biocbuild/bbs-3.11-bioc/meat/erma.Rcheck'
* using R version 4.0.3 (2020-10-10)
* using platform: x86_64-w64-mingw32 (64-bit)
* using session charset: ISO8859-1
* using option '--no-vignettes'
* checking for file 'erma/DESCRIPTION' ... OK
* this is package 'erma' version '1.4.0'
* checking package namespace information ... OK
* checking package dependencies ... OK
* checking if this is a source package ... OK
* checking if there is a namespace ... OK
* checking for hidden files and directories ... OK
* checking for portable file names ... OK
* checking whether package 'erma' can be installed ... OK
* checking installed package size ... NOTE
installed size is 199.3Mb
sub-directories of 1Mb or more:
bed_tabix 161.4Mb
data 37.1Mb
* checking package directory ... OK
* checking 'build' directory ... OK
* checking DESCRIPTION meta-information ... OK
* checking top-level files ... OK
* checking for left-over files ... OK
* checking index information ... OK
* checking package subdirectories ... OK
* checking R files for non-ASCII characters ... OK
* checking R files for syntax errors ... OK
* loading checks for arch 'i386'
** checking whether the package can be loaded ... OK
** checking whether the package can be loaded with stated dependencies ... OK
** checking whether the package can be unloaded cleanly ... OK
** checking whether the namespace can be loaded with stated dependencies ... OK
** checking whether the namespace can be unloaded cleanly ... OK
* loading checks for arch 'x64'
** checking whether the package can be loaded ... OK
** checking whether the package can be loaded with stated dependencies ... OK
** checking whether the package can be unloaded cleanly ... OK
** checking whether the namespace can be loaded with stated dependencies ... OK
** checking whether the namespace can be unloaded cleanly ... OK
* checking dependencies in R code ... OK
* checking S3 generic/method consistency ... OK
* checking replacement functions ... OK
* checking foreign function calls ... OK
* checking R code for possible problems ... NOTE
geneTxRange: no visible global function definition for 'select'
genemodelOLD: no visible binding for global variable 'exonsBy'
stateProfile: no visible binding for global variable 'states_25'
stateProfile: no visible binding for global variable 'short_celltype'
stateProfile: no visible binding for global variable 'name'
statesByRange: no visible binding for global variable 'mod'
statesByRange: no visible binding for global variable 'upstream'
statesByRange: no visible binding for global variable 'downstream'
statesByRange : <anonymous>: no visible binding for global variable
'tss'
statesByRange: no visible binding for global variable 'states_25'
Undefined global functions or variables:
downstream exonsBy mod name select short_celltype states_25 tss
upstream
* checking Rd files ... OK
* checking Rd metadata ... OK
* checking Rd cross-references ... OK
* checking for missing documentation entries ... OK
* checking for code/documentation mismatches ... OK
* checking Rd \usage sections ... OK
* checking Rd contents ... OK
* checking for unstated dependencies in examples ... OK
* checking contents of 'data' directory ... OK
* checking data for non-ASCII characters ... OK
* checking data for ASCII and uncompressed saves ... OK
* checking files in 'vignettes' ... OK
* checking examples ...
** running examples for arch 'i386' ... OK
Examples with CPU (user + system) or elapsed time > 5s
user system elapsed
erma-package 12.45 0.47 39.03
stateProfile 3.71 0.20 34.03
genemodel 1.71 0.20 5.61
** running examples for arch 'x64' ... OK
Examples with CPU (user + system) or elapsed time > 5s
user system elapsed
erma-package 9.62 0.41 35.99
stateProfile 3.66 0.12 29.69
* checking for unstated dependencies in vignettes ... OK
* checking package vignettes in 'inst/doc' ... OK
* checking running R code from vignettes ... SKIPPED
* checking re-building of vignette outputs ... SKIPPED
* checking PDF version of manual ... OK
* DONE
Status: 2 NOTEs
See
'C:/Users/biocbuild/bbs-3.11-bioc/meat/erma.Rcheck/00check.log'
for details.
erma.Rcheck/00install.out
##############################################################################
##############################################################################
###
### Running command:
###
### C:\cygwin\bin\curl.exe -O https://malbec2.bioconductor.org/BBS/3.11/bioc/src/contrib/erma_1.4.0.tar.gz && rm -rf erma.buildbin-libdir && mkdir erma.buildbin-libdir && C:\Users\biocbuild\bbs-3.11-bioc\R\bin\R.exe CMD INSTALL --merge-multiarch --build --library=erma.buildbin-libdir erma_1.4.0.tar.gz && C:\Users\biocbuild\bbs-3.11-bioc\R\bin\R.exe CMD INSTALL erma_1.4.0.zip && rm erma_1.4.0.tar.gz erma_1.4.0.zip
###
##############################################################################
##############################################################################
% Total % Received % Xferd Average Speed Time Time Time Current
Dload Upload Total Spent Left Speed
0 0 0 0 0 0 0 0 --:--:-- --:--:-- --:--:-- 0
37 197M 37 74.6M 0 0 104M 0 0:00:01 --:--:-- 0:00:01 104M
90 197M 90 179M 0 0 104M 0 0:00:01 0:00:01 --:--:-- 104M
100 197M 100 197M 0 0 103M 0 0:00:01 0:00:01 --:--:-- 103M
install for i386
* installing *source* package 'erma' ...
** using staged installation
** R
** data
** inst
** byte-compile and prepare package for lazy loading
** help
*** installing help indices
converting help for package 'erma'
finding HTML links ... done
ErmaSet-class html
finding level-2 HTML links ... done
erma-package html
genemodel html
mapmeta html
stateProfile html
states_25 html
** building package indices
** installing vignettes
** testing if installed package can be loaded from temporary location
** testing if installed package can be loaded from final location
** testing if installed package keeps a record of temporary installation path
install for x64
* installing *source* package 'erma' ...
** testing if installed package can be loaded
* MD5 sums
packaged installation of 'erma' as erma_1.4.0.zip
* DONE (erma)
* installing to library 'C:/Users/biocbuild/bbs-3.11-bioc/R/library'
package 'erma' successfully unpacked and MD5 sums checked
|
erma.Rcheck/examples_i386/erma-Ex.timings
|
erma.Rcheck/examples_x64/erma-Ex.timings
|