| Back to Multiple platform build/check report for BioC 3.11 |
|
This page was generated on 2020-10-17 11:56:31 -0400 (Sat, 17 Oct 2020).
| TO THE DEVELOPERS/MAINTAINERS OF THE enrichTF PACKAGE: Please make sure to use the following settings in order to reproduce any error or warning you see on this page. |
| Package 547/1905 | Hostname | OS / Arch | INSTALL | BUILD | CHECK | BUILD BIN | ||||||
| enrichTF 1.4.0 Zheng Wei
| malbec2 | Linux (Ubuntu 18.04.4 LTS) / x86_64 | OK | OK | OK | |||||||
| tokay2 | Windows Server 2012 R2 Standard / x64 | [ OK ] | OK | OK | OK | |||||||
| machv2 | macOS 10.14.6 Mojave / x86_64 | OK | OK | OK | OK |
| Package: enrichTF |
| Version: 1.4.0 |
| Command: C:\cygwin\bin\curl.exe -O https://malbec2.bioconductor.org/BBS/3.11/bioc/src/contrib/enrichTF_1.4.0.tar.gz && rm -rf enrichTF.buildbin-libdir && mkdir enrichTF.buildbin-libdir && C:\Users\biocbuild\bbs-3.11-bioc\R\bin\R.exe CMD INSTALL --merge-multiarch --build --library=enrichTF.buildbin-libdir enrichTF_1.4.0.tar.gz && C:\Users\biocbuild\bbs-3.11-bioc\R\bin\R.exe CMD INSTALL enrichTF_1.4.0.zip && rm enrichTF_1.4.0.tar.gz enrichTF_1.4.0.zip |
| StartedAt: 2020-10-16 18:56:03 -0400 (Fri, 16 Oct 2020) |
| EndedAt: 2020-10-16 18:57:52 -0400 (Fri, 16 Oct 2020) |
| EllapsedTime: 109.2 seconds |
| RetCode: 0 |
| Status: OK |
##############################################################################
##############################################################################
###
### Running command:
###
### C:\cygwin\bin\curl.exe -O https://malbec2.bioconductor.org/BBS/3.11/bioc/src/contrib/enrichTF_1.4.0.tar.gz && rm -rf enrichTF.buildbin-libdir && mkdir enrichTF.buildbin-libdir && C:\Users\biocbuild\bbs-3.11-bioc\R\bin\R.exe CMD INSTALL --merge-multiarch --build --library=enrichTF.buildbin-libdir enrichTF_1.4.0.tar.gz && C:\Users\biocbuild\bbs-3.11-bioc\R\bin\R.exe CMD INSTALL enrichTF_1.4.0.zip && rm enrichTF_1.4.0.tar.gz enrichTF_1.4.0.zip
###
##############################################################################
##############################################################################
% Total % Received % Xferd Average Speed Time Time Time Current
Dload Upload Total Spent Left Speed
0 0 0 0 0 0 0 0 --:--:-- --:--:-- --:--:-- 0
100 1004k 100 1004k 0 0 13.4M 0 --:--:-- --:--:-- --:--:-- 14.6M
install for i386
* installing *source* package 'enrichTF' ...
** using staged installation
** R
** inst
** byte-compile and prepare package for lazy loading
** help
*** installing help indices
converting help for package 'enrichTF'
finding HTML links ... done
EnrichStep-class html
GenBackground html
finding level-2 HTML links ... done
GeneOntology html
MotifsInRegions html
Pipelines html
RegionConnectTargetGene html
SingleSampleReport html
TFsEnrichInRegions html
TissueOpennessConserve html
TissueOpennessSpecificity html
UnzipAndMergeBed html
** building package indices
** installing vignettes
** testing if installed package can be loaded from temporary location
Warning in options(stringsAsFactors = TRUE) :
'options(stringsAsFactors = TRUE)' is deprecated and will be disabled
** testing if installed package can be loaded from final location
Warning in options(stringsAsFactors = TRUE) :
'options(stringsAsFactors = TRUE)' is deprecated and will be disabled
** testing if installed package keeps a record of temporary installation path
install for x64
* installing *source* package 'enrichTF' ...
** testing if installed package can be loaded
Warning in options(stringsAsFactors = TRUE) :
'options(stringsAsFactors = TRUE)' is deprecated and will be disabled
* MD5 sums
packaged installation of 'enrichTF' as enrichTF_1.4.0.zip
* DONE (enrichTF)
* installing to library 'C:/Users/biocbuild/bbs-3.11-bioc/R/library'
package 'enrichTF' successfully unpacked and MD5 sums checked