| Back to Multiple platform build/check report for BioC 3.11 |
|
This page was generated on 2020-10-17 11:56:30 -0400 (Sat, 17 Oct 2020).
| TO THE DEVELOPERS/MAINTAINERS OF THE easyRNASeq PACKAGE: Please make sure to use the following settings in order to reproduce any error or warning you see on this page. |
| Package 518/1905 | Hostname | OS / Arch | INSTALL | BUILD | CHECK | BUILD BIN | ||||||
| easyRNASeq 2.24.1 Nicolas Delhomme
| malbec2 | Linux (Ubuntu 18.04.4 LTS) / x86_64 | OK | OK | OK | |||||||
| tokay2 | Windows Server 2012 R2 Standard / x64 | [ OK ] | OK | OK | OK | |||||||
| machv2 | macOS 10.14.6 Mojave / x86_64 | OK | OK | OK | OK |
| Package: easyRNASeq |
| Version: 2.24.1 |
| Command: C:\cygwin\bin\curl.exe -O https://malbec2.bioconductor.org/BBS/3.11/bioc/src/contrib/easyRNASeq_2.24.1.tar.gz && rm -rf easyRNASeq.buildbin-libdir && mkdir easyRNASeq.buildbin-libdir && C:\Users\biocbuild\bbs-3.11-bioc\R\bin\R.exe CMD INSTALL --merge-multiarch --build --library=easyRNASeq.buildbin-libdir easyRNASeq_2.24.1.tar.gz && C:\Users\biocbuild\bbs-3.11-bioc\R\bin\R.exe CMD INSTALL easyRNASeq_2.24.1.zip && rm easyRNASeq_2.24.1.tar.gz easyRNASeq_2.24.1.zip |
| StartedAt: 2020-10-16 18:59:39 -0400 (Fri, 16 Oct 2020) |
| EndedAt: 2020-10-16 19:01:42 -0400 (Fri, 16 Oct 2020) |
| EllapsedTime: 122.8 seconds |
| RetCode: 0 |
| Status: OK |
##############################################################################
##############################################################################
###
### Running command:
###
### C:\cygwin\bin\curl.exe -O https://malbec2.bioconductor.org/BBS/3.11/bioc/src/contrib/easyRNASeq_2.24.1.tar.gz && rm -rf easyRNASeq.buildbin-libdir && mkdir easyRNASeq.buildbin-libdir && C:\Users\biocbuild\bbs-3.11-bioc\R\bin\R.exe CMD INSTALL --merge-multiarch --build --library=easyRNASeq.buildbin-libdir easyRNASeq_2.24.1.tar.gz && C:\Users\biocbuild\bbs-3.11-bioc\R\bin\R.exe CMD INSTALL easyRNASeq_2.24.1.zip && rm easyRNASeq_2.24.1.tar.gz easyRNASeq_2.24.1.zip
###
##############################################################################
##############################################################################
% Total % Received % Xferd Average Speed Time Time Time Current
Dload Upload Total Spent Left Speed
0 0 0 0 0 0 0 0 --:--:-- --:--:-- --:--:-- 0
0 123k 0 0 0 0 0 0 --:--:-- --:--:-- --:--:-- 0
100 123k 100 123k 0 0 1945k 0 --:--:-- --:--:-- --:--:-- 2134k
install for i386
* installing *source* package 'easyRNASeq' ...
** using staged installation
** R
** data
** inst
** byte-compile and prepare package for lazy loading
Creating a generic function for 'basename' from package 'base' in package 'easyRNASeq'
Creating a generic function for 'file.exists' from package 'base' in package 'easyRNASeq'
** help
*** installing help indices
converting help for package 'easyRNASeq'
finding HTML links ... done
BiocFileCache-methods html
finding level-2 HTML links ... done
DESeq-methods html
GenomicRanges-methods html
IRanges-methods html
Rsamtools-methods html
ShortRead-methods html
basename-methods html
easyRNASeq-AnnotParam-accessors html
easyRNASeq-AnnotParam-class html
easyRNASeq-AnnotParam html
easyRNASeq-BamFileList html
easyRNASeq-BamParam-accessors html
easyRNASeq-BamParam-class html
easyRNASeq-BamParam html
easyRNASeq-RnaSeqParam-accessors html
easyRNASeq-RnaSeqParam-class html
easyRNASeq-RnaSeqParam html
easyRNASeq-accessors html
easyRNASeq-annotation-internal-methods
html
easyRNASeq-annotation-methods html
easyRNASeq-class html
easyRNASeq-correction-methods html
easyRNASeq-coverage-methods html
easyRNASeq-datasets html
easyRNASeq-defunct-annotation-methods html
easyRNASeq-defunct html
easyRNASeq-easyRNASeq html
easyRNASeq-global-variables html
easyRNASeq-internal-AnnotParam-methods
html
easyRNASeq-internal-methods html
easyRNASeq-island-methods html
easyRNASeq-package html
easyRNASeq-simpleRNASeq html
easyRNASeq-summarization-internal-methods
html
easyRNASeq-summarization-methods html
easyRNASeq-synthetic-transcripts html
edgeR-methods html
file.exists-methods html
genomeIntervals-methods html
parallel-methods html
print-methods html
show-methods html
** building package indices
** installing vignettes
** testing if installed package can be loaded from temporary location
** testing if installed package can be loaded from final location
** testing if installed package keeps a record of temporary installation path
install for x64
* installing *source* package 'easyRNASeq' ...
** testing if installed package can be loaded
* MD5 sums
packaged installation of 'easyRNASeq' as easyRNASeq_2.24.1.zip
* DONE (easyRNASeq)
* installing to library 'C:/Users/biocbuild/bbs-3.11-bioc/R/library'
package 'easyRNASeq' successfully unpacked and MD5 sums checked