| Back to Multiple platform build/check report for BioC 3.11 | 
  | 
This page was generated on 2020-10-17 11:56:29 -0400 (Sat, 17 Oct 2020).
| TO THE DEVELOPERS/MAINTAINERS OF THE dyebias PACKAGE: Please make sure to use the following settings in order to reproduce any error or warning you see on this page. | 
| Package 514/1905 | Hostname | OS / Arch | INSTALL | BUILD | CHECK | BUILD BIN | ||||||
| dyebias 1.48.0 Philip Lijnzaad 
  | malbec2 | Linux (Ubuntu 18.04.4 LTS) / x86_64 | OK | OK | OK | |||||||
| tokay2 | Windows Server 2012 R2 Standard / x64 | OK | OK | OK | [ OK ] | |||||||
| machv2 | macOS 10.14.6 Mojave / x86_64 | OK | OK | OK | OK | 
| Package: dyebias | 
| Version: 1.48.0 | 
| Command: rm -rf dyebias.buildbin-libdir && mkdir dyebias.buildbin-libdir && C:\Users\biocbuild\bbs-3.11-bioc\R\bin\R.exe CMD INSTALL --merge-multiarch --build --library=dyebias.buildbin-libdir dyebias_1.48.0.tar.gz | 
| StartedAt: 2020-10-17 10:23:11 -0400 (Sat, 17 Oct 2020) | 
| EndedAt: 2020-10-17 10:24:03 -0400 (Sat, 17 Oct 2020) | 
| EllapsedTime: 51.9 seconds | 
| RetCode: 0 | 
| Status: OK | 
| PackageFile: dyebias_1.48.0.zip | 
| PackageFileSize: 2.129 MiB | 
##############################################################################
##############################################################################
###
### Running command:
###
###   rm -rf dyebias.buildbin-libdir && mkdir dyebias.buildbin-libdir && C:\Users\biocbuild\bbs-3.11-bioc\R\bin\R.exe CMD INSTALL --merge-multiarch --build --library=dyebias.buildbin-libdir dyebias_1.48.0.tar.gz
###
##############################################################################
##############################################################################
install for i386
* installing *source* package 'dyebias' ...
** using staged installation
** R
** inst
** byte-compile and prepare package for lazy loading
** help
*** installing help indices
  converting help for package 'dyebias'
    finding HTML links ... done
    dyebias-package                         html  
    dyebias.application.subset              html  
    dyebias.apply.correction                html  
    dyebias.boxplot                         html  
    dyebias.estimate.iGSDBs                 html  
    dyebias.monotonicity                    html  
    dyebias.monotonicityplot                html  
    dyebias.rgplot                          html  
    dyebias.trendplot                       html  
** building package indices
** installing vignettes
** testing if installed package can be loaded from temporary location
** testing if installed package can be loaded from final location
** testing if installed package keeps a record of temporary installation path
install for x64
* installing *source* package 'dyebias' ...
** testing if installed package can be loaded
* MD5 sums
packaged installation of 'dyebias' as dyebias_1.48.0.zip
* DONE (dyebias)