| Back to Multiple platform build/check report for BioC 3.11 |
|
This page was generated on 2020-10-17 11:54:40 -0400 (Sat, 17 Oct 2020).
| TO THE DEVELOPERS/MAINTAINERS OF THE divergence PACKAGE: Please make sure to use the following settings in order to reproduce any error or warning you see on this page. |
| Package 484/1905 | Hostname | OS / Arch | INSTALL | BUILD | CHECK | BUILD BIN | ||||||
| divergence 1.4.0 Wikum Dinalankara
| malbec2 | Linux (Ubuntu 18.04.4 LTS) / x86_64 | OK | OK | [ OK ] | |||||||
| tokay2 | Windows Server 2012 R2 Standard / x64 | OK | OK | OK | OK | |||||||
| machv2 | macOS 10.14.6 Mojave / x86_64 | OK | OK | OK | OK |
| Package: divergence |
| Version: 1.4.0 |
| Command: /home/biocbuild/bbs-3.11-bioc/R/bin/R CMD check --install=check:divergence.install-out.txt --library=/home/biocbuild/bbs-3.11-bioc/R/library --no-vignettes --timings divergence_1.4.0.tar.gz |
| StartedAt: 2020-10-17 00:47:50 -0400 (Sat, 17 Oct 2020) |
| EndedAt: 2020-10-17 00:50:46 -0400 (Sat, 17 Oct 2020) |
| EllapsedTime: 175.9 seconds |
| RetCode: 0 |
| Status: OK |
| CheckDir: divergence.Rcheck |
| Warnings: 0 |
##############################################################################
##############################################################################
###
### Running command:
###
### /home/biocbuild/bbs-3.11-bioc/R/bin/R CMD check --install=check:divergence.install-out.txt --library=/home/biocbuild/bbs-3.11-bioc/R/library --no-vignettes --timings divergence_1.4.0.tar.gz
###
##############################################################################
##############################################################################
* using log directory ‘/home/biocbuild/bbs-3.11-bioc/meat/divergence.Rcheck’
* using R version 4.0.3 (2020-10-10)
* using platform: x86_64-pc-linux-gnu (64-bit)
* using session charset: UTF-8
* using option ‘--no-vignettes’
* checking for file ‘divergence/DESCRIPTION’ ... OK
* this is package ‘divergence’ version ‘1.4.0’
* package encoding: UTF-8
* checking package namespace information ... OK
* checking package dependencies ... OK
* checking if this is a source package ... OK
* checking if there is a namespace ... OK
* checking for hidden files and directories ... OK
* checking for portable file names ... OK
* checking for sufficient/correct file permissions ... OK
* checking whether package ‘divergence’ can be installed ... OK
* checking installed package size ... OK
* checking package directory ... OK
* checking ‘build’ directory ... OK
* checking DESCRIPTION meta-information ... OK
* checking top-level files ... NOTE
File
LICENSE
is not mentioned in the DESCRIPTION file.
* checking for left-over files ... OK
* checking index information ... OK
* checking package subdirectories ... OK
* checking R files for non-ASCII characters ... OK
* checking R files for syntax errors ... OK
* checking whether the package can be loaded ... OK
* checking whether the package can be loaded with stated dependencies ... OK
* checking whether the package can be unloaded cleanly ... OK
* checking whether the namespace can be loaded with stated dependencies ... OK
* checking whether the namespace can be unloaded cleanly ... OK
* checking dependencies in R code ... OK
* checking S3 generic/method consistency ... OK
* checking replacement functions ... OK
* checking foreign function calls ... OK
* checking R code for possible problems ... NOTE
check_SE: no visible binding for global variable ‘data’
computeSingleFeaturesetBinaryVector: no visible global function
definition for ‘dist’
computeSingleFeaturesetSupport: no visible global function definition
for ‘dist’
computeSingleFeaturesetSupport: no visible global function definition
for ‘quantile’
computeSingleRange: no visible global function definition for
‘quantile’
getRangesBySections: no visible global function definition for
‘detectCores’
rowChiSq: no visible global function definition for ‘chisq.test’
rowChiSq: no visible global function definition for ‘xtabs’
Undefined global functions or variables:
chisq.test data detectCores dist quantile xtabs
Consider adding
importFrom("stats", "chisq.test", "dist", "quantile", "xtabs")
importFrom("utils", "data")
to your NAMESPACE file.
* checking Rd files ... OK
* checking Rd metadata ... OK
* checking Rd cross-references ... OK
* checking for missing documentation entries ... OK
* checking for code/documentation mismatches ... OK
* checking Rd \usage sections ... OK
* checking Rd contents ... OK
* checking for unstated dependencies in examples ... OK
* checking contents of ‘data’ directory ... OK
* checking data for non-ASCII characters ... OK
* checking data for ASCII and uncompressed saves ... OK
* checking files in ‘vignettes’ ... OK
* checking examples ... OK
Examples with CPU (user + system) or elapsed time > 5s
user system elapsed
computeChiSquaredTest 51.945 27.197 12.722
computeUnivariateDigitization 24.701 17.285 8.012
findUnivariateGammaWithSupport 23.788 17.260 7.993
* checking for unstated dependencies in vignettes ... OK
* checking package vignettes in ‘inst/doc’ ... OK
* checking running R code from vignettes ... SKIPPED
* checking re-building of vignette outputs ... SKIPPED
* checking PDF version of manual ... OK
* DONE
Status: 2 NOTEs
See
‘/home/biocbuild/bbs-3.11-bioc/meat/divergence.Rcheck/00check.log’
for details.
divergence.Rcheck/00install.out
############################################################################## ############################################################################## ### ### Running command: ### ### /home/biocbuild/bbs-3.11-bioc/R/bin/R CMD INSTALL divergence ### ############################################################################## ############################################################################## * installing to library ‘/home/biocbuild/bbs-3.11-bioc/R/library’ * installing *source* package ‘divergence’ ... ** using staged installation ** R ** data *** moving datasets to lazyload DB ** byte-compile and prepare package for lazy loading ** help *** installing help indices ** building package indices ** installing vignettes ** testing if installed package can be loaded from temporary location ** testing if installed package can be loaded from final location ** testing if installed package keeps a record of temporary installation path * DONE (divergence)
divergence.Rcheck/divergence-Ex.timings
| name | user | system | elapsed | |
| computeChiSquaredTest | 51.945 | 27.197 | 12.722 | |
| computeMultivariateBinaryMatrix | 1.567 | 0.080 | 1.646 | |
| computeMultivariateDigitization | 4.388 | 0.029 | 4.428 | |
| computeMultivariateSupport | 0.467 | 0.003 | 0.470 | |
| computeQuantileMatrix | 0.08 | 0.00 | 0.08 | |
| computeUnivariateDigitization | 24.701 | 17.285 | 8.012 | |
| computeUnivariateSupport | 2.301 | 1.469 | 0.803 | |
| computeUnivariateTernaryMatrix | 2.436 | 1.541 | 1.108 | |
| findMultivariateGammaWithSupport | 0.900 | 0.013 | 0.913 | |
| findUnivariateGammaWithSupport | 23.788 | 17.260 | 7.993 | |