| Back to Multiple platform build/check report for BioC 3.11 |
|
This page was generated on 2020-01-16 13:50:55 -0500 (Thu, 16 Jan 2020).
| Package 421/1818 | Hostname | OS / Arch | INSTALL | BUILD | CHECK | BUILD BIN | ||||||
| decontam 1.7.0 Benjamin Callahan
| malbec2 | Linux (Ubuntu 18.04.3 LTS) / x86_64 | OK | OK | OK | |||||||
| tokay2 | Windows Server 2012 R2 Standard / x64 | OK | OK | OK | OK | |||||||
| celaya2 | OS X 10.11.6 El Capitan / x86_64 | OK | OK | [ OK ] | OK |
| Package: decontam |
| Version: 1.7.0 |
| Command: /Library/Frameworks/R.framework/Versions/Current/Resources/bin/R CMD check --install=check:decontam.install-out.txt --library=/Library/Frameworks/R.framework/Versions/Current/Resources/library --no-vignettes --timings decontam_1.7.0.tar.gz |
| StartedAt: 2020-01-16 03:34:21 -0500 (Thu, 16 Jan 2020) |
| EndedAt: 2020-01-16 03:35:38 -0500 (Thu, 16 Jan 2020) |
| EllapsedTime: 76.3 seconds |
| RetCode: 0 |
| Status: OK |
| CheckDir: decontam.Rcheck |
| Warnings: 0 |
##############################################################################
##############################################################################
###
### Running command:
###
### /Library/Frameworks/R.framework/Versions/Current/Resources/bin/R CMD check --install=check:decontam.install-out.txt --library=/Library/Frameworks/R.framework/Versions/Current/Resources/library --no-vignettes --timings decontam_1.7.0.tar.gz
###
##############################################################################
##############################################################################
* using log directory ‘/Users/biocbuild/bbs-3.11-bioc/meat/decontam.Rcheck’
* using R Under development (unstable) (2019-12-14 r77572)
* using platform: x86_64-apple-darwin15.6.0 (64-bit)
* using session charset: UTF-8
* using option ‘--no-vignettes’
* checking for file ‘decontam/DESCRIPTION’ ... OK
* checking extension type ... Package
* this is package ‘decontam’ version ‘1.7.0’
* package encoding: UTF-8
* checking package namespace information ... OK
* checking package dependencies ... OK
* checking if this is a source package ... OK
* checking if there is a namespace ... OK
* checking for hidden files and directories ... OK
* checking for portable file names ... OK
* checking for sufficient/correct file permissions ... OK
* checking whether package ‘decontam’ can be installed ... OK
* checking installed package size ... OK
* checking package directory ... OK
* checking ‘build’ directory ... OK
* checking DESCRIPTION meta-information ... OK
* checking top-level files ... OK
* checking for left-over files ... OK
* checking index information ... OK
* checking package subdirectories ... OK
* checking R files for non-ASCII characters ... OK
* checking R files for syntax errors ... OK
* checking whether the package can be loaded ... OK
* checking whether the package can be loaded with stated dependencies ... OK
* checking whether the package can be unloaded cleanly ... OK
* checking whether the namespace can be loaded with stated dependencies ... OK
* checking whether the namespace can be unloaded cleanly ... OK
* checking dependencies in R code ... OK
* checking S3 generic/method consistency ... OK
* checking replacement functions ... OK
* checking foreign function calls ... OK
* checking R code for possible problems ... NOTE
plot_condition: no visible binding for global variable ‘Condition’
plot_condition: no visible binding for global variable ‘DNA_conc’
plot_frequency: no visible binding for global variable ‘DNA_conc’
plot_frequency: no visible binding for global variable
‘taxon_abundance’
plot_frequency: no visible binding for global variable ‘Type’
plot_frequency: no visible binding for global variable ‘contam’
plot_frequency: no visible binding for global variable ‘non.contam’
Undefined global functions or variables:
Condition DNA_conc Type contam non.contam taxon_abundance
* checking Rd files ... OK
* checking Rd metadata ... OK
* checking Rd cross-references ... OK
* checking for missing documentation entries ... OK
* checking for code/documentation mismatches ... OK
* checking Rd \usage sections ... OK
* checking Rd contents ... OK
* checking for unstated dependencies in examples ... OK
* checking files in ‘vignettes’ ... OK
* checking examples ... OK
Examples with CPU (user + system) or elapsed time > 5s
user system elapsed
isNotContaminant 8.788 0.708 9.508
isContaminant 5.238 0.278 5.517
* checking for unstated dependencies in vignettes ... OK
* checking package vignettes in ‘inst/doc’ ... OK
* checking running R code from vignettes ... SKIPPED
* checking re-building of vignette outputs ... SKIPPED
* checking PDF version of manual ... OK
* DONE
Status: 1 NOTE
See
‘/Users/biocbuild/bbs-3.11-bioc/meat/decontam.Rcheck/00check.log’
for details.
decontam.Rcheck/00install.out
############################################################################## ############################################################################## ### ### Running command: ### ### /Library/Frameworks/R.framework/Versions/Current/Resources/bin/R CMD INSTALL decontam ### ############################################################################## ############################################################################## * installing to library ‘/Library/Frameworks/R.framework/Versions/4.0/Resources/library’ * installing *source* package ‘decontam’ ... ** using staged installation ** R ** inst ** byte-compile and prepare package for lazy loading ** help *** installing help indices ** building package indices ** installing vignettes ** testing if installed package can be loaded from temporary location ** testing if installed package can be loaded from final location ** testing if installed package keeps a record of temporary installation path * DONE (decontam)
decontam.Rcheck/decontam-Ex.timings
| name | user | system | elapsed | |
| isContaminant | 5.238 | 0.278 | 5.517 | |
| isNotContaminant | 8.788 | 0.708 | 9.508 | |
| plot_condition | 1.805 | 0.135 | 1.943 | |
| plot_frequency | 2.513 | 0.105 | 2.620 | |