| Back to Multiple platform build/check report for BioC 3.11 |
|
This page was generated on 2020-10-17 11:56:24 -0400 (Sat, 17 Oct 2020).
| TO THE DEVELOPERS/MAINTAINERS OF THE daMA PACKAGE: Please make sure to use the following settings in order to reproduce any error or warning you see on this page. |
| Package 418/1905 | Hostname | OS / Arch | INSTALL | BUILD | CHECK | BUILD BIN | ||||||
| daMA 1.60.0 Jobst Landgrebe
| malbec2 | Linux (Ubuntu 18.04.4 LTS) / x86_64 | OK | OK | OK | |||||||
| tokay2 | Windows Server 2012 R2 Standard / x64 | [ OK ] | OK | OK | OK | |||||||
| machv2 | macOS 10.14.6 Mojave / x86_64 | OK | OK | OK | OK |
| Package: daMA |
| Version: 1.60.0 |
| Command: C:\cygwin\bin\curl.exe -O https://malbec2.bioconductor.org/BBS/3.11/bioc/src/contrib/daMA_1.60.0.tar.gz && rm -rf daMA.buildbin-libdir && mkdir daMA.buildbin-libdir && C:\Users\biocbuild\bbs-3.11-bioc\R\bin\R.exe CMD INSTALL --merge-multiarch --build --library=daMA.buildbin-libdir daMA_1.60.0.tar.gz && C:\Users\biocbuild\bbs-3.11-bioc\R\bin\R.exe CMD INSTALL daMA_1.60.0.zip && rm daMA_1.60.0.tar.gz daMA_1.60.0.zip |
| StartedAt: 2020-10-16 16:58:13 -0400 (Fri, 16 Oct 2020) |
| EndedAt: 2020-10-16 16:58:57 -0400 (Fri, 16 Oct 2020) |
| EllapsedTime: 43.7 seconds |
| RetCode: 0 |
| Status: OK |
##############################################################################
##############################################################################
###
### Running command:
###
### C:\cygwin\bin\curl.exe -O https://malbec2.bioconductor.org/BBS/3.11/bioc/src/contrib/daMA_1.60.0.tar.gz && rm -rf daMA.buildbin-libdir && mkdir daMA.buildbin-libdir && C:\Users\biocbuild\bbs-3.11-bioc\R\bin\R.exe CMD INSTALL --merge-multiarch --build --library=daMA.buildbin-libdir daMA_1.60.0.tar.gz && C:\Users\biocbuild\bbs-3.11-bioc\R\bin\R.exe CMD INSTALL daMA_1.60.0.zip && rm daMA_1.60.0.tar.gz daMA_1.60.0.zip
###
##############################################################################
##############################################################################
% Total % Received % Xferd Average Speed Time Time Time Current
Dload Upload Total Spent Left Speed
0 0 0 0 0 0 0 0 --:--:-- --:--:-- --:--:-- 0
12 4120k 12 528k 0 0 1220k 0 0:00:03 --:--:-- 0:00:03 1239k
100 4120k 100 4120k 0 0 7521k 0 --:--:-- --:--:-- --:--:-- 7603k
install for i386
* installing *source* package 'daMA' ...
** using staged installation
** R
** data
** byte-compile and prepare package for lazy loading
** help
*** installing help indices
converting help for package 'daMA'
finding HTML links ... done
analyseMA html
cinfo html
cinfoB.AB html
cmat html
cmatB.AB html
core html
data.3x2 html
designMA html
designs.basic html
designs.composite html
id.3x2 html
** building package indices
** testing if installed package can be loaded from temporary location
** testing if installed package can be loaded from final location
** testing if installed package keeps a record of temporary installation path
install for x64
* installing *source* package 'daMA' ...
** testing if installed package can be loaded
* MD5 sums
packaged installation of 'daMA' as daMA_1.60.0.zip
* DONE (daMA)
* installing to library 'C:/Users/biocbuild/bbs-3.11-bioc/R/library'
package 'daMA' successfully unpacked and MD5 sums checked