| Back to Multiple platform build/check report for BioC 3.11 | 
  | 
This page was generated on 2020-01-16 13:32:12 -0500 (Thu, 16 Jan 2020).
| Package 395/1818 | Hostname | OS / Arch | INSTALL | BUILD | CHECK | BUILD BIN | ||||||
| cycle 1.41.0 Matthias Futschik 
  | malbec2 | Linux (Ubuntu 18.04.3 LTS) / x86_64 | OK | OK | OK | |||||||
| tokay2 | Windows Server 2012 R2 Standard / x64 | OK | OK | OK | OK | |||||||
| celaya2 | OS X 10.11.6 El Capitan / x86_64 | OK | [ OK ] | OK | OK | 
| Package: cycle | 
| Version: 1.41.0 | 
| Command: /Library/Frameworks/R.framework/Versions/Current/Resources/bin/R CMD build --keep-empty-dirs --no-resave-data cycle | 
| StartedAt: 2020-01-15 20:14:59 -0500 (Wed, 15 Jan 2020) | 
| EndedAt: 2020-01-15 20:16:03 -0500 (Wed, 15 Jan 2020) | 
| EllapsedTime: 63.3 seconds | 
| RetCode: 0 | 
| Status: OK | 
| PackageFile: cycle_1.41.0.tar.gz | 
| PackageFileSize: 173.1 KiB | 
############################################################################## ############################################################################## ### ### Running command: ### ### /Library/Frameworks/R.framework/Versions/Current/Resources/bin/R CMD build --keep-empty-dirs --no-resave-data cycle ### ############################################################################## ############################################################################## * checking for file ‘cycle/DESCRIPTION’ ... OK * preparing ‘cycle’: * checking DESCRIPTION meta-information ... OK * installing the package to build vignettes * creating vignettes ... OK * checking for LF line-endings in source and make files and shell scripts * checking for empty or unneeded directories * building ‘cycle_1.41.0.tar.gz’