| Back to Multiple platform build/check report for BioC 3.11 | 
  | 
This page was generated on 2020-10-17 11:56:23 -0400 (Sat, 17 Oct 2020).
| TO THE DEVELOPERS/MAINTAINERS OF THE cosmiq PACKAGE: Please make sure to use the following settings in order to reproduce any error or warning you see on this page. | 
| Package 381/1905 | Hostname | OS / Arch | INSTALL | BUILD | CHECK | BUILD BIN | ||||||
| cosmiq 1.22.0 David Fischer 
  | malbec2 | Linux (Ubuntu 18.04.4 LTS) / x86_64 | OK | OK | OK | |||||||
| tokay2 | Windows Server 2012 R2 Standard / x64 | OK | OK | OK | [ OK ] | |||||||
| machv2 | macOS 10.14.6 Mojave / x86_64 | OK | OK | OK | OK | 
| Package: cosmiq | 
| Version: 1.22.0 | 
| Command: rm -rf cosmiq.buildbin-libdir && mkdir cosmiq.buildbin-libdir && C:\Users\biocbuild\bbs-3.11-bioc\R\bin\R.exe CMD INSTALL --merge-multiarch --build --library=cosmiq.buildbin-libdir cosmiq_1.22.0.tar.gz | 
| StartedAt: 2020-10-17 10:12:56 -0400 (Sat, 17 Oct 2020) | 
| EndedAt: 2020-10-17 10:13:41 -0400 (Sat, 17 Oct 2020) | 
| EllapsedTime: 44.1 seconds | 
| RetCode: 0 | 
| Status: OK | 
| PackageFile: cosmiq_1.22.0.zip | 
| PackageFileSize: 306.8 KiB | 
##############################################################################
##############################################################################
###
### Running command:
###
###   rm -rf cosmiq.buildbin-libdir && mkdir cosmiq.buildbin-libdir && C:\Users\biocbuild\bbs-3.11-bioc\R\bin\R.exe CMD INSTALL --merge-multiarch --build --library=cosmiq.buildbin-libdir cosmiq_1.22.0.tar.gz
###
##############################################################################
##############################################################################
install for i386
* installing *source* package 'cosmiq' ...
** using staged installation
** libs
"C:/rtools40/mingw32/bin/"gcc  -I"C:/Users/BIOCBU~1/BBS-3~1.11-/R/include" -DNDEBUG     -I"C:/extsoft/include"     -O2 -Wall  -std=gnu99 -mfpmath=sse -msse2 -mstackrealign -c util.c -o util.o
C:/rtools40/mingw32/bin/gcc -shared -s -static-libgcc -o cosmiq.dll tmp.def util.o -LC:/extsoft/lib/i386 -LC:/extsoft/lib -LC:/Users/BIOCBU~1/BBS-3~1.11-/R/bin/i386 -lR
installing to C:/Users/biocbuild/bbs-3.11-bioc/meat/cosmiq.buildbin-libdir/00LOCK-cosmiq/00new/cosmiq/libs/i386
** R
** inst
** byte-compile and prepare package for lazy loading
** help
*** installing help indices
  converting help for package 'cosmiq'
    finding HTML links ... done
    combine_spectra                         html  
    cosmiq                                  html  
    create_datamatrix                       html  
    eicmatrix                               html  
    peakdetection                           html  
    quantify_combined                       html  
    retention_time                          html  
** building package indices
** installing vignettes
** testing if installed package can be loaded from temporary location
** testing if installed package can be loaded from final location
** testing if installed package keeps a record of temporary installation path
install for x64
* installing *source* package 'cosmiq' ...
** libs
"C:/rtools40/mingw64/bin/"gcc  -I"C:/Users/BIOCBU~1/BBS-3~1.11-/R/include" -DNDEBUG     -I"C:/extsoft/include"     -O2 -Wall  -std=gnu99 -mfpmath=sse -msse2 -mstackrealign -c util.c -o util.o
C:/rtools40/mingw64/bin/gcc -shared -s -static-libgcc -o cosmiq.dll tmp.def util.o -LC:/extsoft/lib/x64 -LC:/extsoft/lib -LC:/Users/BIOCBU~1/BBS-3~1.11-/R/bin/x64 -lR
installing to C:/Users/biocbuild/bbs-3.11-bioc/meat/cosmiq.buildbin-libdir/cosmiq/libs/x64
** testing if installed package can be loaded
* MD5 sums
packaged installation of 'cosmiq' as cosmiq_1.22.0.zip
* DONE (cosmiq)