| Back to Multiple platform build/check report for BioC 3.11 | 
  | 
This page was generated on 2020-10-17 11:56:22 -0400 (Sat, 17 Oct 2020).
| TO THE DEVELOPERS/MAINTAINERS OF THE copa PACKAGE: Please make sure to use the following settings in order to reproduce any error or warning you see on this page. | 
| Package 369/1905 | Hostname | OS / Arch | INSTALL | BUILD | CHECK | BUILD BIN | ||||||
| copa 1.56.0 James W. MacDonald 
  | malbec2 | Linux (Ubuntu 18.04.4 LTS) / x86_64 | OK | OK | OK | |||||||
| tokay2 | Windows Server 2012 R2 Standard / x64 | [ OK ] | OK | OK | OK | |||||||
| machv2 | macOS 10.14.6 Mojave / x86_64 | OK | OK | OK | OK | 
| Package: copa | 
| Version: 1.56.0 | 
| Command: C:\cygwin\bin\curl.exe -O https://malbec2.bioconductor.org/BBS/3.11/bioc/src/contrib/copa_1.56.0.tar.gz && rm -rf copa.buildbin-libdir && mkdir copa.buildbin-libdir && C:\Users\biocbuild\bbs-3.11-bioc\R\bin\R.exe CMD INSTALL --merge-multiarch --build --library=copa.buildbin-libdir copa_1.56.0.tar.gz && C:\Users\biocbuild\bbs-3.11-bioc\R\bin\R.exe CMD INSTALL copa_1.56.0.zip && rm copa_1.56.0.tar.gz copa_1.56.0.zip | 
| StartedAt: 2020-10-16 16:53:33 -0400 (Fri, 16 Oct 2020) | 
| EndedAt: 2020-10-16 16:54:03 -0400 (Fri, 16 Oct 2020) | 
| EllapsedTime: 29.9 seconds | 
| RetCode: 0 | 
| Status: OK | 
##############################################################################
##############################################################################
###
### Running command:
###
###   C:\cygwin\bin\curl.exe -O https://malbec2.bioconductor.org/BBS/3.11/bioc/src/contrib/copa_1.56.0.tar.gz && rm -rf copa.buildbin-libdir && mkdir copa.buildbin-libdir && C:\Users\biocbuild\bbs-3.11-bioc\R\bin\R.exe CMD INSTALL --merge-multiarch --build --library=copa.buildbin-libdir copa_1.56.0.tar.gz && C:\Users\biocbuild\bbs-3.11-bioc\R\bin\R.exe CMD INSTALL copa_1.56.0.zip && rm copa_1.56.0.tar.gz copa_1.56.0.zip
###
##############################################################################
##############################################################################
  % Total    % Received % Xferd  Average Speed   Time    Time     Time  Current
                                 Dload  Upload   Total   Spent    Left  Speed
  0     0    0     0    0     0      0      0 --:--:-- --:--:-- --:--:--     0
100 12777  100 12777    0     0   105k      0 --:--:-- --:--:-- --:--:--  112k
install for i386
* installing *source* package 'copa' ...
** using staged installation
** libs
"C:/rtools40/mingw32/bin/"gcc  -I"C:/Users/BIOCBU~1/BBS-3~1.11-/R/include" -DNDEBUG     -I"C:/extsoft/include"     -O2 -Wall  -std=gnu99 -mfpmath=sse -msse2 -mstackrealign -c copa.c -o copa.o
C:/rtools40/mingw32/bin/gcc -shared -s -static-libgcc -o copa.dll tmp.def copa.o -LC:/extsoft/lib/i386 -LC:/extsoft/lib -LC:/Users/BIOCBU~1/BBS-3~1.11-/R/bin/i386 -lR
installing to C:/Users/biocbuild/bbs-3.11-bioc/meat/copa.buildbin-libdir/00LOCK-copa/00new/copa/libs/i386
** R
** inst
** byte-compile and prepare package for lazy loading
** help
*** installing help indices
  converting help for package 'copa'
    finding HTML links ... done
    copa                                    html  
    copa.package                            html  
    copaFilter                              html  
    copaPerm                                html  
    copaTable                               html  
    getans                                  html  
    pSum                                    html  
    perm.mat                                html  
    plotCopa                                html  
    scatterPlotCopa                         html  
    summaryCopa                             html  
** building package indices
** installing vignettes
** testing if installed package can be loaded from temporary location
** testing if installed package can be loaded from final location
** testing if installed package keeps a record of temporary installation path
install for x64
* installing *source* package 'copa' ...
** libs
"C:/rtools40/mingw64/bin/"gcc  -I"C:/Users/BIOCBU~1/BBS-3~1.11-/R/include" -DNDEBUG     -I"C:/extsoft/include"     -O2 -Wall  -std=gnu99 -mfpmath=sse -msse2 -mstackrealign -c copa.c -o copa.o
C:/rtools40/mingw64/bin/gcc -shared -s -static-libgcc -o copa.dll tmp.def copa.o -LC:/extsoft/lib/x64 -LC:/extsoft/lib -LC:/Users/BIOCBU~1/BBS-3~1.11-/R/bin/x64 -lR
installing to C:/Users/biocbuild/bbs-3.11-bioc/meat/copa.buildbin-libdir/copa/libs/x64
** testing if installed package can be loaded
* MD5 sums
packaged installation of 'copa' as copa_1.56.0.zip
* DONE (copa)
* installing to library 'C:/Users/biocbuild/bbs-3.11-bioc/R/library'
package 'copa' successfully unpacked and MD5 sums checked