| Back to Multiple platform build/check report for BioC 3.11 | 
  | 
This page was generated on 2020-10-17 11:56:22 -0400 (Sat, 17 Oct 2020).
| TO THE DEVELOPERS/MAINTAINERS OF THE consensusOV PACKAGE: Please make sure to use the following settings in order to reproduce any error or warning you see on this page. | 
| Package 364/1905 | Hostname | OS / Arch | INSTALL | BUILD | CHECK | BUILD BIN | ||||||
| consensusOV 1.10.0 Benjamin Haibe-Kains 
  | malbec2 | Linux (Ubuntu 18.04.4 LTS) / x86_64 | OK | OK | OK | |||||||
| tokay2 | Windows Server 2012 R2 Standard / x64 | [ OK ] | OK | OK | OK | |||||||
| machv2 | macOS 10.14.6 Mojave / x86_64 | OK | OK | OK | OK | 
| Package: consensusOV | 
| Version: 1.10.0 | 
| Command: C:\cygwin\bin\curl.exe -O https://malbec2.bioconductor.org/BBS/3.11/bioc/src/contrib/consensusOV_1.10.0.tar.gz && rm -rf consensusOV.buildbin-libdir && mkdir consensusOV.buildbin-libdir && C:\Users\biocbuild\bbs-3.11-bioc\R\bin\R.exe CMD INSTALL --merge-multiarch --build --library=consensusOV.buildbin-libdir consensusOV_1.10.0.tar.gz && C:\Users\biocbuild\bbs-3.11-bioc\R\bin\R.exe CMD INSTALL consensusOV_1.10.0.zip && rm consensusOV_1.10.0.tar.gz consensusOV_1.10.0.zip | 
| StartedAt: 2020-10-16 18:23:02 -0400 (Fri, 16 Oct 2020) | 
| EndedAt: 2020-10-16 18:24:14 -0400 (Fri, 16 Oct 2020) | 
| EllapsedTime: 71.8 seconds | 
| RetCode: 0 | 
| Status: OK | 
##############################################################################
##############################################################################
###
### Running command:
###
###   C:\cygwin\bin\curl.exe -O https://malbec2.bioconductor.org/BBS/3.11/bioc/src/contrib/consensusOV_1.10.0.tar.gz && rm -rf consensusOV.buildbin-libdir && mkdir consensusOV.buildbin-libdir && C:\Users\biocbuild\bbs-3.11-bioc\R\bin\R.exe CMD INSTALL --merge-multiarch --build --library=consensusOV.buildbin-libdir consensusOV_1.10.0.tar.gz && C:\Users\biocbuild\bbs-3.11-bioc\R\bin\R.exe CMD INSTALL consensusOV_1.10.0.zip && rm consensusOV_1.10.0.tar.gz consensusOV_1.10.0.zip
###
##############################################################################
##############################################################################
  % Total    % Received % Xferd  Average Speed   Time    Time     Time  Current
                                 Dload  Upload   Total   Spent    Left  Speed
  0     0    0     0    0     0      0      0 --:--:-- --:--:-- --:--:--     0
100 2988k  100 2988k    0     0  25.7M      0 --:--:-- --:--:-- --:--:-- 27.5M
install for i386
* installing *source* package 'consensusOV' ...
** using staged installation
** R
** data
*** moving datasets to lazyload DB
** inst
** byte-compile and prepare package for lazy loading
** help
*** installing help indices
  converting help for package 'consensusOV'
    finding HTML links ... done
    GSE14764.eset                           html  
    dataset.merging                         html  
    get.bentink.subtypes                    html  
    get.consensus.subtypes                  html  
    get.hao.subtypes                        html  
    get.helland.subtypes                    html  
    get.konecny.subtypes                    html  
    get.subtypes                            html  
    get.verhaak.subtypes                    html  
** building package indices
** installing vignettes
** testing if installed package can be loaded from temporary location
** testing if installed package can be loaded from final location
** testing if installed package keeps a record of temporary installation path
install for x64
* installing *source* package 'consensusOV' ...
** testing if installed package can be loaded
* MD5 sums
packaged installation of 'consensusOV' as consensusOV_1.10.0.zip
* DONE (consensusOV)
* installing to library 'C:/Users/biocbuild/bbs-3.11-bioc/R/library'
package 'consensusOV' successfully unpacked and MD5 sums checked