| Back to Multiple platform build/check report for BioC 3.11 | 
  | 
This page was generated on 2020-10-17 11:56:21 -0400 (Sat, 17 Oct 2020).
| TO THE DEVELOPERS/MAINTAINERS OF THE coexnet PACKAGE: Please make sure to use the following settings in order to reproduce any error or warning you see on this page. | 
| Package 346/1905 | Hostname | OS / Arch | INSTALL | BUILD | CHECK | BUILD BIN | ||||||
| coexnet 1.10.3 Juan David Henao 
  | malbec2 | Linux (Ubuntu 18.04.4 LTS) / x86_64 | OK | OK | OK | |||||||
| tokay2 | Windows Server 2012 R2 Standard / x64 | OK | OK | OK | [ OK ] | |||||||
| machv2 | macOS 10.14.6 Mojave / x86_64 | OK | OK | OK | OK | 
| Package: coexnet | 
| Version: 1.10.3 | 
| Command: rm -rf coexnet.buildbin-libdir && mkdir coexnet.buildbin-libdir && C:\Users\biocbuild\bbs-3.11-bioc\R\bin\R.exe CMD INSTALL --merge-multiarch --build --library=coexnet.buildbin-libdir coexnet_1.10.3.tar.gz | 
| StartedAt: 2020-10-17 10:10:09 -0400 (Sat, 17 Oct 2020) | 
| EndedAt: 2020-10-17 10:11:24 -0400 (Sat, 17 Oct 2020) | 
| EllapsedTime: 75.7 seconds | 
| RetCode: 0 | 
| Status: OK | 
| PackageFile: coexnet_1.10.3.zip | 
| PackageFileSize: 1.752 MiB | 
##############################################################################
##############################################################################
###
### Running command:
###
###   rm -rf coexnet.buildbin-libdir && mkdir coexnet.buildbin-libdir && C:\Users\biocbuild\bbs-3.11-bioc\R\bin\R.exe CMD INSTALL --merge-multiarch --build --library=coexnet.buildbin-libdir coexnet_1.10.3.tar.gz
###
##############################################################################
##############################################################################
install for i386
* installing *source* package 'coexnet' ...
** using staged installation
** R
** data
*** moving datasets to lazyload DB
** inst
** byte-compile and prepare package for lazy loading
** help
*** installing help indices
  converting help for package 'coexnet'
    finding HTML links ... done
    CCP                                     html  
    affy                                    html  
    cofVar                                  html  
    createNet                               html  
    difExprs                                html  
    exprMat                                 html  
    findThreshold                           html  
    geneSymbol                              html  
    getAffy                                 html  
    getInfo                                 html  
    info                                    html  
    net1                                    html  
    net2                                    html  
    ppiNet                                  html  
    sharedComponents                        html  
** building package indices
** installing vignettes
** testing if installed package can be loaded from temporary location
** testing if installed package can be loaded from final location
** testing if installed package keeps a record of temporary installation path
install for x64
* installing *source* package 'coexnet' ...
** testing if installed package can be loaded
* MD5 sums
packaged installation of 'coexnet' as coexnet_1.10.3.zip
* DONE (coexnet)