| Back to Multiple platform build/check report for BioC 3.11 |
|
This page was generated on 2020-10-17 11:56:22 -0400 (Sat, 17 Oct 2020).
| TO THE DEVELOPERS/MAINTAINERS OF THE coRdon PACKAGE: Please make sure to use the following settings in order to reproduce any error or warning you see on this page. |
| Package 373/1905 | Hostname | OS / Arch | INSTALL | BUILD | CHECK | BUILD BIN | ||||||
| coRdon 1.6.0 Anamaria Elek
| malbec2 | Linux (Ubuntu 18.04.4 LTS) / x86_64 | OK | OK | OK | |||||||
| tokay2 | Windows Server 2012 R2 Standard / x64 | [ OK ] | OK | OK | OK | |||||||
| machv2 | macOS 10.14.6 Mojave / x86_64 | OK | OK | OK | OK |
| Package: coRdon |
| Version: 1.6.0 |
| Command: C:\cygwin\bin\curl.exe -O https://malbec2.bioconductor.org/BBS/3.11/bioc/src/contrib/coRdon_1.6.0.tar.gz && rm -rf coRdon.buildbin-libdir && mkdir coRdon.buildbin-libdir && C:\Users\biocbuild\bbs-3.11-bioc\R\bin\R.exe CMD INSTALL --merge-multiarch --build --library=coRdon.buildbin-libdir coRdon_1.6.0.tar.gz && C:\Users\biocbuild\bbs-3.11-bioc\R\bin\R.exe CMD INSTALL coRdon_1.6.0.zip && rm coRdon_1.6.0.tar.gz coRdon_1.6.0.zip |
| StartedAt: 2020-10-16 17:36:22 -0400 (Fri, 16 Oct 2020) |
| EndedAt: 2020-10-16 17:38:12 -0400 (Fri, 16 Oct 2020) |
| EllapsedTime: 109.8 seconds |
| RetCode: 0 |
| Status: OK |
##############################################################################
##############################################################################
###
### Running command:
###
### C:\cygwin\bin\curl.exe -O https://malbec2.bioconductor.org/BBS/3.11/bioc/src/contrib/coRdon_1.6.0.tar.gz && rm -rf coRdon.buildbin-libdir && mkdir coRdon.buildbin-libdir && C:\Users\biocbuild\bbs-3.11-bioc\R\bin\R.exe CMD INSTALL --merge-multiarch --build --library=coRdon.buildbin-libdir coRdon_1.6.0.tar.gz && C:\Users\biocbuild\bbs-3.11-bioc\R\bin\R.exe CMD INSTALL coRdon_1.6.0.zip && rm coRdon_1.6.0.tar.gz coRdon_1.6.0.zip
###
##############################################################################
##############################################################################
% Total % Received % Xferd Average Speed Time Time Time Current
Dload Upload Total Spent Left Speed
0 0 0 0 0 0 0 0 --:--:-- --:--:-- --:--:-- 0
100 320k 100 320k 0 0 3362k 0 --:--:-- --:--:-- --:--:-- 3640k
install for i386
* installing *source* package 'coRdon' ...
** using staged installation
** R
** data
*** moving datasets to lazyload DB
** inst
** byte-compile and prepare package for lazy loading
** help
*** installing help indices
converting help for package 'coRdon'
finding HTML links ... done
HD59 html
HD59_KO html
HD59_PATHWAYS html
LD94 html
LD94_KO html
LD94_PATHWAYS html
RPKOs html
bplot html
coRdon html
codonTable-class html
codonUsage-expressivity html
codonUsage html
crossTab-class html
enrichBarplot html
enrichMAplot html
enrichMatrix html
enrichment html
genCode-class html
intraBplot html
length-codonTable html
length-crossTab html
readSet html
reduceCrossTab html
show-codonTable html
show-crossTab html
subset html
** building package indices
** installing vignettes
** testing if installed package can be loaded from temporary location
** testing if installed package can be loaded from final location
** testing if installed package keeps a record of temporary installation path
install for x64
* installing *source* package 'coRdon' ...
** testing if installed package can be loaded
* MD5 sums
packaged installation of 'coRdon' as coRdon_1.6.0.zip
* DONE (coRdon)
* installing to library 'C:/Users/biocbuild/bbs-3.11-bioc/R/library'
package 'coRdon' successfully unpacked and MD5 sums checked