| Back to Multiple platform build/check report for BioC 3.11 |
|
This page was generated on 2020-10-17 11:54:35 -0400 (Sat, 17 Oct 2020).
| TO THE DEVELOPERS/MAINTAINERS OF THE cn.mops PACKAGE: Please make sure to use the following settings in order to reproduce any error or warning you see on this page. |
| Package 327/1905 | Hostname | OS / Arch | INSTALL | BUILD | CHECK | BUILD BIN | ||||||
| cn.mops 1.34.0 Gundula Povysil
| malbec2 | Linux (Ubuntu 18.04.4 LTS) / x86_64 | OK | OK | [ OK ] | |||||||
| tokay2 | Windows Server 2012 R2 Standard / x64 | OK | OK | OK | OK | |||||||
| machv2 | macOS 10.14.6 Mojave / x86_64 | OK | OK | OK | OK |
| Package: cn.mops |
| Version: 1.34.0 |
| Command: /home/biocbuild/bbs-3.11-bioc/R/bin/R CMD check --install=check:cn.mops.install-out.txt --library=/home/biocbuild/bbs-3.11-bioc/R/library --no-vignettes --timings cn.mops_1.34.0.tar.gz |
| StartedAt: 2020-10-17 00:01:51 -0400 (Sat, 17 Oct 2020) |
| EndedAt: 2020-10-17 00:06:05 -0400 (Sat, 17 Oct 2020) |
| EllapsedTime: 254.9 seconds |
| RetCode: 0 |
| Status: OK |
| CheckDir: cn.mops.Rcheck |
| Warnings: 0 |
##############################################################################
##############################################################################
###
### Running command:
###
### /home/biocbuild/bbs-3.11-bioc/R/bin/R CMD check --install=check:cn.mops.install-out.txt --library=/home/biocbuild/bbs-3.11-bioc/R/library --no-vignettes --timings cn.mops_1.34.0.tar.gz
###
##############################################################################
##############################################################################
* using log directory ‘/home/biocbuild/bbs-3.11-bioc/meat/cn.mops.Rcheck’
* using R version 4.0.3 (2020-10-10)
* using platform: x86_64-pc-linux-gnu (64-bit)
* using session charset: UTF-8
* using option ‘--no-vignettes’
* checking for file ‘cn.mops/DESCRIPTION’ ... OK
* checking extension type ... Package
* this is package ‘cn.mops’ version ‘1.34.0’
* checking package namespace information ... OK
* checking package dependencies ... OK
* checking if this is a source package ... OK
* checking if there is a namespace ... OK
* checking for hidden files and directories ... OK
* checking for portable file names ... OK
* checking for sufficient/correct file permissions ... OK
* checking whether package ‘cn.mops’ can be installed ... OK
* checking installed package size ... OK
* checking package directory ... OK
* checking ‘build’ directory ... OK
* checking DESCRIPTION meta-information ... OK
* checking top-level files ... OK
* checking for left-over files ... OK
* checking index information ... OK
* checking package subdirectories ... OK
* checking R files for non-ASCII characters ... OK
* checking R files for syntax errors ... OK
* checking whether the package can be loaded ... OK
* checking whether the package can be loaded with stated dependencies ... OK
* checking whether the package can be unloaded cleanly ... OK
* checking whether the namespace can be loaded with stated dependencies ... OK
* checking whether the namespace can be unloaded cleanly ... OK
* checking dependencies in R code ... OK
* checking S3 generic/method consistency ... OK
* checking replacement functions ... OK
* checking foreign function calls ... OK
* checking R code for possible problems ... OK
* checking Rd files ... OK
* checking Rd metadata ... OK
* checking Rd cross-references ... OK
* checking for missing documentation entries ... OK
* checking for code/documentation mismatches ... OK
* checking Rd \usage sections ... OK
* checking Rd contents ... OK
* checking for unstated dependencies in examples ... OK
* checking contents of ‘data’ directory ... OK
* checking data for non-ASCII characters ... OK
* checking data for ASCII and uncompressed saves ... OK
* checking line endings in C/C++/Fortran sources/headers ... OK
* checking compiled code ... NOTE
Note: information on .o files is not available
* checking files in ‘vignettes’ ... OK
* checking examples ... OK
Examples with CPU (user + system) or elapsed time > 5s
user system elapsed
referencecn.mops 10.583 0.121 23.727
calcFractionalCopyNumbers-CNVDetectionResult-method 10.450 0.043 10.499
calcFractionalCopyNumbers 9.768 0.008 9.777
cn.mops 9.525 0.209 27.510
haplocn.mops 2.293 0.201 15.407
getReadCountsFromBAM 0.633 0.086 7.546
getSegmentReadCountsFromBAM 0.480 0.101 6.808
* checking for unstated dependencies in vignettes ... OK
* checking package vignettes in ‘inst/doc’ ... OK
* checking running R code from vignettes ... SKIPPED
* checking re-building of vignette outputs ... SKIPPED
* checking PDF version of manual ... OK
* DONE
Status: 1 NOTE
See
‘/home/biocbuild/bbs-3.11-bioc/meat/cn.mops.Rcheck/00check.log’
for details.
cn.mops.Rcheck/00install.out
##############################################################################
##############################################################################
###
### Running command:
###
### /home/biocbuild/bbs-3.11-bioc/R/bin/R CMD INSTALL cn.mops
###
##############################################################################
##############################################################################
* installing to library ‘/home/biocbuild/bbs-3.11-bioc/R/library’
* installing *source* package ‘cn.mops’ ...
** using staged installation
** libs
gcc -I"/home/biocbuild/bbs-3.11-bioc/R/include" -DNDEBUG -I/usr/local/include -fpic -g -O2 -Wall -c R_init_cnmops.c -o R_init_cnmops.o
g++ -std=gnu++11 -I"/home/biocbuild/bbs-3.11-bioc/R/include" -DNDEBUG -I/usr/local/include -fpic -g -O2 -Wall -c cnmops.cpp -o cnmops.o
g++ -std=gnu++11 -I"/home/biocbuild/bbs-3.11-bioc/R/include" -DNDEBUG -I/usr/local/include -fpic -g -O2 -Wall -c segment.cpp -o segment.o
segment.cpp: In function ‘SEXPREC* segment(SEXP, SEXP, SEXP, SEXP, SEXP, SEXP)’:
segment.cpp:59:20: warning: variable ‘globalSd’ set but not used [-Wunused-but-set-variable]
double globalMean,globalSd,diff,M2,globalVariance;
^~~~~~~~
segment.cpp:60:9: warning: variable ‘oldStatistic’ set but not used [-Wunused-but-set-variable]
double oldStatistic, meanLeft,meanRight,varLeft,varRight;
^~~~~~~~~~~~
segment.cpp:61:31: warning: variable ‘maxStatistic’ set but not used [-Wunused-but-set-variable]
double newStatistic,meanDiff,maxStatistic,DOF,a,b,eps1;
^~~~~~~~~~~~
segment.cpp:62:40: warning: variable ‘maxIdx’ set but not used [-Wunused-but-set-variable]
double newPValue, maxPValue,oldPValue,maxIdx;
^~~~~~
In file included from segment.cpp:10:0:
/home/biocbuild/bbs-3.11-bioc/R/include/Rmath.h:212:15: warning: unused variable ‘Rf_beta’ [-Wunused-variable]
#define beta Rf_beta
^
segment.cpp:64:9: note: in expansion of macro ‘beta’
double beta,nn;
^~~~
g++ -std=gnu++11 -shared -L/home/biocbuild/bbs-3.11-bioc/R/lib -L/usr/local/lib -o cn.mops.so R_init_cnmops.o cnmops.o segment.o -L/home/biocbuild/bbs-3.11-bioc/R/lib -lR
installing to /home/biocbuild/bbs-3.11-bioc/R/library/00LOCK-cn.mops/00new/cn.mops/libs
** R
** data
** inst
** byte-compile and prepare package for lazy loading
** help
*** installing help indices
** building package indices
** installing vignettes
** testing if installed package can be loaded from temporary location
** checking absolute paths in shared objects and dynamic libraries
** testing if installed package can be loaded from final location
** testing if installed package keeps a record of temporary installation path
* DONE (cn.mops)
cn.mops.Rcheck/cn.mops-Ex.timings
| name | user | system | elapsed | |
| CNVDetectionResult | 0.002 | 0.000 | 0.002 | |
| calcFractionalCopyNumbers-CNVDetectionResult-method | 10.450 | 0.043 | 10.499 | |
| calcFractionalCopyNumbers | 9.768 | 0.008 | 9.777 | |
| calcIntegerCopyNumbers-CNVDetectionResult-method | 0.796 | 0.008 | 0.804 | |
| calcIntegerCopyNumbers | 0.714 | 0.000 | 0.715 | |
| cn.mops | 9.525 | 0.209 | 27.510 | |
| cnvr-CNVDetectionResult-method | 0.360 | 0.028 | 0.388 | |
| cnvr | 0.371 | 0.000 | 0.376 | |
| cnvs-CNVDetectionResult-method | 0.376 | 0.000 | 0.377 | |
| cnvs | 0.368 | 0.004 | 0.371 | |
| exomecn.mops | 4.541 | 0.008 | 4.551 | |
| getReadCountsFromBAM | 0.633 | 0.086 | 7.546 | |
| getSegmentReadCountsFromBAM | 0.480 | 0.101 | 6.808 | |
| gr-CNVDetectionResult-method | 0.369 | 0.044 | 0.414 | |
| gr | 0.389 | 0.020 | 0.408 | |
| haplocn.mops | 2.293 | 0.201 | 15.407 | |
| individualCall-CNVDetectionResult-method | 0.248 | 0.004 | 0.252 | |
| individualCall | 0.218 | 0.004 | 0.222 | |
| iniCall-CNVDetectionResult-method | 0.225 | 0.000 | 0.225 | |
| iniCall | 0.230 | 0.004 | 0.234 | |
| integerCopyNumber-CNVDetectionResult-method | 0.226 | 0.000 | 0.227 | |
| integerCopyNumber | 0.23 | 0.00 | 0.23 | |
| localAssessments-CNVDetectionResult-method | 0.220 | 0.004 | 0.224 | |
| localAssessments | 0.231 | 0.004 | 0.235 | |
| makeRobustCNVR | 0.428 | 0.000 | 0.428 | |
| normalizeChromosomes | 0.277 | 0.012 | 0.288 | |
| normalizeGenome | 0.291 | 0.008 | 0.300 | |
| normalizedData-CNVDetectionResult-method | 0.374 | 0.004 | 0.378 | |
| normalizedData | 0.387 | 0.000 | 0.387 | |
| params-CNVDetectionResult-method | 0.357 | 0.000 | 0.358 | |
| params | 0.376 | 0.000 | 0.375 | |
| posteriorProbs-CNVDetectionResult-method | 0.352 | 0.000 | 0.352 | |
| posteriorProbs | 0.36 | 0.00 | 0.36 | |
| referencecn.mops | 10.583 | 0.121 | 23.727 | |
| sampleNames-CNVDetectionResult-method | 0.387 | 0.012 | 0.399 | |
| sampleNames | 0.359 | 0.020 | 0.379 | |
| segment | 0.033 | 0.000 | 0.034 | |
| segmentation-CNVDetectionResult-method | 0.374 | 0.008 | 0.381 | |
| segmentation | 0.353 | 0.004 | 0.358 | |
| segplot-CNVDetectionResult-method | 1.633 | 0.008 | 1.640 | |
| segplot | 1.239 | 0.016 | 1.255 | |
| singlecn.mops | 0.817 | 0.012 | 0.828 | |