| Back to Multiple platform build/check report for BioC 3.11 | 
  | 
This page was generated on 2020-10-17 11:56:17 -0400 (Sat, 17 Oct 2020).
| TO THE DEVELOPERS/MAINTAINERS OF THE cicero PACKAGE: Please make sure to use the following settings in order to reproduce any error or warning you see on this page. | 
| Package 299/1905 | Hostname | OS / Arch | INSTALL | BUILD | CHECK | BUILD BIN | ||||||
| cicero 1.6.2 Hannah Pliner 
  | malbec2 | Linux (Ubuntu 18.04.4 LTS) / x86_64 | OK | OK | OK | |||||||
| tokay2 | Windows Server 2012 R2 Standard / x64 | OK | OK | [ OK ] | OK | |||||||
| machv2 | macOS 10.14.6 Mojave / x86_64 | OK | OK | OK | OK | 
| Package: cicero | 
| Version: 1.6.2 | 
| Command: C:\Users\biocbuild\bbs-3.11-bioc\R\bin\R.exe CMD check --force-multiarch --install=check:cicero.install-out.txt --library=C:\Users\biocbuild\bbs-3.11-bioc\R\library --no-vignettes --timings cicero_1.6.2.tar.gz | 
| StartedAt: 2020-10-17 02:36:34 -0400 (Sat, 17 Oct 2020) | 
| EndedAt: 2020-10-17 02:52:24 -0400 (Sat, 17 Oct 2020) | 
| EllapsedTime: 949.7 seconds | 
| RetCode: 0 | 
| Status: OK | 
| CheckDir: cicero.Rcheck | 
| Warnings: 0 | 
##############################################################################
##############################################################################
###
### Running command:
###
###   C:\Users\biocbuild\bbs-3.11-bioc\R\bin\R.exe CMD check --force-multiarch --install=check:cicero.install-out.txt --library=C:\Users\biocbuild\bbs-3.11-bioc\R\library --no-vignettes --timings cicero_1.6.2.tar.gz
###
##############################################################################
##############################################################################
* using log directory 'C:/Users/biocbuild/bbs-3.11-bioc/meat/cicero.Rcheck'
* using R version 4.0.3 (2020-10-10)
* using platform: x86_64-w64-mingw32 (64-bit)
* using session charset: ISO8859-1
* using option '--no-vignettes'
* checking for file 'cicero/DESCRIPTION' ... OK
* checking extension type ... Package
* this is package 'cicero' version '1.6.2'
* package encoding: UTF-8
* checking package namespace information ... OK
* checking package dependencies ... OK
* checking if this is a source package ... OK
* checking if there is a namespace ... OK
* checking for hidden files and directories ... OK
* checking for portable file names ... OK
* checking whether package 'cicero' can be installed ... OK
* checking installed package size ... OK
* checking package directory ... OK
* checking 'build' directory ... OK
* checking DESCRIPTION meta-information ... OK
* checking top-level files ... OK
* checking for left-over files ... OK
* checking index information ... OK
* checking package subdirectories ... OK
* checking R files for non-ASCII characters ... OK
* checking R files for syntax errors ... OK
* loading checks for arch 'i386'
** checking whether the package can be loaded ... OK
** checking whether the package can be loaded with stated dependencies ... OK
** checking whether the package can be unloaded cleanly ... OK
** checking whether the namespace can be loaded with stated dependencies ... OK
** checking whether the namespace can be unloaded cleanly ... OK
* loading checks for arch 'x64'
** checking whether the package can be loaded ... OK
** checking whether the package can be loaded with stated dependencies ... OK
** checking whether the package can be unloaded cleanly ... OK
** checking whether the namespace can be loaded with stated dependencies ... OK
** checking whether the namespace can be unloaded cleanly ... OK
* checking dependencies in R code ... OK
* checking S3 generic/method consistency ... OK
* checking replacement functions ... OK
* checking foreign function calls ... OK
* checking R code for possible problems ... NOTE
aggregate_nearby_peaks: no visible binding for global variable 'val'
annotate_cds_by_site: no visible binding for global variable 'row_name'
assemble_connections : <anonymous>: no visible global function
  definition for 'patterns'
assemble_connections: no visible binding for global variable 'value'
find_overlapping_ccans: no visible binding for global variable 'CCAN'
generate_windows: no visible binding for global variable 'V1'
plot_accessibility_in_pseudotime: no visible binding for global
  variable 'f_id'
plot_accessibility_in_pseudotime: no visible binding for global
  variable 'Var1'
Undefined global functions or variables:
  CCAN V1 Var1 f_id patterns row_name val value
* checking Rd files ... OK
* checking Rd metadata ... OK
* checking Rd cross-references ... OK
* checking for missing documentation entries ... OK
* checking for code/documentation mismatches ... OK
* checking Rd \usage sections ... OK
* checking Rd contents ... OK
* checking for unstated dependencies in examples ... OK
* checking contents of 'data' directory ... OK
* checking data for non-ASCII characters ... OK
* checking data for ASCII and uncompressed saves ... OK
* checking files in 'vignettes' ... OK
* checking examples ...
** running examples for arch 'i386' ... OK
Examples with CPU (user + system) or elapsed time > 5s
                            user system elapsed
estimate_distance_parameter 5.18    0.3    5.48
** running examples for arch 'x64' ... OK
Examples with CPU (user + system) or elapsed time > 5s
                            user system elapsed
assemble_connections        6.53   0.16    6.71
estimate_distance_parameter 6.24   0.10    6.33
build_gene_activity_matrix  5.69   0.15    5.79
plot_connections            5.03   0.00    5.03
* checking for unstated dependencies in 'tests' ... OK
* checking tests ...
** running tests for arch 'i386' ...
  Running 'testthat.R'
 OK
** running tests for arch 'x64' ...
  Running 'testthat.R'
 OK
* checking for unstated dependencies in vignettes ... OK
* checking package vignettes in 'inst/doc' ... OK
* checking running R code from vignettes ... SKIPPED
* checking re-building of vignette outputs ... SKIPPED
* checking PDF version of manual ... OK
* DONE
Status: 1 NOTE
See
  'C:/Users/biocbuild/bbs-3.11-bioc/meat/cicero.Rcheck/00check.log'
for details.
cicero.Rcheck/00install.out
##############################################################################
##############################################################################
###
### Running command:
###
###   C:\cygwin\bin\curl.exe -O https://malbec2.bioconductor.org/BBS/3.11/bioc/src/contrib/cicero_1.6.2.tar.gz && rm -rf cicero.buildbin-libdir && mkdir cicero.buildbin-libdir && C:\Users\biocbuild\bbs-3.11-bioc\R\bin\R.exe CMD INSTALL --merge-multiarch --build --library=cicero.buildbin-libdir cicero_1.6.2.tar.gz && C:\Users\biocbuild\bbs-3.11-bioc\R\bin\R.exe CMD INSTALL cicero_1.6.2.zip && rm cicero_1.6.2.tar.gz cicero_1.6.2.zip
###
##############################################################################
##############################################################################
  % Total    % Received % Xferd  Average Speed   Time    Time     Time  Current
                                 Dload  Upload   Total   Spent    Left  Speed
  0     0    0     0    0     0      0      0 --:--:-- --:--:-- --:--:--     0
  0  723k    0     0    0     0      0      0 --:--:-- --:--:-- --:--:--     0
100  723k  100  723k    0     0  9958k      0 --:--:-- --:--:-- --:--:-- 10.5M
install for i386
* installing *source* package 'cicero' ...
** using staged installation
** R
** data
*** moving datasets to lazyload DB
** inst
** byte-compile and prepare package for lazy loading
** help
*** installing help indices
  converting help for package 'cicero'
    finding HTML links ... done
    aggregate_by_cell_bin                   html  
    aggregate_nearby_peaks                  html  
    annotate_cds_by_site                    html  
    assemble_connections                    html  
    build_gene_activity_matrix              html  
    cell_data                               html  
    cicero-package                          html  
    cicero_data                             html  
    compare_connections                     html  
    df_for_coords                           html  
    estimate_distance_parameter             html  
    find_overlapping_ccans                  html  
    find_overlapping_coordinates            html  
    gene_annotation_sample                  html  
    generate_ccans                          html  
    generate_cicero_models                  html  
    human.hg19.genome                       html  
    make_atac_cds                           html  
    make_cicero_cds                         html  
    make_sparse_matrix                      html  
    normalize_gene_activities               html  
    plot_accessibility_in_pseudotime        html  
    plot_connections                        html  
    ranges_for_coords                       html  
    run_cicero                              html  
** building package indices
** installing vignettes
** testing if installed package can be loaded from temporary location
** testing if installed package can be loaded from final location
** testing if installed package keeps a record of temporary installation path
install for x64
* installing *source* package 'cicero' ...
** testing if installed package can be loaded
* MD5 sums
packaged installation of 'cicero' as cicero_1.6.2.zip
* DONE (cicero)
* installing to library 'C:/Users/biocbuild/bbs-3.11-bioc/R/library'
package 'cicero' successfully unpacked and MD5 sums checked
| 
 cicero.Rcheck/tests_i386/testthat.Rout 
R version 4.0.3 (2020-10-10) -- "Bunny-Wunnies Freak Out"
Copyright (C) 2020 The R Foundation for Statistical Computing
Platform: i386-w64-mingw32/i386 (32-bit)
R is free software and comes with ABSOLUTELY NO WARRANTY.
You are welcome to redistribute it under certain conditions.
Type 'license()' or 'licence()' for distribution details.
R is a collaborative project with many contributors.
Type 'contributors()' for more information and
'citation()' on how to cite R or R packages in publications.
Type 'demo()' for some demos, 'help()' for on-line help, or
'help.start()' for an HTML browser interface to help.
Type 'q()' to quit R.
> library(testthat)
> library(cicero)
Loading required package: monocle
Loading required package: Matrix
Loading required package: Biobase
Loading required package: BiocGenerics
Loading required package: parallel
Attaching package: 'BiocGenerics'
The following objects are masked from 'package:parallel':
    clusterApply, clusterApplyLB, clusterCall, clusterEvalQ,
    clusterExport, clusterMap, parApply, parCapply, parLapply,
    parLapplyLB, parRapply, parSapply, parSapplyLB
The following object is masked from 'package:Matrix':
    which
The following objects are masked from 'package:stats':
    IQR, mad, sd, var, xtabs
The following objects are masked from 'package:base':
    Filter, Find, Map, Position, Reduce, anyDuplicated, append,
    as.data.frame, basename, cbind, colnames, dirname, do.call,
    duplicated, eval, evalq, get, grep, grepl, intersect, is.unsorted,
    lapply, mapply, match, mget, order, paste, pmax, pmax.int, pmin,
    pmin.int, rank, rbind, rownames, sapply, setdiff, sort, table,
    tapply, union, unique, unsplit, which, which.max, which.min
Welcome to Bioconductor
    Vignettes contain introductory material; view with
    'browseVignettes()'. To cite Bioconductor, see
    'citation("Biobase")', and for packages 'citation("pkgname")'.
Loading required package: ggplot2
Loading required package: VGAM
Loading required package: stats4
Loading required package: splines
Loading required package: DDRTree
Loading required package: irlba
Loading required package: Gviz
Loading required package: S4Vectors
Attaching package: 'S4Vectors'
The following object is masked from 'package:Matrix':
    expand
The following object is masked from 'package:base':
    expand.grid
Loading required package: IRanges
Attaching package: 'IRanges'
The following object is masked from 'package:grDevices':
    windows
Loading required package: GenomicRanges
Loading required package: GenomeInfoDb
Loading required package: grid
> 
> test_check("cicero")
[1] "Successful cicero models:  283"
[1] "Other models: "
Zero or one element in range 
                          30 
[1] "Models with errors:  0"
[1] "Coaccessibility cutoff used: 0.25"
[1] "Generating fData ranges"
[1] "Generating feature data ranges"
[1] "Determining overlaps"
[1] "Assigning labels"
[1] "Merging to fData table"
[1] "Generating fData ranges"
[1] "Generating feature data ranges"
[1] "Determining overlaps"
[1] "Assigning labels"
[1] "Merging to fData table"
[1] "Generating fData ranges"
[1] "Reading data file"
[1] "Generating feature data ranges"
[1] "Determining overlaps"
[1] "Assigning labels"
[1] "Merging to fData table"
== testthat results  ===========================================================
[ OK: 206 | SKIPPED: 21 | WARNINGS: 9 | FAILED: 0 ]
> 
> proc.time()
   user  system elapsed 
 142.01    5.81  150.03 
 | 
 cicero.Rcheck/tests_x64/testthat.Rout 
R version 4.0.3 (2020-10-10) -- "Bunny-Wunnies Freak Out"
Copyright (C) 2020 The R Foundation for Statistical Computing
Platform: x86_64-w64-mingw32/x64 (64-bit)
R is free software and comes with ABSOLUTELY NO WARRANTY.
You are welcome to redistribute it under certain conditions.
Type 'license()' or 'licence()' for distribution details.
R is a collaborative project with many contributors.
Type 'contributors()' for more information and
'citation()' on how to cite R or R packages in publications.
Type 'demo()' for some demos, 'help()' for on-line help, or
'help.start()' for an HTML browser interface to help.
Type 'q()' to quit R.
> library(testthat)
> library(cicero)
Loading required package: monocle
Loading required package: Matrix
Loading required package: Biobase
Loading required package: BiocGenerics
Loading required package: parallel
Attaching package: 'BiocGenerics'
The following objects are masked from 'package:parallel':
    clusterApply, clusterApplyLB, clusterCall, clusterEvalQ,
    clusterExport, clusterMap, parApply, parCapply, parLapply,
    parLapplyLB, parRapply, parSapply, parSapplyLB
The following object is masked from 'package:Matrix':
    which
The following objects are masked from 'package:stats':
    IQR, mad, sd, var, xtabs
The following objects are masked from 'package:base':
    Filter, Find, Map, Position, Reduce, anyDuplicated, append,
    as.data.frame, basename, cbind, colnames, dirname, do.call,
    duplicated, eval, evalq, get, grep, grepl, intersect, is.unsorted,
    lapply, mapply, match, mget, order, paste, pmax, pmax.int, pmin,
    pmin.int, rank, rbind, rownames, sapply, setdiff, sort, table,
    tapply, union, unique, unsplit, which, which.max, which.min
Welcome to Bioconductor
    Vignettes contain introductory material; view with
    'browseVignettes()'. To cite Bioconductor, see
    'citation("Biobase")', and for packages 'citation("pkgname")'.
Loading required package: ggplot2
Loading required package: VGAM
Loading required package: stats4
Loading required package: splines
Loading required package: DDRTree
Loading required package: irlba
Loading required package: Gviz
Loading required package: S4Vectors
Attaching package: 'S4Vectors'
The following object is masked from 'package:Matrix':
    expand
The following object is masked from 'package:base':
    expand.grid
Loading required package: IRanges
Attaching package: 'IRanges'
The following object is masked from 'package:grDevices':
    windows
Loading required package: GenomicRanges
Loading required package: GenomeInfoDb
Loading required package: grid
> 
> test_check("cicero")
[1] "Successful cicero models:  283"
[1] "Other models: "
Zero or one element in range 
                          30 
[1] "Models with errors:  0"
[1] "Coaccessibility cutoff used: 0.25"
[1] "Generating fData ranges"
[1] "Generating feature data ranges"
[1] "Determining overlaps"
[1] "Assigning labels"
[1] "Merging to fData table"
[1] "Generating fData ranges"
[1] "Generating feature data ranges"
[1] "Determining overlaps"
[1] "Assigning labels"
[1] "Merging to fData table"
[1] "Generating fData ranges"
[1] "Reading data file"
[1] "Generating feature data ranges"
[1] "Determining overlaps"
[1] "Assigning labels"
[1] "Merging to fData table"
== testthat results  ===========================================================
[ OK: 206 | SKIPPED: 21 | WARNINGS: 9 | FAILED: 0 ]
> 
> proc.time()
   user  system elapsed 
 141.98    2.28  146.85 
 | 
| 
 cicero.Rcheck/examples_i386/cicero-Ex.timings 
  | 
 cicero.Rcheck/examples_x64/cicero-Ex.timings 
  |