| Back to Multiple platform build/check report for BioC 3.11 |
|
This page was generated on 2020-10-17 11:56:14 -0400 (Sat, 17 Oct 2020).
| TO THE DEVELOPERS/MAINTAINERS OF THE chipenrich PACKAGE: Please make sure to use the following settings in order to reproduce any error or warning you see on this page. |
| Package 280/1905 | Hostname | OS / Arch | INSTALL | BUILD | CHECK | BUILD BIN | ||||||
| chipenrich 2.12.0 Raymond G. Cavalcante
| malbec2 | Linux (Ubuntu 18.04.4 LTS) / x86_64 | OK | OK | OK | |||||||
| tokay2 | Windows Server 2012 R2 Standard / x64 | [ OK ] | OK | OK | OK | |||||||
| machv2 | macOS 10.14.6 Mojave / x86_64 | OK | OK | OK | OK |
| Package: chipenrich |
| Version: 2.12.0 |
| Command: C:\cygwin\bin\curl.exe -O https://malbec2.bioconductor.org/BBS/3.11/bioc/src/contrib/chipenrich_2.12.0.tar.gz && rm -rf chipenrich.buildbin-libdir && mkdir chipenrich.buildbin-libdir && C:\Users\biocbuild\bbs-3.11-bioc\R\bin\R.exe CMD INSTALL --merge-multiarch --build --library=chipenrich.buildbin-libdir chipenrich_2.12.0.tar.gz && C:\Users\biocbuild\bbs-3.11-bioc\R\bin\R.exe CMD INSTALL chipenrich_2.12.0.zip && rm chipenrich_2.12.0.tar.gz chipenrich_2.12.0.zip |
| StartedAt: 2020-10-16 18:40:47 -0400 (Fri, 16 Oct 2020) |
| EndedAt: 2020-10-16 18:42:11 -0400 (Fri, 16 Oct 2020) |
| EllapsedTime: 83.5 seconds |
| RetCode: 0 |
| Status: OK |
##############################################################################
##############################################################################
###
### Running command:
###
### C:\cygwin\bin\curl.exe -O https://malbec2.bioconductor.org/BBS/3.11/bioc/src/contrib/chipenrich_2.12.0.tar.gz && rm -rf chipenrich.buildbin-libdir && mkdir chipenrich.buildbin-libdir && C:\Users\biocbuild\bbs-3.11-bioc\R\bin\R.exe CMD INSTALL --merge-multiarch --build --library=chipenrich.buildbin-libdir chipenrich_2.12.0.tar.gz && C:\Users\biocbuild\bbs-3.11-bioc\R\bin\R.exe CMD INSTALL chipenrich_2.12.0.zip && rm chipenrich_2.12.0.tar.gz chipenrich_2.12.0.zip
###
##############################################################################
##############################################################################
% Total % Received % Xferd Average Speed Time Time Time Current
Dload Upload Total Spent Left Speed
0 0 0 0 0 0 0 0 --:--:-- --:--:-- --:--:-- 0
100 114k 100 114k 0 0 1818k 0 --:--:-- --:--:-- --:--:-- 2041k
install for i386
* installing *source* package 'chipenrich' ...
** using staged installation
** R
** inst
** byte-compile and prepare package for lazy loading
** help
*** installing help indices
converting help for package 'chipenrich'
finding HTML links ... done
assign_peak_segments html
assign_peaks html
broadenrich html
calc_peak_gene_overlap html
chipenrich html
chipenrich_package html
filter_genesets html
genome_to_organism html
genome_to_orgdb html
get_test_method html
hybridenrich html
load_peaks html
num_peaks_per_gene html
peaks2genes html
plot_chipenrich_spline html
plot_dist_to_tss html
plot_gene_coverage html
plot_polyenrich_spline html
polyenrich html
post_process_enrichments html
postprocess_peak_grs html
proxReg html
read_bed html
read_geneset html
read_ldef html
read_mappa html
recode_peaks html
reset_ncores_for_windows html
setup_genesets html
setup_locusdef html
setup_mappa html
supported_genesets html
supported_genomes html
supported_locusdefs html
supported_methods html
supported_read_lengths html
** building package indices
** installing vignettes
** testing if installed package can be loaded from temporary location
** testing if installed package can be loaded from final location
** testing if installed package keeps a record of temporary installation path
install for x64
* installing *source* package 'chipenrich' ...
** testing if installed package can be loaded
* MD5 sums
packaged installation of 'chipenrich' as chipenrich_2.12.0.zip
* DONE (chipenrich)
* installing to library 'C:/Users/biocbuild/bbs-3.11-bioc/R/library'
package 'chipenrich' successfully unpacked and MD5 sums checked