| Back to Multiple platform build/check report for BioC 3.11 | 
  | 
This page was generated on 2020-10-17 11:54:32 -0400 (Sat, 17 Oct 2020).
| TO THE DEVELOPERS/MAINTAINERS OF THE chimeraviz PACKAGE: Please make sure to use the following settings in order to reproduce any error or warning you see on this page. | 
| Package 277/1905 | Hostname | OS / Arch | INSTALL | BUILD | CHECK | BUILD BIN | ||||||
| chimeraviz 1.14.0 Stian Lågstad 
  | malbec2 | Linux (Ubuntu 18.04.4 LTS) / x86_64 | OK | OK | [ OK ] | |||||||
| tokay2 | Windows Server 2012 R2 Standard / x64 | OK | OK | OK | OK | |||||||
| machv2 | macOS 10.14.6 Mojave / x86_64 | OK | ERROR | skipped | skipped | 
| Package: chimeraviz | 
| Version: 1.14.0 | 
| Command: /home/biocbuild/bbs-3.11-bioc/R/bin/R CMD check --install=check:chimeraviz.install-out.txt --library=/home/biocbuild/bbs-3.11-bioc/R/library --no-vignettes --timings chimeraviz_1.14.0.tar.gz | 
| StartedAt: 2020-10-16 23:45:29 -0400 (Fri, 16 Oct 2020) | 
| EndedAt: 2020-10-16 23:58:07 -0400 (Fri, 16 Oct 2020) | 
| EllapsedTime: 758.8 seconds | 
| RetCode: 0 | 
| Status: OK | 
| CheckDir: chimeraviz.Rcheck | 
| Warnings: 0 | 
##############################################################################
##############################################################################
###
### Running command:
###
###   /home/biocbuild/bbs-3.11-bioc/R/bin/R CMD check --install=check:chimeraviz.install-out.txt --library=/home/biocbuild/bbs-3.11-bioc/R/library --no-vignettes --timings chimeraviz_1.14.0.tar.gz
###
##############################################################################
##############################################################################
* using log directory ‘/home/biocbuild/bbs-3.11-bioc/meat/chimeraviz.Rcheck’
* using R version 4.0.3 (2020-10-10)
* using platform: x86_64-pc-linux-gnu (64-bit)
* using session charset: UTF-8
* using option ‘--no-vignettes’
* checking for file ‘chimeraviz/DESCRIPTION’ ... OK
* checking extension type ... Package
* this is package ‘chimeraviz’ version ‘1.14.0’
* package encoding: UTF-8
* checking package namespace information ... OK
* checking package dependencies ... NOTE
Depends: includes the non-default packages:
  'Biostrings', 'GenomicRanges', 'IRanges', 'Gviz', 'S4Vectors',
  'ensembldb', 'AnnotationFilter', 'data.table'
Adding so many packages to the search path is excessive and importing
selectively is preferable.
* checking if this is a source package ... OK
* checking if there is a namespace ... OK
* checking for hidden files and directories ... OK
* checking for portable file names ... OK
* checking for sufficient/correct file permissions ... OK
* checking whether package ‘chimeraviz’ can be installed ... OK
* checking installed package size ... OK
* checking package directory ... OK
* checking ‘build’ directory ... OK
* checking DESCRIPTION meta-information ... OK
* checking top-level files ... OK
* checking for left-over files ... OK
* checking index information ... OK
* checking package subdirectories ... OK
* checking R files for non-ASCII characters ... OK
* checking R files for syntax errors ... OK
* checking whether the package can be loaded ... OK
* checking whether the package can be loaded with stated dependencies ... OK
* checking whether the package can be unloaded cleanly ... OK
* checking whether the namespace can be loaded with stated dependencies ... OK
* checking whether the namespace can be unloaded cleanly ... OK
* checking dependencies in R code ... NOTE
Namespace in Imports field not imported from: 'magick'
  All declared Imports should be used.
* checking S3 generic/method consistency ... OK
* checking replacement functions ... OK
* checking foreign function calls ... OK
* checking R code for possible problems ... NOTE
plot_fusion_transcript_with_protein_domain: no visible binding for
  global variable 'protein_domain_location'
Undefined global functions or variables:
  protein_domain_location
* checking Rd files ... OK
* checking Rd metadata ... OK
* checking Rd cross-references ... OK
* checking for missing documentation entries ... OK
* checking for code/documentation mismatches ... OK
* checking Rd \usage sections ... OK
* checking Rd contents ... OK
* checking for unstated dependencies in examples ... OK
* checking files in ‘vignettes’ ... OK
* checking examples ... OK
Examples with CPU (user + system) or elapsed time > 5s
                                             user system elapsed
plot_fusion                                34.547  0.524  35.165
plot_transcripts                           25.405  0.408  25.813
plot_fusion_transcript                     17.225  0.000  17.225
plot_fusion_transcripts_graph              12.097  0.020  12.117
get_transcripts_ensembl_db                  9.674  0.204   9.878
plot_fusion_transcript_with_protein_domain  9.801  0.004   9.805
select_transcript                           7.684  0.008   7.693
* checking for unstated dependencies in ‘tests’ ... OK
* checking tests ...
  Running ‘testthat.R’
 OK
* checking for unstated dependencies in vignettes ... OK
* checking package vignettes in ‘inst/doc’ ... OK
* checking running R code from vignettes ... SKIPPED
* checking re-building of vignette outputs ... SKIPPED
* checking PDF version of manual ... OK
* DONE
Status: 3 NOTEs
See
  ‘/home/biocbuild/bbs-3.11-bioc/meat/chimeraviz.Rcheck/00check.log’
for details.
chimeraviz.Rcheck/00install.out
############################################################################## ############################################################################## ### ### Running command: ### ### /home/biocbuild/bbs-3.11-bioc/R/bin/R CMD INSTALL chimeraviz ### ############################################################################## ############################################################################## * installing to library ‘/home/biocbuild/bbs-3.11-bioc/R/library’ * installing *source* package ‘chimeraviz’ ... ** using staged installation ** R ** inst ** byte-compile and prepare package for lazy loading ** help *** installing help indices ** building package indices ** installing vignettes ** testing if installed package can be loaded from temporary location ** testing if installed package can be loaded from final location ** testing if installed package keeps a record of temporary installation path * DONE (chimeraviz)
chimeraviz.Rcheck/tests/testthat.Rout
R version 4.0.3 (2020-10-10) -- "Bunny-Wunnies Freak Out"
Copyright (C) 2020 The R Foundation for Statistical Computing
Platform: x86_64-pc-linux-gnu (64-bit)
R is free software and comes with ABSOLUTELY NO WARRANTY.
You are welcome to redistribute it under certain conditions.
Type 'license()' or 'licence()' for distribution details.
R is a collaborative project with many contributors.
Type 'contributors()' for more information and
'citation()' on how to cite R or R packages in publications.
Type 'demo()' for some demos, 'help()' for on-line help, or
'help.start()' for an HTML browser interface to help.
Type 'q()' to quit R.
> library(testthat)
> library(chimeraviz)
Loading required package: Biostrings
Loading required package: BiocGenerics
Loading required package: parallel
Attaching package: 'BiocGenerics'
The following objects are masked from 'package:parallel':
    clusterApply, clusterApplyLB, clusterCall, clusterEvalQ,
    clusterExport, clusterMap, parApply, parCapply, parLapply,
    parLapplyLB, parRapply, parSapply, parSapplyLB
The following objects are masked from 'package:stats':
    IQR, mad, sd, var, xtabs
The following objects are masked from 'package:base':
    Filter, Find, Map, Position, Reduce, anyDuplicated, append,
    as.data.frame, basename, cbind, colnames, dirname, do.call,
    duplicated, eval, evalq, get, grep, grepl, intersect, is.unsorted,
    lapply, mapply, match, mget, order, paste, pmax, pmax.int, pmin,
    pmin.int, rank, rbind, rownames, sapply, setdiff, sort, table,
    tapply, union, unique, unsplit, which, which.max, which.min
Loading required package: S4Vectors
Loading required package: stats4
Attaching package: 'S4Vectors'
The following object is masked from 'package:base':
    expand.grid
Loading required package: IRanges
Loading required package: XVector
Attaching package: 'Biostrings'
The following object is masked from 'package:base':
    strsplit
Loading required package: GenomicRanges
Loading required package: GenomeInfoDb
Loading required package: Gviz
Loading required package: grid
Loading required package: ensembldb
Loading required package: GenomicFeatures
Loading required package: AnnotationDbi
Loading required package: Biobase
Welcome to Bioconductor
    Vignettes contain introductory material; view with
    'browseVignettes()'. To cite Bioconductor, see
    'citation("Biobase")', and for packages 'citation("pkgname")'.
Loading required package: AnnotationFilter
Attaching package: 'AnnotationFilter'
The following object is masked from 'package:Gviz':
    feature
The following object is masked from 'package:testthat':
    not
Attaching package: 'ensembldb'
The following object is masked from 'package:stats':
    filter
Loading required package: data.table
Attaching package: 'data.table'
The following object is masked from 'package:GenomicRanges':
    shift
The following object is masked from 'package:IRanges':
    shift
The following objects are masked from 'package:S4Vectors':
    first, second
> 
> test_check("chimeraviz")
══ testthat results  ═══════════════════════════════════════════════════════════
[ OK: 224 | SKIPPED: 0 | WARNINGS: 0 | FAILED: 0 ]
Warning message:
call dbDisconnect() when finished working with a connection 
> 
> proc.time()
   user  system elapsed 
208.780   3.353 214.892 
chimeraviz.Rcheck/chimeraviz-Ex.timings
| name | user | system | elapsed | |
| add_fusion_reads_alignment | 0.562 | 0.008 | 0.578 | |
| create_fusion_report | 2.266 | 0.267 | 2.599 | |
| decide_transcript_category | 1.480 | 0.164 | 1.654 | |
| down_shift | 0.100 | 0.000 | 0.099 | |
| downstream_partner_gene | 0.109 | 0.000 | 0.110 | |
| fetch_reads_from_fastq | 0.001 | 0.000 | 0.000 | |
| fusion_spanning_reads_count | 0.057 | 0.000 | 0.057 | |
| fusion_split_reads_count | 0.057 | 0.000 | 0.057 | |
| fusion_to_data_frame | 0.058 | 0.000 | 0.057 | |
| get_ensembl_ids | 0.584 | 0.016 | 0.768 | |
| get_fusion_by_chromosome | 0.056 | 0.000 | 0.056 | |
| get_fusion_by_gene_name | 0.053 | 0.004 | 0.057 | |
| get_fusion_by_id | 0.062 | 0.000 | 0.063 | |
| get_transcripts_ensembl_db | 9.674 | 0.204 | 9.878 | |
| import_aeron | 1.077 | 0.004 | 1.355 | |
| import_chimpipe | 0.132 | 0.004 | 0.137 | |
| import_defuse | 0.101 | 0.000 | 0.101 | |
| import_ericscript | 0.137 | 0.000 | 0.144 | |
| import_fusioncatcher | 0.185 | 0.000 | 0.185 | |
| import_fusionmap | 0.173 | 0.000 | 0.180 | |
| import_infusion | 0.177 | 0.000 | 0.177 | |
| import_jaffa | 0.189 | 0.000 | 0.196 | |
| import_oncofuse | 0.187 | 0.000 | 0.187 | |
| import_prada | 0.18 | 0.00 | 0.18 | |
| import_soapfuse | 0.167 | 0.000 | 0.167 | |
| import_squid | 0.154 | 0.000 | 0.154 | |
| import_starfusion | 0.161 | 0.000 | 0.161 | |
| partner_gene_ensembl_id | 0.141 | 0.004 | 0.146 | |
| partner_gene_junction_sequence | 0.065 | 0.000 | 0.064 | |
| plot_circle | 1.038 | 0.012 | 1.051 | |
| plot_fusion | 34.547 | 0.524 | 35.165 | |
| plot_fusion_reads | 2.548 | 0.020 | 2.698 | |
| plot_fusion_transcript | 17.225 | 0.000 | 17.225 | |
| plot_fusion_transcript_with_protein_domain | 9.801 | 0.004 | 9.805 | |
| plot_fusion_transcripts_graph | 12.097 | 0.020 | 12.117 | |
| plot_transcripts | 25.405 | 0.408 | 25.813 | |
| select_transcript | 7.684 | 0.008 | 7.693 | |
| split_on_utr_and_add_feature | 0.627 | 0.000 | 0.627 | |
| upstream_partner_gene | 0.122 | 0.000 | 0.122 | |
| write_fusion_reference | 0.07 | 0.00 | 0.07 | |