| Back to Multiple platform build/check report for BioC 3.11 |
|
This page was generated on 2020-10-17 11:56:12 -0400 (Sat, 17 Oct 2020).
| TO THE DEVELOPERS/MAINTAINERS OF THE cBioPortalData PACKAGE: Please make sure to use the following settings in order to reproduce any error or warning you see on this page. |
| Package 239/1905 | Hostname | OS / Arch | INSTALL | BUILD | CHECK | BUILD BIN | ||||||
| cBioPortalData 2.0.10 Marcel Ramos
| malbec2 | Linux (Ubuntu 18.04.4 LTS) / x86_64 | OK | OK | OK | |||||||
| tokay2 | Windows Server 2012 R2 Standard / x64 | [ OK ] | OK | OK | OK | |||||||
| machv2 | macOS 10.14.6 Mojave / x86_64 | OK | OK | OK | OK |
| Package: cBioPortalData |
| Version: 2.0.10 |
| Command: C:\cygwin\bin\curl.exe -O https://malbec2.bioconductor.org/BBS/3.11/bioc/src/contrib/cBioPortalData_2.0.10.tar.gz && rm -rf cBioPortalData.buildbin-libdir && mkdir cBioPortalData.buildbin-libdir && C:\Users\biocbuild\bbs-3.11-bioc\R\bin\R.exe CMD INSTALL --merge-multiarch --build --library=cBioPortalData.buildbin-libdir cBioPortalData_2.0.10.tar.gz && C:\Users\biocbuild\bbs-3.11-bioc\R\bin\R.exe CMD INSTALL cBioPortalData_2.0.10.zip && rm cBioPortalData_2.0.10.tar.gz cBioPortalData_2.0.10.zip |
| StartedAt: 2020-10-16 19:25:09 -0400 (Fri, 16 Oct 2020) |
| EndedAt: 2020-10-16 19:26:34 -0400 (Fri, 16 Oct 2020) |
| EllapsedTime: 85.2 seconds |
| RetCode: 0 |
| Status: OK |
##############################################################################
##############################################################################
###
### Running command:
###
### C:\cygwin\bin\curl.exe -O https://malbec2.bioconductor.org/BBS/3.11/bioc/src/contrib/cBioPortalData_2.0.10.tar.gz && rm -rf cBioPortalData.buildbin-libdir && mkdir cBioPortalData.buildbin-libdir && C:\Users\biocbuild\bbs-3.11-bioc\R\bin\R.exe CMD INSTALL --merge-multiarch --build --library=cBioPortalData.buildbin-libdir cBioPortalData_2.0.10.tar.gz && C:\Users\biocbuild\bbs-3.11-bioc\R\bin\R.exe CMD INSTALL cBioPortalData_2.0.10.zip && rm cBioPortalData_2.0.10.tar.gz cBioPortalData_2.0.10.zip
###
##############################################################################
##############################################################################
% Total % Received % Xferd Average Speed Time Time Time Current
Dload Upload Total Spent Left Speed
0 0 0 0 0 0 0 0 --:--:-- --:--:-- --:--:-- 0
0 67716 0 0 0 0 0 0 --:--:-- --:--:-- --:--:-- 0
100 67716 100 67716 0 0 1133k 0 --:--:-- --:--:-- --:--:-- 1247k
install for i386
* installing *source* package 'cBioPortalData' ...
** using staged installation
** R
** data
*** moving datasets to lazyload DB
** inst
** byte-compile and prepare package for lazy loading
** help
*** installing help indices
converting help for package 'cBioPortalData'
finding HTML links ... done
cBioCache html
cBioDataPack html
finding level-2 HTML links ... done
cBioPortal-class html
cBioPortal html
cBioPortalData html
downloadStudy html
studiesTable html
** building package indices
** installing vignettes
** testing if installed package can be loaded from temporary location
** testing if installed package can be loaded from final location
** testing if installed package keeps a record of temporary installation path
install for x64
* installing *source* package 'cBioPortalData' ...
** testing if installed package can be loaded
* MD5 sums
packaged installation of 'cBioPortalData' as cBioPortalData_2.0.10.zip
* DONE (cBioPortalData)
* installing to library 'C:/Users/biocbuild/bbs-3.11-bioc/R/library'
package 'cBioPortalData' successfully unpacked and MD5 sums checked