| Back to Multiple platform build/check report for BioC 3.11 |
|
This page was generated on 2020-01-16 13:52:19 -0500 (Thu, 16 Jan 2020).
| Package 196/1818 | Hostname | OS / Arch | INSTALL | BUILD | CHECK | BUILD BIN | ||||||
| breakpointR 1.5.0 David Porubsky
| malbec2 | Linux (Ubuntu 18.04.3 LTS) / x86_64 | OK | OK | OK | |||||||
| tokay2 | Windows Server 2012 R2 Standard / x64 | OK | OK | OK | OK | |||||||
| celaya2 | OS X 10.11.6 El Capitan / x86_64 | OK | OK | [ OK ] | OK |
| Package: breakpointR |
| Version: 1.5.0 |
| Command: /Library/Frameworks/R.framework/Versions/Current/Resources/bin/R CMD check --install=check:breakpointR.install-out.txt --library=/Library/Frameworks/R.framework/Versions/Current/Resources/library --no-vignettes --timings breakpointR_1.5.0.tar.gz |
| StartedAt: 2020-01-16 02:21:01 -0500 (Thu, 16 Jan 2020) |
| EndedAt: 2020-01-16 02:27:53 -0500 (Thu, 16 Jan 2020) |
| EllapsedTime: 412.0 seconds |
| RetCode: 0 |
| Status: OK |
| CheckDir: breakpointR.Rcheck |
| Warnings: 0 |
##############################################################################
##############################################################################
###
### Running command:
###
### /Library/Frameworks/R.framework/Versions/Current/Resources/bin/R CMD check --install=check:breakpointR.install-out.txt --library=/Library/Frameworks/R.framework/Versions/Current/Resources/library --no-vignettes --timings breakpointR_1.5.0.tar.gz
###
##############################################################################
##############################################################################
* using log directory ‘/Users/biocbuild/bbs-3.11-bioc/meat/breakpointR.Rcheck’
* using R Under development (unstable) (2019-12-14 r77572)
* using platform: x86_64-apple-darwin15.6.0 (64-bit)
* using session charset: UTF-8
* using option ‘--no-vignettes’
* checking for file ‘breakpointR/DESCRIPTION’ ... OK
* checking extension type ... Package
* this is package ‘breakpointR’ version ‘1.5.0’
* checking package namespace information ... OK
* checking package dependencies ... OK
* checking if this is a source package ... OK
* checking if there is a namespace ... OK
* checking for hidden files and directories ... OK
* checking for portable file names ... OK
* checking for sufficient/correct file permissions ... OK
* checking whether package ‘breakpointR’ can be installed ... OK
* checking installed package size ... OK
* checking package directory ... OK
* checking ‘build’ directory ... OK
* checking DESCRIPTION meta-information ... OK
* checking top-level files ... OK
* checking for left-over files ... OK
* checking index information ... OK
* checking package subdirectories ... OK
* checking R files for non-ASCII characters ... OK
* checking R files for syntax errors ... OK
* checking whether the package can be loaded ... OK
* checking whether the package can be loaded with stated dependencies ... OK
* checking whether the package can be unloaded cleanly ... OK
* checking whether the namespace can be loaded with stated dependencies ... OK
* checking whether the namespace can be unloaded cleanly ... OK
* checking dependencies in R code ... OK
* checking S3 generic/method consistency ... OK
* checking replacement functions ... OK
* checking foreign function calls ... OK
* checking R code for possible problems ... OK
* checking Rd files ... OK
* checking Rd metadata ... OK
* checking Rd cross-references ... OK
* checking for missing documentation entries ... OK
* checking for code/documentation mismatches ... OK
* checking Rd \usage sections ... OK
* checking Rd contents ... OK
* checking for unstated dependencies in examples ... OK
* checking sizes of PDF files under ‘inst/doc’ ... OK
* checking files in ‘vignettes’ ... OK
* checking examples ... OK
Examples with CPU (user + system) or elapsed time > 5s
user system elapsed
genotyping 19.637 4.012 23.653
hotspotter 12.388 1.045 13.435
synchronizeReadDir 8.116 0.777 8.894
runBreakpointr 5.237 0.171 5.408
* checking for unstated dependencies in ‘tests’ ... OK
* checking tests ...
Running ‘testthat.R’
OK
* checking for unstated dependencies in vignettes ... OK
* checking package vignettes in ‘inst/doc’ ... OK
* checking running R code from vignettes ... SKIPPED
* checking re-building of vignette outputs ... SKIPPED
* checking PDF version of manual ... OK
* DONE
Status: OK
breakpointR.Rcheck/00install.out
############################################################################## ############################################################################## ### ### Running command: ### ### /Library/Frameworks/R.framework/Versions/Current/Resources/bin/R CMD INSTALL breakpointR ### ############################################################################## ############################################################################## * installing to library ‘/Library/Frameworks/R.framework/Versions/4.0/Resources/library’ * installing *source* package ‘breakpointR’ ... ** using staged installation ** R ** byte-compile and prepare package for lazy loading ** help *** installing help indices ** building package indices ** installing vignettes ** testing if installed package can be loaded from temporary location ** testing if installed package can be loaded from final location ** testing if installed package keeps a record of temporary installation path * DONE (breakpointR)
breakpointR.Rcheck/tests/testthat.Rout
R Under development (unstable) (2019-12-14 r77572) -- "Unsuffered Consequences"
Copyright (C) 2019 The R Foundation for Statistical Computing
Platform: x86_64-apple-darwin15.6.0 (64-bit)
R is free software and comes with ABSOLUTELY NO WARRANTY.
You are welcome to redistribute it under certain conditions.
Type 'license()' or 'licence()' for distribution details.
R is a collaborative project with many contributors.
Type 'contributors()' for more information and
'citation()' on how to cite R or R packages in publications.
Type 'demo()' for some demos, 'help()' for on-line help, or
'help.start()' for an HTML browser interface to help.
Type 'q()' to quit R.
> library(testthat)
> library(breakpointR)
Loading required package: GenomicRanges
Loading required package: stats4
Loading required package: BiocGenerics
Loading required package: parallel
Attaching package: 'BiocGenerics'
The following objects are masked from 'package:parallel':
clusterApply, clusterApplyLB, clusterCall, clusterEvalQ,
clusterExport, clusterMap, parApply, parCapply, parLapply,
parLapplyLB, parRapply, parSapply, parSapplyLB
The following objects are masked from 'package:stats':
IQR, mad, sd, var, xtabs
The following objects are masked from 'package:base':
Filter, Find, Map, Position, Reduce, anyDuplicated, append,
as.data.frame, basename, cbind, colnames, dirname, do.call,
duplicated, eval, evalq, get, grep, grepl, intersect, is.unsorted,
lapply, mapply, match, mget, order, paste, pmax, pmax.int, pmin,
pmin.int, rank, rbind, rownames, sapply, setdiff, sort, table,
tapply, union, unique, unsplit, which, which.max, which.min
Loading required package: S4Vectors
Attaching package: 'S4Vectors'
The following object is masked from 'package:base':
expand.grid
Loading required package: IRanges
Loading required package: GenomeInfoDb
Loading required package: cowplot
********************************************************
Note: As of version 1.0.0, cowplot does not change the
default ggplot2 theme anymore. To recover the previous
behavior, execute:
theme_set(theme_cowplot())
********************************************************
Loading required package: breakpointRdata
>
> test_check("breakpointR")
══ testthat results ═══════════════════════════════════════════════════════════
[ OK: 5 | SKIPPED: 0 | WARNINGS: 0 | FAILED: 0 ]
>
> proc.time()
user system elapsed
30.596 2.388 32.932
breakpointR.Rcheck/breakpointR-Ex.timings
| name | user | system | elapsed | |
| breakSeekr | 3.925 | 0.370 | 4.301 | |
| breakpointr | 0 | 0 | 0 | |
| breakpointr2UCSC | 1.123 | 0.076 | 1.200 | |
| confidenceInterval | 0.000 | 0.001 | 0.001 | |
| confidenceInterval.binomial | 0.001 | 0.001 | 0.001 | |
| deltaWCalculator | 0.855 | 0.067 | 0.921 | |
| exportRegions | 3.135 | 0.189 | 3.329 | |
| genotyping | 19.637 | 4.012 | 23.653 | |
| hotspotter | 12.388 | 1.045 | 13.435 | |
| loadFromFiles | 1.762 | 0.274 | 2.037 | |
| plotBreakpoints | 3.336 | 0.339 | 3.678 | |
| plotBreakpointsPerChr | 3.154 | 0.320 | 3.478 | |
| plotHeatmap | 4.038 | 0.187 | 4.226 | |
| ranges2UCSC | 0.354 | 0.052 | 0.406 | |
| readBamFileAsGRanges | 0.336 | 0.034 | 0.371 | |
| runBreakpointr | 5.237 | 0.171 | 5.408 | |
| summarizeBreaks | 0.355 | 0.081 | 0.436 | |
| synchronizeReadDir | 8.116 | 0.777 | 8.894 | |