| Back to Multiple platform build/check report for BioC 3.11 |
|
This page was generated on 2020-10-17 11:56:10 -0400 (Sat, 17 Oct 2020).
| TO THE DEVELOPERS/MAINTAINERS OF THE birta PACKAGE: Please make sure to use the following settings in order to reproduce any error or warning you see on this page. |
| Package 188/1905 | Hostname | OS / Arch | INSTALL | BUILD | CHECK | BUILD BIN | ||||||
Benedikt Zacher
| malbec2 | Linux (Ubuntu 18.04.4 LTS) / x86_64 | OK | OK | ERROR | |||||||
| tokay2 | Windows Server 2012 R2 Standard / x64 | OK | OK | ERROR | [ OK ] | |||||||
| machv2 | macOS 10.14.6 Mojave / x86_64 | OK | OK | ERROR | OK |
| Package: birta |
| Version: 1.32.0 |
| Command: rm -rf birta.buildbin-libdir && mkdir birta.buildbin-libdir && C:\Users\biocbuild\bbs-3.11-bioc\R\bin\R.exe CMD INSTALL --merge-multiarch --build --library=birta.buildbin-libdir birta_1.32.0.tar.gz |
| StartedAt: 2020-10-17 09:58:07 -0400 (Sat, 17 Oct 2020) |
| EndedAt: 2020-10-17 09:58:55 -0400 (Sat, 17 Oct 2020) |
| EllapsedTime: 47.6 seconds |
| RetCode: 0 |
| Status: OK |
| PackageFile: birta_1.32.0.zip |
| PackageFileSize: 854.1 KiB |
##############################################################################
##############################################################################
###
### Running command:
###
### rm -rf birta.buildbin-libdir && mkdir birta.buildbin-libdir && C:\Users\biocbuild\bbs-3.11-bioc\R\bin\R.exe CMD INSTALL --merge-multiarch --build --library=birta.buildbin-libdir birta_1.32.0.tar.gz
###
##############################################################################
##############################################################################
install for i386
* installing *source* package 'birta' ...
** using staged installation
** libs
"C:/rtools40/mingw32/bin/"g++ -std=gnu++11 -I"C:/Users/BIOCBU~1/BBS-3~1.11-/R/include" -DNDEBUG -I"C:/extsoft/include" -O2 -Wall -mfpmath=sse -msse2 -mstackrealign -c BayesNetwork.cpp -o BayesNetwork.o
"C:/rtools40/mingw32/bin/"g++ -std=gnu++11 -I"C:/Users/BIOCBU~1/BBS-3~1.11-/R/include" -DNDEBUG -I"C:/extsoft/include" -O2 -Wall -mfpmath=sse -msse2 -mstackrealign -c BayesNetworkNC.cpp -o BayesNetworkNC.o
"C:/rtools40/mingw32/bin/"g++ -std=gnu++11 -I"C:/Users/BIOCBU~1/BBS-3~1.11-/R/include" -DNDEBUG -I"C:/extsoft/include" -O2 -Wall -mfpmath=sse -msse2 -mstackrealign -c getStates.cpp -o getStates.o
C:/rtools40/mingw32/bin/g++ -std=gnu++11 -shared -s -static-libgcc -o birta.dll tmp.def BayesNetwork.o BayesNetworkNC.o getStates.o -LC:/extsoft/lib/i386 -LC:/extsoft/lib -LC:/Users/BIOCBU~1/BBS-3~1.11-/R/bin/i386 -lR
installing to C:/Users/biocbuild/bbs-3.11-bioc/meat/birta.buildbin-libdir/00LOCK-birta/00new/birta/libs/i386
** R
** data
** inst
** byte-compile and prepare package for lazy loading
** help
*** installing help indices
converting help for package 'birta'
finding HTML links ... done
EColiNetwork html
EColiOxygen html
TFexpr html
birta-methods html
birta-package html
birta.run html
genesets html
get_potential_swaps html
limmaAnalysis-methods html
limmaAnalysis html
plotConvergence html
Rd warning: C:/Users/biocbuild/bbs-3.11-bioc/tmpdir/RtmpmQfUAd/R.INSTALLfdc3b06310f/birta/man/plotConvergence.Rd:17: file link 'birta' in package 'birta' does not exist and so has been treated as a topic
potential_swaps html
sim html
** building package indices
** installing vignettes
** testing if installed package can be loaded from temporary location
Warning: Package 'birta' is deprecated and will be removed from Bioconductor
version 3.12
** testing if installed package can be loaded from final location
Warning: Package 'birta' is deprecated and will be removed from Bioconductor
version 3.12
** testing if installed package keeps a record of temporary installation path
install for x64
* installing *source* package 'birta' ...
** libs
"C:/rtools40/mingw64/bin/"g++ -std=gnu++11 -I"C:/Users/BIOCBU~1/BBS-3~1.11-/R/include" -DNDEBUG -I"C:/extsoft/include" -O2 -Wall -mfpmath=sse -msse2 -mstackrealign -c BayesNetwork.cpp -o BayesNetwork.o
"C:/rtools40/mingw64/bin/"g++ -std=gnu++11 -I"C:/Users/BIOCBU~1/BBS-3~1.11-/R/include" -DNDEBUG -I"C:/extsoft/include" -O2 -Wall -mfpmath=sse -msse2 -mstackrealign -c BayesNetworkNC.cpp -o BayesNetworkNC.o
"C:/rtools40/mingw64/bin/"g++ -std=gnu++11 -I"C:/Users/BIOCBU~1/BBS-3~1.11-/R/include" -DNDEBUG -I"C:/extsoft/include" -O2 -Wall -mfpmath=sse -msse2 -mstackrealign -c getStates.cpp -o getStates.o
C:/rtools40/mingw64/bin/g++ -std=gnu++11 -shared -s -static-libgcc -o birta.dll tmp.def BayesNetwork.o BayesNetworkNC.o getStates.o -LC:/extsoft/lib/x64 -LC:/extsoft/lib -LC:/Users/BIOCBU~1/BBS-3~1.11-/R/bin/x64 -lR
installing to C:/Users/biocbuild/bbs-3.11-bioc/meat/birta.buildbin-libdir/birta/libs/x64
** testing if installed package can be loaded
Warning: Package 'birta' is deprecated and will be removed from Bioconductor
version 3.12
* MD5 sums
packaged installation of 'birta' as birta_1.32.0.zip
* DONE (birta)