| Back to Multiple platform build/check report for BioC 3.11 | 
  | 
This page was generated on 2020-10-17 11:56:10 -0400 (Sat, 17 Oct 2020).
| TO THE DEVELOPERS/MAINTAINERS OF THE biotmle PACKAGE: Please make sure to use the following settings in order to reproduce any error or warning you see on this page. | 
| Package 185/1905 | Hostname | OS / Arch | INSTALL | BUILD | CHECK | BUILD BIN | ||||||
| biotmle 1.12.0 Nima Hejazi 
  | malbec2 | Linux (Ubuntu 18.04.4 LTS) / x86_64 | OK | OK | OK | |||||||
| tokay2 | Windows Server 2012 R2 Standard / x64 | OK | OK | WARNINGS | [ OK ] | |||||||
| machv2 | macOS 10.14.6 Mojave / x86_64 | OK | OK | OK | OK | 
| Package: biotmle | 
| Version: 1.12.0 | 
| Command: rm -rf biotmle.buildbin-libdir && mkdir biotmle.buildbin-libdir && C:\Users\biocbuild\bbs-3.11-bioc\R\bin\R.exe CMD INSTALL --merge-multiarch --build --library=biotmle.buildbin-libdir biotmle_1.12.0.tar.gz | 
| StartedAt: 2020-10-17 09:57:54 -0400 (Sat, 17 Oct 2020) | 
| EndedAt: 2020-10-17 09:58:46 -0400 (Sat, 17 Oct 2020) | 
| EllapsedTime: 52.4 seconds | 
| RetCode: 0 | 
| Status: OK | 
| PackageFile: biotmle_1.12.0.zip | 
| PackageFileSize: 339.3 KiB | 
##############################################################################
##############################################################################
###
### Running command:
###
###   rm -rf biotmle.buildbin-libdir && mkdir biotmle.buildbin-libdir && C:\Users\biocbuild\bbs-3.11-bioc\R\bin\R.exe CMD INSTALL --merge-multiarch --build --library=biotmle.buildbin-libdir biotmle_1.12.0.tar.gz
###
##############################################################################
##############################################################################
install for i386
* installing *source* package 'biotmle' ...
** using staged installation
** R
** inst
** byte-compile and prepare package for lazy loading
** help
*** installing help indices
  converting help for package 'biotmle'
    finding HTML links ... done
    bioTMLE-class                           html  
    biomarkertmle                           html  
Rd warning: C:/Users/biocbuild/bbs-3.11-bioc/tmpdir/RtmpADV68K/R.INSTALL1a8cc55506/biotmle/man/biomarkertmle.Rd:52: file link 'BiocParallelParam' in package 'BiocParallel' does not exist and so has been treated as a topic
Rd warning: C:/Users/biocbuild/bbs-3.11-bioc/tmpdir/RtmpADV68K/R.INSTALL1a8cc55506/biotmle/man/biomarkertmle.Rd:54: file link 'DoparParam' in package 'BiocParallel' does not exist and so has been treated as a topic
    data.frame_OR_EList-class               html  
    eif                                     html  
    exp_biomarkertmle                       html  
    heatmap_ic                              html  
    modtest_ic                              html  
    plot.bioTMLE                            html  
    rnaseq_ic                               html  
    toptable                                html  
    volcano_ic                              html  
** building package indices
** installing vignettes
** testing if installed package can be loaded from temporary location
** testing if installed package can be loaded from final location
** testing if installed package keeps a record of temporary installation path
install for x64
* installing *source* package 'biotmle' ...
** testing if installed package can be loaded
* MD5 sums
packaged installation of 'biotmle' as biotmle_1.12.0.zip
* DONE (biotmle)