| Back to Multiple platform build/check report for BioC 3.11 |
|
This page was generated on 2020-10-17 11:54:24 -0400 (Sat, 17 Oct 2020).
| TO THE DEVELOPERS/MAINTAINERS OF THE bamsignals PACKAGE: Please make sure to use the following settings in order to reproduce any error or warning you see on this page. |
| Package 109/1905 | Hostname | OS / Arch | INSTALL | BUILD | CHECK | BUILD BIN | ||||||
| bamsignals 1.20.0 Johannes Helmuth
| malbec2 | Linux (Ubuntu 18.04.4 LTS) / x86_64 | OK | [ OK ] | OK | |||||||
| tokay2 | Windows Server 2012 R2 Standard / x64 | OK | OK | OK | OK | |||||||
| machv2 | macOS 10.14.6 Mojave / x86_64 | OK | OK | OK | OK |
| Package: bamsignals |
| Version: 1.20.0 |
| Command: /home/biocbuild/bbs-3.11-bioc/R/bin/R CMD build --keep-empty-dirs --no-resave-data bamsignals |
| StartedAt: 2020-10-16 17:47:55 -0400 (Fri, 16 Oct 2020) |
| EndedAt: 2020-10-16 17:48:38 -0400 (Fri, 16 Oct 2020) |
| EllapsedTime: 42.5 seconds |
| RetCode: 0 |
| Status: OK |
| PackageFile: bamsignals_1.20.0.tar.gz |
| PackageFileSize: 3.089 MiB |
############################################################################## ############################################################################## ### ### Running command: ### ### /home/biocbuild/bbs-3.11-bioc/R/bin/R CMD build --keep-empty-dirs --no-resave-data bamsignals ### ############################################################################## ############################################################################## * checking for file ‘bamsignals/DESCRIPTION’ ... OK * preparing ‘bamsignals’: * checking DESCRIPTION meta-information ... OK * cleaning src * installing the package to build vignettes * creating vignettes ... OK * cleaning src * checking for LF line-endings in source and make files and shell scripts * checking for empty or unneeded directories * building ‘bamsignals_1.20.0.tar.gz’