| Back to Multiple platform build/check report for BioC 3.11 | 
  | 
This page was generated on 2020-10-17 11:54:22 -0400 (Sat, 17 Oct 2020).
| TO THE DEVELOPERS/MAINTAINERS OF THE annmap PACKAGE: Please make sure to use the following settings in order to reproduce any error or warning you see on this page. | 
| Package 59/1905 | Hostname | OS / Arch | INSTALL | BUILD | CHECK | BUILD BIN | ||||||
| annmap 1.30.0 Chris Wirth 
  | malbec2 | Linux (Ubuntu 18.04.4 LTS) / x86_64 | OK | [ OK ] | WARNINGS | |||||||
| tokay2 | Windows Server 2012 R2 Standard / x64 | ...NOT SUPPORTED... | ||||||||||
| machv2 | macOS 10.14.6 Mojave / x86_64 | OK | OK | WARNINGS | OK | |||||||
| Package: annmap | 
| Version: 1.30.0 | 
| Command: /home/biocbuild/bbs-3.11-bioc/R/bin/R CMD build --keep-empty-dirs --no-resave-data annmap | 
| StartedAt: 2020-10-16 17:40:56 -0400 (Fri, 16 Oct 2020) | 
| EndedAt: 2020-10-16 17:41:34 -0400 (Fri, 16 Oct 2020) | 
| EllapsedTime: 38.2 seconds | 
| RetCode: 0 | 
| Status: OK | 
| PackageFile: annmap_1.30.0.tar.gz | 
| PackageFileSize: 883.8 KiB | 
############################################################################## ############################################################################## ### ### Running command: ### ### /home/biocbuild/bbs-3.11-bioc/R/bin/R CMD build --keep-empty-dirs --no-resave-data annmap ### ############################################################################## ############################################################################## * checking for file ‘annmap/DESCRIPTION’ ... OK * preparing ‘annmap’: * checking DESCRIPTION meta-information ... OK * installing the package to build vignettes * creating vignettes ... OK * checking for LF line-endings in source and make files and shell scripts * checking for empty or unneeded directories * building ‘annmap_1.30.0.tar.gz’