| Back to Multiple platform build/check report for BioC 3.11 | 
  | 
This page was generated on 2020-10-17 11:56:03 -0400 (Sat, 17 Oct 2020).
| TO THE DEVELOPERS/MAINTAINERS OF THE affycomp PACKAGE: Please make sure to use the following settings in order to reproduce any error or warning you see on this page. | 
| Package 24/1905 | Hostname | OS / Arch | INSTALL | BUILD | CHECK | BUILD BIN | ||||||
| affycomp 1.64.0 Rafael A. Irizarry 
  | malbec2 | Linux (Ubuntu 18.04.4 LTS) / x86_64 | OK | OK | OK | |||||||
| tokay2 | Windows Server 2012 R2 Standard / x64 | OK | OK | WARNINGS | [ OK ] | |||||||
| machv2 | macOS 10.14.6 Mojave / x86_64 | OK | OK | OK | OK | 
| Package: affycomp | 
| Version: 1.64.0 | 
| Command: rm -rf affycomp.buildbin-libdir && mkdir affycomp.buildbin-libdir && C:\Users\biocbuild\bbs-3.11-bioc\R\bin\R.exe CMD INSTALL --merge-multiarch --build --library=affycomp.buildbin-libdir affycomp_1.64.0.tar.gz | 
| StartedAt: 2020-10-17 09:45:39 -0400 (Sat, 17 Oct 2020) | 
| EndedAt: 2020-10-17 09:46:10 -0400 (Sat, 17 Oct 2020) | 
| EllapsedTime: 31.5 seconds | 
| RetCode: 0 | 
| Status: OK | 
| PackageFile: affycomp_1.64.0.zip | 
| PackageFileSize: 8.031 MiB | 
##############################################################################
##############################################################################
###
### Running command:
###
###   rm -rf affycomp.buildbin-libdir && mkdir affycomp.buildbin-libdir && C:\Users\biocbuild\bbs-3.11-bioc\R\bin\R.exe CMD INSTALL --merge-multiarch --build --library=affycomp.buildbin-libdir affycomp_1.64.0.tar.gz
###
##############################################################################
##############################################################################
install for i386
* installing *source* package 'affycomp' ...
** using staged installation
** R
** data
** inst
** byte-compile and prepare package for lazy loading
** help
*** installing help indices
  converting help for package 'affycomp'
    finding HTML links ... done
    SD                                      html  
    affycomp.compfigs.auxiliary             html  
    affycomp.figures.auxiliary              html  
    affycomp.table                          html  
    affycompPlot                            html  
    assessAll                               html  
    assessDilution                          html  
    assessSD                                html  
    assessSpikeIn                           html  
    assessSpikeIn2                          html  
    dilution.phenodata                      html  
    exprset.log                             html  
    hgu133a.spikein.phenodata               html  
    mas5.assessment                         html  
Rd warning: C:/Users/biocbuild/bbs-3.11-bioc/tmpdir/Rtmp6Be5yl/R.INSTALLdac68ff7432/affycomp/man/mas5.assessment.Rd:10: file link 'ExpressionSet' in package 'Biobase' does not exist and so has been treated as a topic
    readin                                  html  
    remove.hgu133a.xhyb                     html  
    spikein.phenodata                       html  
    xhyb                                    html  
** building package indices
** installing vignettes
** testing if installed package can be loaded from temporary location
** testing if installed package can be loaded from final location
** testing if installed package keeps a record of temporary installation path
install for x64
* installing *source* package 'affycomp' ...
** testing if installed package can be loaded
* MD5 sums
packaged installation of 'affycomp' as affycomp_1.64.0.zip
* DONE (affycomp)