| Back to Multiple platform build/check report for BioC 3.11 |
|
This page was generated on 2020-10-17 11:56:03 -0400 (Sat, 17 Oct 2020).
| TO THE DEVELOPERS/MAINTAINERS OF THE affyContam PACKAGE: Please make sure to use the following settings in order to reproduce any error or warning you see on this page. |
| Package 26/1905 | Hostname | OS / Arch | INSTALL | BUILD | CHECK | BUILD BIN | ||||||
| affyContam 1.46.0 V. Carey
| malbec2 | Linux (Ubuntu 18.04.4 LTS) / x86_64 | OK | OK | OK | |||||||
| tokay2 | Windows Server 2012 R2 Standard / x64 | [ OK ] | OK | OK | OK | |||||||
| machv2 | macOS 10.14.6 Mojave / x86_64 | OK | OK | OK | OK |
| Package: affyContam |
| Version: 1.46.0 |
| Command: C:\cygwin\bin\curl.exe -O https://malbec2.bioconductor.org/BBS/3.11/bioc/src/contrib/affyContam_1.46.0.tar.gz && rm -rf affyContam.buildbin-libdir && mkdir affyContam.buildbin-libdir && C:\Users\biocbuild\bbs-3.11-bioc\R\bin\R.exe CMD INSTALL --merge-multiarch --build --library=affyContam.buildbin-libdir affyContam_1.46.0.tar.gz && C:\Users\biocbuild\bbs-3.11-bioc\R\bin\R.exe CMD INSTALL affyContam_1.46.0.zip && rm affyContam_1.46.0.tar.gz affyContam_1.46.0.zip |
| StartedAt: 2020-10-16 16:53:59 -0400 (Fri, 16 Oct 2020) |
| EndedAt: 2020-10-16 16:54:27 -0400 (Fri, 16 Oct 2020) |
| EllapsedTime: 27.7 seconds |
| RetCode: 0 |
| Status: OK |
##############################################################################
##############################################################################
###
### Running command:
###
### C:\cygwin\bin\curl.exe -O https://malbec2.bioconductor.org/BBS/3.11/bioc/src/contrib/affyContam_1.46.0.tar.gz && rm -rf affyContam.buildbin-libdir && mkdir affyContam.buildbin-libdir && C:\Users\biocbuild\bbs-3.11-bioc\R\bin\R.exe CMD INSTALL --merge-multiarch --build --library=affyContam.buildbin-libdir affyContam_1.46.0.tar.gz && C:\Users\biocbuild\bbs-3.11-bioc\R\bin\R.exe CMD INSTALL affyContam_1.46.0.zip && rm affyContam_1.46.0.tar.gz affyContam_1.46.0.zip
###
##############################################################################
##############################################################################
% Total % Received % Xferd Average Speed Time Time Time Current
Dload Upload Total Spent Left Speed
0 0 0 0 0 0 0 0 --:--:-- --:--:-- --:--:-- 0
100 219k 100 219k 0 0 3589k 0 --:--:-- --:--:-- --:--:-- 4064k
install for i386
* installing *source* package 'affyContam' ...
** using staged installation
** R
** byte-compile and prepare package for lazy loading
Package LibPath Item
[1,] "affydata" "C:/Users/biocbuild/bbs-3.11-bioc/R/library" "Dilution"
Title
[1,] "AffyBatch instance Dilution"
** help
*** installing help indices
converting help for package 'affyContam'
finding HTML links ... done
setRectRegion html
** building package indices
** installing vignettes
** testing if installed package can be loaded from temporary location
Package LibPath Item
[1,] "affydata" "C:/Users/biocbuild/bbs-3.11-bioc/R/library" "Dilution"
Title
[1,] "AffyBatch instance Dilution"
** testing if installed package can be loaded from final location
Package LibPath Item
[1,] "affydata" "C:/Users/biocbuild/bbs-3.11-bioc/R/library" "Dilution"
Title
[1,] "AffyBatch instance Dilution"
** testing if installed package keeps a record of temporary installation path
install for x64
* installing *source* package 'affyContam' ...
** testing if installed package can be loaded
Package LibPath Item
[1,] "affydata" "C:/Users/biocbuild/bbs-3.11-bioc/R/library" "Dilution"
Title
[1,] "AffyBatch instance Dilution"
* MD5 sums
packaged installation of 'affyContam' as affyContam_1.46.0.zip
* DONE (affyContam)
* installing to library 'C:/Users/biocbuild/bbs-3.11-bioc/R/library'
package 'affyContam' successfully unpacked and MD5 sums checked