| Back to Multiple platform build/check report for BioC 3.11 | 
  | 
This page was generated on 2020-10-17 11:56:02 -0400 (Sat, 17 Oct 2020).
| TO THE DEVELOPERS/MAINTAINERS OF THE a4Preproc PACKAGE: Please make sure to use the following settings in order to reproduce any error or warning you see on this page. | 
| Package 5/1905 | Hostname | OS / Arch | INSTALL | BUILD | CHECK | BUILD BIN | ||||||
| a4Preproc 1.36.0 Tobias Verbeke 
  | malbec2 | Linux (Ubuntu 18.04.4 LTS) / x86_64 | OK | OK | OK | |||||||
| tokay2 | Windows Server 2012 R2 Standard / x64 | [ OK ] | OK | OK | OK | |||||||
| machv2 | macOS 10.14.6 Mojave / x86_64 | OK | OK | OK | OK | 
| Package: a4Preproc | 
| Version: 1.36.0 | 
| Command: C:\cygwin\bin\curl.exe -O https://malbec2.bioconductor.org/BBS/3.11/bioc/src/contrib/a4Preproc_1.36.0.tar.gz && rm -rf a4Preproc.buildbin-libdir && mkdir a4Preproc.buildbin-libdir && C:\Users\biocbuild\bbs-3.11-bioc\R\bin\R.exe CMD INSTALL --merge-multiarch --build --library=a4Preproc.buildbin-libdir a4Preproc_1.36.0.tar.gz && C:\Users\biocbuild\bbs-3.11-bioc\R\bin\R.exe CMD INSTALL a4Preproc_1.36.0.zip && rm a4Preproc_1.36.0.tar.gz a4Preproc_1.36.0.zip | 
| StartedAt: 2020-10-16 17:12:20 -0400 (Fri, 16 Oct 2020) | 
| EndedAt: 2020-10-16 17:12:54 -0400 (Fri, 16 Oct 2020) | 
| EllapsedTime: 33.8 seconds | 
| RetCode: 0 | 
| Status: OK | 
##############################################################################
##############################################################################
###
### Running command:
###
###   C:\cygwin\bin\curl.exe -O https://malbec2.bioconductor.org/BBS/3.11/bioc/src/contrib/a4Preproc_1.36.0.tar.gz && rm -rf a4Preproc.buildbin-libdir && mkdir a4Preproc.buildbin-libdir && C:\Users\biocbuild\bbs-3.11-bioc\R\bin\R.exe CMD INSTALL --merge-multiarch --build --library=a4Preproc.buildbin-libdir a4Preproc_1.36.0.tar.gz && C:\Users\biocbuild\bbs-3.11-bioc\R\bin\R.exe CMD INSTALL a4Preproc_1.36.0.zip && rm a4Preproc_1.36.0.tar.gz a4Preproc_1.36.0.zip
###
##############################################################################
##############################################################################
  % Total    % Received % Xferd  Average Speed   Time    Time     Time  Current
                                 Dload  Upload   Total   Spent    Left  Speed
  0     0    0     0    0     0      0      0 --:--:-- --:--:-- --:--:--     0
100  1853  100  1853    0     0  31785      0 --:--:-- --:--:-- --:--:-- 35634
install for i386
* installing *source* package 'a4Preproc' ...
** using staged installation
** R
** inst
** byte-compile and prepare package for lazy loading
** help
*** installing help indices
  converting help for package 'a4Preproc'
    finding HTML links ... done
    addGeneInfo                             html  
** building package indices
** testing if installed package can be loaded from temporary location
** testing if installed package can be loaded from final location
** testing if installed package keeps a record of temporary installation path
install for x64
* installing *source* package 'a4Preproc' ...
** testing if installed package can be loaded
* MD5 sums
packaged installation of 'a4Preproc' as a4Preproc_1.36.0.zip
* DONE (a4Preproc)
* installing to library 'C:/Users/biocbuild/bbs-3.11-bioc/R/library'
package 'a4Preproc' successfully unpacked and MD5 sums checked