| Back to Multiple platform build/check report for BioC 3.11 |
|
This page was generated on 2020-01-16 13:53:30 -0500 (Thu, 16 Jan 2020).
| Package 1807/1818 | Hostname | OS / Arch | INSTALL | BUILD | CHECK | BUILD BIN | ||||||
| Xeva 1.3.0 Benjamin Haibe-Kains
| malbec2 | Linux (Ubuntu 18.04.3 LTS) / x86_64 | OK | OK | OK | |||||||
| tokay2 | Windows Server 2012 R2 Standard / x64 | OK | OK | OK | NA | |||||||
| celaya2 | OS X 10.11.6 El Capitan / x86_64 | OK | OK | [ OK ] | OK |
| Package: Xeva |
| Version: 1.3.0 |
| Command: /Library/Frameworks/R.framework/Versions/Current/Resources/bin/R CMD check --install=check:Xeva.install-out.txt --library=/Library/Frameworks/R.framework/Versions/Current/Resources/library --no-vignettes --timings Xeva_1.3.0.tar.gz |
| StartedAt: 2020-01-16 09:54:44 -0500 (Thu, 16 Jan 2020) |
| EndedAt: 2020-01-16 09:58:43 -0500 (Thu, 16 Jan 2020) |
| EllapsedTime: 238.8 seconds |
| RetCode: 0 |
| Status: OK |
| CheckDir: Xeva.Rcheck |
| Warnings: 0 |
##############################################################################
##############################################################################
###
### Running command:
###
### /Library/Frameworks/R.framework/Versions/Current/Resources/bin/R CMD check --install=check:Xeva.install-out.txt --library=/Library/Frameworks/R.framework/Versions/Current/Resources/library --no-vignettes --timings Xeva_1.3.0.tar.gz
###
##############################################################################
##############################################################################
* using log directory ‘/Users/biocbuild/bbs-3.11-bioc/meat/Xeva.Rcheck’
* using R Under development (unstable) (2019-12-14 r77572)
* using platform: x86_64-apple-darwin15.6.0 (64-bit)
* using session charset: UTF-8
* using option ‘--no-vignettes’
* checking for file ‘Xeva/DESCRIPTION’ ... OK
* checking extension type ... Package
* this is package ‘Xeva’ version ‘1.3.0’
* package encoding: UTF-8
* checking package namespace information ... OK
* checking package dependencies ... OK
* checking if this is a source package ... OK
* checking if there is a namespace ... OK
* checking for hidden files and directories ... OK
* checking for portable file names ... OK
* checking for sufficient/correct file permissions ... OK
* checking whether package ‘Xeva’ can be installed ... OK
* checking installed package size ... OK
* checking package directory ... OK
* checking ‘build’ directory ... OK
* checking DESCRIPTION meta-information ... OK
* checking top-level files ... OK
* checking for left-over files ... OK
* checking index information ... OK
* checking package subdirectories ... OK
* checking R files for non-ASCII characters ... OK
* checking R files for syntax errors ... OK
* checking whether the package can be loaded ... OK
* checking whether the package can be loaded with stated dependencies ... OK
* checking whether the package can be unloaded cleanly ... OK
* checking whether the namespace can be loaded with stated dependencies ... OK
* checking whether the namespace can be unloaded cleanly ... OK
* checking dependencies in R code ... OK
* checking S3 generic/method consistency ... OK
* checking replacement functions ... OK
* checking foreign function calls ... OK
* checking R code for possible problems ... OK
* checking Rd files ... OK
* checking Rd metadata ... OK
* checking Rd cross-references ... OK
* checking for missing documentation entries ... OK
* checking for code/documentation mismatches ... OK
* checking Rd \usage sections ... OK
* checking Rd contents ... OK
* checking for unstated dependencies in examples ... OK
* checking contents of ‘data’ directory ... OK
* checking data for non-ASCII characters ... NOTE
Note: found 31 marked UTF-8 strings
* checking data for ASCII and uncompressed saves ... OK
* checking sizes of PDF files under ‘inst/doc’ ... OK
* checking files in ‘vignettes’ ... OK
* checking examples ... OK
Examples with CPU (user + system) or elapsed time > 5s
user system elapsed
setResponse 5.893 2.163 8.007
plotmRECIST 4.288 1.043 5.309
* checking for unstated dependencies in vignettes ... OK
* checking package vignettes in ‘inst/doc’ ... OK
* checking running R code from vignettes ... SKIPPED
* checking re-building of vignette outputs ... SKIPPED
* checking PDF version of manual ... OK
* DONE
Status: 1 NOTE
See
‘/Users/biocbuild/bbs-3.11-bioc/meat/Xeva.Rcheck/00check.log’
for details.
Xeva.Rcheck/00install.out
############################################################################## ############################################################################## ### ### Running command: ### ### /Library/Frameworks/R.framework/Versions/Current/Resources/bin/R CMD INSTALL Xeva ### ############################################################################## ############################################################################## * installing to library ‘/Library/Frameworks/R.framework/Versions/4.0/Resources/library’ * installing *source* package ‘Xeva’ ... ** using staged installation ** R ** data ** inst ** byte-compile and prepare package for lazy loading ** help *** installing help indices ** building package indices ** installing vignettes ** testing if installed package can be loaded from temporary location ** testing if installed package can be loaded from final location ** testing if installed package keeps a record of temporary installation path * DONE (Xeva)
Xeva.Rcheck/Xeva-Ex.timings
| name | user | system | elapsed | |
| ABC | 0.007 | 0.002 | 0.010 | |
| AUC | 0.046 | 0.025 | 0.070 | |
| TGI | 0.001 | 0.000 | 0.002 | |
| addExperimentalDesign | 0.159 | 0.020 | 0.179 | |
| angle | 0.014 | 0.006 | 0.020 | |
| batchInfo | 0.189 | 0.026 | 0.216 | |
| createXevaSet | 0.212 | 0.077 | 0.293 | |
| dosePlot | 0.453 | 0.068 | 0.521 | |
| downloadXevaSet | 0.042 | 0.017 | 0.367 | |
| drugInform | 0.130 | 0.006 | 0.135 | |
| drugSensitivitySig | 0.774 | 0.237 | 1.007 | |
| getExperiment | 0.218 | 0.055 | 0.274 | |
| getMolecularProfiles | 0.152 | 0.004 | 0.157 | |
| lmm | 0.184 | 0.066 | 0.248 | |
| mRECIST | 0.004 | 0.001 | 0.005 | |
| modelInfo | 0.262 | 0.016 | 0.278 | |
| plotPDX | 2.690 | 0.671 | 3.349 | |
| plotmRECIST | 4.288 | 1.043 | 5.309 | |
| response | 0.247 | 0.048 | 0.294 | |
| selectModelIds | 0.297 | 0.109 | 0.403 | |
| sensitivity | 0.125 | 0.011 | 0.136 | |
| setResponse | 5.893 | 2.163 | 8.007 | |
| slope | 0.014 | 0.003 | 0.018 | |
| subsetXeva | 0.256 | 0.035 | 0.291 | |
| summarizeMolecularProfiles | 0.255 | 0.022 | 0.277 | |
| summarizeResponse | 0.338 | 0.026 | 0.363 | |
| waterfall | 1.632 | 0.334 | 1.957 | |