| Back to Multiple platform build/check report for BioC 3.11 |
|
This page was generated on 2020-10-17 11:56:01 -0400 (Sat, 17 Oct 2020).
| TO THE DEVELOPERS/MAINTAINERS OF THE XINA PACKAGE: Please make sure to use the following settings in order to reproduce any error or warning you see on this page. |
| Package 1895/1905 | Hostname | OS / Arch | INSTALL | BUILD | CHECK | BUILD BIN | ||||||
| XINA 1.6.0 Lang Ho Lee
| malbec2 | Linux (Ubuntu 18.04.4 LTS) / x86_64 | OK | OK | [ OK ] | |||||||
| tokay2 | Windows Server 2012 R2 Standard / x64 | OK | OK | OK | NA | |||||||
| machv2 | macOS 10.14.6 Mojave / x86_64 | OK | OK | OK | OK |
| Package: XINA |
| Version: 1.6.0 |
| Command: /home/biocbuild/bbs-3.11-bioc/R/bin/R CMD check --install=check:XINA.install-out.txt --library=/home/biocbuild/bbs-3.11-bioc/R/library --no-vignettes --timings XINA_1.6.0.tar.gz |
| StartedAt: 2020-10-17 06:30:12 -0400 (Sat, 17 Oct 2020) |
| EndedAt: 2020-10-17 06:32:36 -0400 (Sat, 17 Oct 2020) |
| EllapsedTime: 144.4 seconds |
| RetCode: 0 |
| Status: OK |
| CheckDir: XINA.Rcheck |
| Warnings: 0 |
##############################################################################
##############################################################################
###
### Running command:
###
### /home/biocbuild/bbs-3.11-bioc/R/bin/R CMD check --install=check:XINA.install-out.txt --library=/home/biocbuild/bbs-3.11-bioc/R/library --no-vignettes --timings XINA_1.6.0.tar.gz
###
##############################################################################
##############################################################################
* using log directory ‘/home/biocbuild/bbs-3.11-bioc/meat/XINA.Rcheck’
* using R version 4.0.3 (2020-10-10)
* using platform: x86_64-pc-linux-gnu (64-bit)
* using session charset: UTF-8
* using option ‘--no-vignettes’
* checking for file ‘XINA/DESCRIPTION’ ... OK
* checking extension type ... Package
* this is package ‘XINA’ version ‘1.6.0’
* package encoding: UTF-8
* checking package namespace information ... OK
* checking package dependencies ... OK
* checking if this is a source package ... OK
* checking if there is a namespace ... OK
* checking for hidden files and directories ... OK
* checking for portable file names ... OK
* checking for sufficient/correct file permissions ... OK
* checking whether package ‘XINA’ can be installed ... OK
* checking installed package size ... OK
* checking package directory ... OK
* checking ‘build’ directory ... OK
* checking DESCRIPTION meta-information ... OK
* checking top-level files ... OK
* checking for left-over files ... OK
* checking index information ... OK
* checking package subdirectories ... OK
* checking R files for non-ASCII characters ... OK
* checking R files for syntax errors ... OK
* checking whether the package can be loaded ... OK
* checking whether the package can be loaded with stated dependencies ... OK
* checking whether the package can be unloaded cleanly ... OK
* checking whether the namespace can be loaded with stated dependencies ... OK
* checking whether the namespace can be unloaded cleanly ... OK
* checking dependencies in R code ... OK
* checking S3 generic/method consistency ... OK
* checking replacement functions ... OK
* checking foreign function calls ... OK
* checking R code for possible problems ... OK
* checking Rd files ... OK
* checking Rd metadata ... OK
* checking Rd cross-references ... OK
* checking for missing documentation entries ... OK
* checking for code/documentation mismatches ... OK
* checking Rd \usage sections ... OK
* checking Rd contents ... OK
* checking for unstated dependencies in examples ... OK
* checking contents of ‘data’ directory ... OK
* checking data for non-ASCII characters ... OK
* checking data for ASCII and uncompressed saves ... OK
* checking files in ‘vignettes’ ... OK
* checking examples ... OK
Examples with CPU (user + system) or elapsed time > 5s
user system elapsed
xina_clustering 36.016 0.032 36.083
plot_condition_compositions 15.288 0.004 15.306
mutate_colors 8.662 0.008 8.671
plot_clusters 8.563 0.008 8.571
xina_plot_all 5.321 0.084 5.582
* checking for unstated dependencies in vignettes ... OK
* checking package vignettes in ‘inst/doc’ ... OK
* checking running R code from vignettes ... SKIPPED
* checking re-building of vignette outputs ... SKIPPED
* checking PDF version of manual ... OK
* DONE
Status: OK
XINA.Rcheck/00install.out
############################################################################## ############################################################################## ### ### Running command: ### ### /home/biocbuild/bbs-3.11-bioc/R/bin/R CMD INSTALL XINA ### ############################################################################## ############################################################################## * installing to library ‘/home/biocbuild/bbs-3.11-bioc/R/library’ * installing *source* package ‘XINA’ ... ** using staged installation ** R ** data ** inst ** byte-compile and prepare package for lazy loading ** help *** installing help indices ** building package indices ** installing vignettes ** testing if installed package can be loaded from temporary location ** testing if installed package can be loaded from final location ** testing if installed package keeps a record of temporary installation path * DONE (XINA)
XINA.Rcheck/XINA-Ex.timings
| name | user | system | elapsed | |
| alluvial_enriched | 3.413 | 0.040 | 3.453 | |
| draw_alluvial_plot | 0.051 | 0.004 | 0.055 | |
| get_comigrations_by_name | 0.035 | 0.000 | 0.036 | |
| get_condition_biased_comigrations | 3.987 | 0.008 | 3.994 | |
| get_unknown_ppi_nodes | 0.057 | 0.004 | 0.061 | |
| load_previous_results | 0.997 | 0.004 | 1.001 | |
| make_random_xina_data | 0.179 | 0.020 | 0.199 | |
| mutate_colors | 8.662 | 0.008 | 8.671 | |
| plot_clusters | 8.563 | 0.008 | 8.571 | |
| plot_clusters_all | 3.153 | 0.016 | 3.169 | |
| plot_condition_compositions | 15.288 | 0.004 | 15.306 | |
| plot_enrichment_results | 0 | 0 | 0 | |
| xina_analysis | 0 | 0 | 0 | |
| xina_clustering | 36.016 | 0.032 | 36.083 | |
| xina_enrichment | 0 | 0 | 0 | |
| xina_plot_all | 5.321 | 0.084 | 5.582 | |
| xina_plot_bycluster | 0.290 | 0.004 | 0.294 | |
| xina_plot_single | 0.212 | 0.008 | 0.300 | |