| Back to Multiple platform build/check report for BioC 3.11 |
|
This page was generated on 2020-10-17 11:58:00 -0400 (Sat, 17 Oct 2020).
| TO THE DEVELOPERS/MAINTAINERS OF THE XDE PACKAGE: Please make sure to use the following settings in order to reproduce any error or warning you see on this page. |
| Package 1893/1905 | Hostname | OS / Arch | INSTALL | BUILD | CHECK | BUILD BIN | ||||||
| XDE 2.34.0 Robert Scharpf
| malbec2 | Linux (Ubuntu 18.04.4 LTS) / x86_64 | OK | OK | OK | |||||||
| tokay2 | Windows Server 2012 R2 Standard / x64 | OK | [ OK ] | OK | NA | |||||||
| machv2 | macOS 10.14.6 Mojave / x86_64 | OK | OK | OK | OK |
| Package: XDE |
| Version: 2.34.0 |
| Command: chmod a+r XDE -R && C:\Users\biocbuild\bbs-3.11-bioc\R\bin\R.exe CMD build --keep-empty-dirs --no-resave-data XDE |
| StartedAt: 2020-10-17 01:12:39 -0400 (Sat, 17 Oct 2020) |
| EndedAt: 2020-10-17 01:14:23 -0400 (Sat, 17 Oct 2020) |
| EllapsedTime: 103.7 seconds |
| RetCode: 0 |
| Status: OK |
| PackageFile: XDE_2.34.0.tar.gz |
| PackageFileSize: 1.169 MiB |
##############################################################################
##############################################################################
###
### Running command:
###
### chmod a+r XDE -R && C:\Users\biocbuild\bbs-3.11-bioc\R\bin\R.exe CMD build --keep-empty-dirs --no-resave-data XDE
###
##############################################################################
##############################################################################
* checking for file 'XDE/DESCRIPTION' ... OK
* preparing 'XDE':
* checking DESCRIPTION meta-information ... OK
* cleaning src
* installing the package to build vignettes
* creating vignettes ... OK
Warning: 'inst/doc' files
'XDE.Rnw', 'XdeParameterClass.Rnw'
ignored as vignettes have been rebuilt.
Run R CMD build with --no-build-vignettes to prevent rebuilding.
* cleaning src
* checking for LF line-endings in source and make files and shell scripts
* checking for empty or unneeded directories
* looking to see if a 'data/datalist' file should be added
* building 'XDE_2.34.0.tar.gz'