| Back to Multiple platform build/check report for BioC 3.11 | 
  | 
This page was generated on 2020-10-17 11:57:56 -0400 (Sat, 17 Oct 2020).
| TO THE DEVELOPERS/MAINTAINERS OF THE TIN PACKAGE: Please make sure to use the following settings in order to reproduce any error or warning you see on this page. | 
| Package 1804/1905 | Hostname | OS / Arch | INSTALL | BUILD | CHECK | BUILD BIN | ||||||
| TIN 1.20.0 Bjarne Johannessen 
  | malbec2 | Linux (Ubuntu 18.04.4 LTS) / x86_64 | OK | OK | OK | |||||||
| tokay2 | Windows Server 2012 R2 Standard / x64 | [ OK ] | OK | OK | NA | |||||||
| machv2 | macOS 10.14.6 Mojave / x86_64 | OK | OK | OK | OK | 
| Package: TIN | 
| Version: 1.20.0 | 
| Command: C:\cygwin\bin\curl.exe -O https://malbec2.bioconductor.org/BBS/3.11/bioc/src/contrib/TIN_1.20.0.tar.gz && rm -rf TIN.buildbin-libdir && mkdir TIN.buildbin-libdir && C:\Users\biocbuild\bbs-3.11-bioc\R\bin\R.exe CMD INSTALL --merge-multiarch --build --library=TIN.buildbin-libdir TIN_1.20.0.tar.gz && C:\Users\biocbuild\bbs-3.11-bioc\R\bin\R.exe CMD INSTALL TIN_1.20.0.zip && rm TIN_1.20.0.tar.gz TIN_1.20.0.zip | 
| StartedAt: 2020-10-16 17:39:39 -0400 (Fri, 16 Oct 2020) | 
| EndedAt: 2020-10-16 17:40:50 -0400 (Fri, 16 Oct 2020) | 
| EllapsedTime: 71.6 seconds | 
| RetCode: 0 | 
| Status: OK | 
##############################################################################
##############################################################################
###
### Running command:
###
###   C:\cygwin\bin\curl.exe -O https://malbec2.bioconductor.org/BBS/3.11/bioc/src/contrib/TIN_1.20.0.tar.gz && rm -rf TIN.buildbin-libdir && mkdir TIN.buildbin-libdir && C:\Users\biocbuild\bbs-3.11-bioc\R\bin\R.exe CMD INSTALL --merge-multiarch --build --library=TIN.buildbin-libdir TIN_1.20.0.tar.gz && C:\Users\biocbuild\bbs-3.11-bioc\R\bin\R.exe CMD INSTALL TIN_1.20.0.zip && rm TIN_1.20.0.tar.gz TIN_1.20.0.zip
###
##############################################################################
##############################################################################
  % Total    % Received % Xferd  Average Speed   Time    Time     Time  Current
                                 Dload  Upload   Total   Spent    Left  Speed
  0     0    0     0    0     0      0      0 --:--:-- --:--:-- --:--:--     0
100 4578k  100 4578k    0     0  44.9M      0 --:--:-- --:--:-- --:--:-- 48.6M
install for i386
* installing *source* package 'TIN' ...
** using staged installation
** R
** data
** inst
** byte-compile and prepare package for lazy loading
The following object is masked _by_ package:aroma.affymetrix:
    writeCdf
The following object is masked from package:R.utils:
    findFiles
** help
*** installing help indices
  converting help for package 'TIN'
    finding HTML links ... done
    aberrantExonUsage                       html  
    clusterPlot                             html  
    correlation                             html  
    correlationPlot                         html  
    firmaAnalysis                           html  
    geneAnnotation                          html  
    geneSetCorrelation                      html  
    geneSets                                html  
    posNegCorrPlot                          html  
    probesetPermutations                    html  
    readGeneSummaries                       html  
    sampleSetFirmaScores                    html  
    sampleSetGeneSummaries                  html  
    scatterPlot                             html  
    splicingFactors                         html  
** building package indices
** installing vignettes
** testing if installed package can be loaded from temporary location
The following object is masked _by_ package:aroma.affymetrix:
    writeCdf
The following object is masked from package:R.utils:
    findFiles
** testing if installed package can be loaded from final location
The following object is masked _by_ package:aroma.affymetrix:
    writeCdf
The following object is masked from package:R.utils:
    findFiles
** testing if installed package keeps a record of temporary installation path
install for x64
* installing *source* package 'TIN' ...
** testing if installed package can be loaded
The following object is masked _by_ package:aroma.affymetrix:
    writeCdf
The following object is masked from package:R.utils:
    findFiles
* MD5 sums
packaged installation of 'TIN' as TIN_1.20.0.zip
* DONE (TIN)
* installing to library 'C:/Users/biocbuild/bbs-3.11-bioc/R/library'
package 'TIN' successfully unpacked and MD5 sums checked