| Back to Multiple platform build/check report for BioC 3.11 | 
  | 
This page was generated on 2020-01-16 13:48:59 -0500 (Thu, 16 Jan 2020).
| Package 1711/1818 | Hostname | OS / Arch | INSTALL | BUILD | CHECK | BUILD BIN | ||||||
| TFARM 1.9.0 Liuba Nausicaa Martino 
  | malbec2 | Linux (Ubuntu 18.04.3 LTS) / x86_64 | OK | OK | OK | |||||||
| tokay2 | Windows Server 2012 R2 Standard / x64 | OK | OK | OK | NA | |||||||
| celaya2 | OS X 10.11.6 El Capitan / x86_64 | OK | [ OK ] | OK | OK | 
| Package: TFARM | 
| Version: 1.9.0 | 
| Command: /Library/Frameworks/R.framework/Versions/Current/Resources/bin/R CMD build --keep-empty-dirs --no-resave-data TFARM | 
| StartedAt: 2020-01-15 23:34:14 -0500 (Wed, 15 Jan 2020) | 
| EndedAt: 2020-01-15 23:37:10 -0500 (Wed, 15 Jan 2020) | 
| EllapsedTime: 175.7 seconds | 
| RetCode: 0 | 
| Status: OK | 
| PackageFile: TFARM_1.9.0.tar.gz | 
| PackageFileSize: 444.7 KiB | 
##############################################################################
##############################################################################
###
### Running command:
###
###   /Library/Frameworks/R.framework/Versions/Current/Resources/bin/R CMD build --keep-empty-dirs --no-resave-data TFARM
###
##############################################################################
##############################################################################
* checking for file ‘TFARM/DESCRIPTION’ ... OK
* preparing ‘TFARM’:
* checking DESCRIPTION meta-information ... OK
* installing the package to build vignettes
* creating vignettes ... OK
Warning: ‘inst/doc’ files
    ‘TFARM.Rnw’, ‘TFARM.pdf’, ‘TFARM.R’
  ignored as vignettes have been rebuilt.
  Run R CMD build with --no-build-vignettes to prevent rebuilding.
* checking for LF line-endings in source and make files and shell scripts
* checking for empty or unneeded directories
* building ‘TFARM_1.9.0.tar.gz’