| Back to Multiple platform build/check report for BioC 3.11 |
|
This page was generated on 2020-10-17 11:57:53 -0400 (Sat, 17 Oct 2020).
| TO THE DEVELOPERS/MAINTAINERS OF THE STRINGdb PACKAGE: Please make sure to use the following settings in order to reproduce any error or warning you see on this page. |
| Package 1749/1905 | Hostname | OS / Arch | INSTALL | BUILD | CHECK | BUILD BIN | ||||||
| STRINGdb 2.0.2 Damian Szklarczyk
| malbec2 | Linux (Ubuntu 18.04.4 LTS) / x86_64 | OK | OK | OK | |||||||
| tokay2 | Windows Server 2012 R2 Standard / x64 | [ OK ] | OK | OK | NA | |||||||
| machv2 | macOS 10.14.6 Mojave / x86_64 | OK | OK | OK | OK |
| Package: STRINGdb |
| Version: 2.0.2 |
| Command: C:\cygwin\bin\curl.exe -O https://malbec2.bioconductor.org/BBS/3.11/bioc/src/contrib/STRINGdb_2.0.2.tar.gz && rm -rf STRINGdb.buildbin-libdir && mkdir STRINGdb.buildbin-libdir && C:\Users\biocbuild\bbs-3.11-bioc\R\bin\R.exe CMD INSTALL --merge-multiarch --build --library=STRINGdb.buildbin-libdir STRINGdb_2.0.2.tar.gz && C:\Users\biocbuild\bbs-3.11-bioc\R\bin\R.exe CMD INSTALL STRINGdb_2.0.2.zip && rm STRINGdb_2.0.2.tar.gz STRINGdb_2.0.2.zip |
| StartedAt: 2020-10-16 17:32:03 -0400 (Fri, 16 Oct 2020) |
| EndedAt: 2020-10-16 17:32:58 -0400 (Fri, 16 Oct 2020) |
| EllapsedTime: 55.4 seconds |
| RetCode: 0 |
| Status: OK |
##############################################################################
##############################################################################
###
### Running command:
###
### C:\cygwin\bin\curl.exe -O https://malbec2.bioconductor.org/BBS/3.11/bioc/src/contrib/STRINGdb_2.0.2.tar.gz && rm -rf STRINGdb.buildbin-libdir && mkdir STRINGdb.buildbin-libdir && C:\Users\biocbuild\bbs-3.11-bioc\R\bin\R.exe CMD INSTALL --merge-multiarch --build --library=STRINGdb.buildbin-libdir STRINGdb_2.0.2.tar.gz && C:\Users\biocbuild\bbs-3.11-bioc\R\bin\R.exe CMD INSTALL STRINGdb_2.0.2.zip && rm STRINGdb_2.0.2.tar.gz STRINGdb_2.0.2.zip
###
##############################################################################
##############################################################################
% Total % Received % Xferd Average Speed Time Time Time Current
Dload Upload Total Spent Left Speed
0 0 0 0 0 0 0 0 --:--:-- --:--:-- --:--:-- 0
100 939k 100 939k 0 0 13.1M 0 --:--:-- --:--:-- --:--:-- 14.5M
install for i386
* installing *source* package 'STRINGdb' ...
** using staged installation
** R
** data
** inst
** byte-compile and prepare package for lazy loading
** help
*** installing help indices
converting help for package 'STRINGdb'
finding HTML links ... done
STRINGdb-class html
add_diff_exp_color html
add_proteins_description html
coeffOfvar html
delColDf html
diff_exp_example1 html
downloadAbsentFile html
downloadAbsentFileSTRING html
get_aliases html
get_annotations html
get_annotations_desc html
get_bioc_graph html
get_clusters html
get_enrichment html
get_graph html
get_homologs_besthits html
get_interactions html
get_link html
get_neighbors html
get_paralogs html
get_png html
get_ppi_enrichment html
get_proteins html
get_subnetwork html
get_summary html
get_term_proteins html
interactions html
load html
load_all html
map html
mp html
multi_map_df html
plot_network html
post_payload html
remove_homologous_interactions html
renameColDf html
set_background html
** building package indices
** installing vignettes
** testing if installed package can be loaded from temporary location
** testing if installed package can be loaded from final location
** testing if installed package keeps a record of temporary installation path
install for x64
* installing *source* package 'STRINGdb' ...
** testing if installed package can be loaded
* MD5 sums
packaged installation of 'STRINGdb' as STRINGdb_2.0.2.zip
* DONE (STRINGdb)
* installing to library 'C:/Users/biocbuild/bbs-3.11-bioc/R/library'
package 'STRINGdb' successfully unpacked and MD5 sums checked