| Back to Multiple platform build/check report for BioC 3.11 | 
  | 
This page was generated on 2020-10-17 11:57:46 -0400 (Sat, 17 Oct 2020).
| TO THE DEVELOPERS/MAINTAINERS OF THE SCnorm PACKAGE: Please make sure to use the following settings in order to reproduce any error or warning you see on this page. | 
| Package 1602/1905 | Hostname | OS / Arch | INSTALL | BUILD | CHECK | BUILD BIN | ||||||
| SCnorm 1.10.0 Rhonda Bacher 
  | malbec2 | Linux (Ubuntu 18.04.4 LTS) / x86_64 | OK | OK | OK | |||||||
| tokay2 | Windows Server 2012 R2 Standard / x64 | OK | OK | [ OK ] | OK | |||||||
| machv2 | macOS 10.14.6 Mojave / x86_64 | OK | OK | OK | OK | 
| Package: SCnorm | 
| Version: 1.10.0 | 
| Command: C:\Users\biocbuild\bbs-3.11-bioc\R\bin\R.exe CMD check --force-multiarch --install=check:SCnorm.install-out.txt --library=C:\Users\biocbuild\bbs-3.11-bioc\R\library --no-vignettes --timings SCnorm_1.10.0.tar.gz | 
| StartedAt: 2020-10-17 08:02:55 -0400 (Sat, 17 Oct 2020) | 
| EndedAt: 2020-10-17 08:08:10 -0400 (Sat, 17 Oct 2020) | 
| EllapsedTime: 314.4 seconds | 
| RetCode: 0 | 
| Status: OK | 
| CheckDir: SCnorm.Rcheck | 
| Warnings: 0 | 
##############################################################################
##############################################################################
###
### Running command:
###
###   C:\Users\biocbuild\bbs-3.11-bioc\R\bin\R.exe CMD check --force-multiarch --install=check:SCnorm.install-out.txt --library=C:\Users\biocbuild\bbs-3.11-bioc\R\library --no-vignettes --timings SCnorm_1.10.0.tar.gz
###
##############################################################################
##############################################################################
* using log directory 'C:/Users/biocbuild/bbs-3.11-bioc/meat/SCnorm.Rcheck'
* using R version 4.0.3 (2020-10-10)
* using platform: x86_64-w64-mingw32 (64-bit)
* using session charset: ISO8859-1
* using option '--no-vignettes'
* checking for file 'SCnorm/DESCRIPTION' ... OK
* this is package 'SCnorm' version '1.10.0'
* package encoding: UTF-8
* checking package namespace information ... OK
* checking package dependencies ... OK
* checking if this is a source package ... OK
* checking if there is a namespace ... OK
* checking for hidden files and directories ... OK
* checking for portable file names ... OK
* checking whether package 'SCnorm' can be installed ... OK
* checking installed package size ... OK
* checking package directory ... OK
* checking 'build' directory ... OK
* checking DESCRIPTION meta-information ... OK
* checking top-level files ... OK
* checking for left-over files ... OK
* checking index information ... OK
* checking package subdirectories ... OK
* checking R files for non-ASCII characters ... OK
* checking R files for syntax errors ... OK
* loading checks for arch 'i386'
** checking whether the package can be loaded ... OK
** checking whether the package can be loaded with stated dependencies ... OK
** checking whether the package can be unloaded cleanly ... OK
** checking whether the namespace can be loaded with stated dependencies ... OK
** checking whether the namespace can be unloaded cleanly ... OK
* loading checks for arch 'x64'
** checking whether the package can be loaded ... OK
** checking whether the package can be loaded with stated dependencies ... OK
** checking whether the package can be unloaded cleanly ... OK
** checking whether the namespace can be loaded with stated dependencies ... OK
** checking whether the namespace can be unloaded cleanly ... OK
* checking dependencies in R code ... OK
* checking S3 generic/method consistency ... OK
* checking replacement functions ... OK
* checking foreign function calls ... OK
* checking R code for possible problems ... OK
* checking Rd files ... OK
* checking Rd metadata ... OK
* checking Rd cross-references ... OK
* checking for missing documentation entries ... OK
* checking for code/documentation mismatches ... OK
* checking Rd \usage sections ... OK
* checking Rd contents ... OK
* checking for unstated dependencies in examples ... OK
* checking contents of 'data' directory ... OK
* checking data for non-ASCII characters ... OK
* checking data for ASCII and uncompressed saves ... OK
* checking files in 'vignettes' ... OK
* checking examples ...
** running examples for arch 'i386' ... OK
Examples with CPU (user + system) or elapsed time > 5s
          user system elapsed
getSlopes 1.59   0.09   40.43
** running examples for arch 'x64' ... OK
Examples with CPU (user + system) or elapsed time > 5s
          user system elapsed
getSlopes 1.56   0.08   38.82
* checking for unstated dependencies in vignettes ... OK
* checking package vignettes in 'inst/doc' ... OK
* checking running R code from vignettes ... SKIPPED
* checking re-building of vignette outputs ... SKIPPED
* checking PDF version of manual ... OK
* DONE
Status: OK
SCnorm.Rcheck/00install.out
##############################################################################
##############################################################################
###
### Running command:
###
###   C:\cygwin\bin\curl.exe -O https://malbec2.bioconductor.org/BBS/3.11/bioc/src/contrib/SCnorm_1.10.0.tar.gz && rm -rf SCnorm.buildbin-libdir && mkdir SCnorm.buildbin-libdir && C:\Users\biocbuild\bbs-3.11-bioc\R\bin\R.exe CMD INSTALL --merge-multiarch --build --library=SCnorm.buildbin-libdir SCnorm_1.10.0.tar.gz && C:\Users\biocbuild\bbs-3.11-bioc\R\bin\R.exe CMD INSTALL SCnorm_1.10.0.zip && rm SCnorm_1.10.0.tar.gz SCnorm_1.10.0.zip
###
##############################################################################
##############################################################################
  % Total    % Received % Xferd  Average Speed   Time    Time     Time  Current
                                 Dload  Upload   Total   Spent    Left  Speed
  0     0    0     0    0     0      0      0 --:--:-- --:--:-- --:--:--     0
100 2811k  100 2811k    0     0  16.4M      0 --:--:-- --:--:-- --:--:-- 17.1M
install for i386
* installing *source* package 'SCnorm' ...
** using staged installation
** R
** data
*** moving datasets to lazyload DB
** inst
** byte-compile and prepare package for lazy loading
** help
*** installing help indices
  converting help for package 'SCnorm'
    finding HTML links ... done
    ExampleSimSCData                        html  
    GetTD                                   html  
    SCnorm                                  html  
    SCnormFit                               html  
    correctWithin                           html  
    evaluateK                               html  
    generateEvalPlot                        html  
    getCounts                               html  
    getDens                                 html  
    getSlopes                               html  
    normWrapper                             html  
    plotCountDepth                          html  
    plotWithinFactor                        html  
    quickReg                                html  
    redoBox                                 html  
    results                                 html  
    scaleNormMultCont                       html  
    splitGroups                             html  
** building package indices
** installing vignettes
** testing if installed package can be loaded from temporary location
** testing if installed package can be loaded from final location
** testing if installed package keeps a record of temporary installation path
install for x64
* installing *source* package 'SCnorm' ...
** testing if installed package can be loaded
* MD5 sums
packaged installation of 'SCnorm' as SCnorm_1.10.0.zip
* DONE (SCnorm)
* installing to library 'C:/Users/biocbuild/bbs-3.11-bioc/R/library'
package 'SCnorm' successfully unpacked and MD5 sums checked
| 
 SCnorm.Rcheck/examples_i386/SCnorm-Ex.timings 
  | 
 SCnorm.Rcheck/examples_x64/SCnorm-Ex.timings 
  |