| Back to Multiple platform build/check report for BioC 3.11 |
|
This page was generated on 2020-10-17 11:57:40 -0400 (Sat, 17 Oct 2020).
| TO THE DEVELOPERS/MAINTAINERS OF THE Rnits PACKAGE: Please make sure to use the following settings in order to reproduce any error or warning you see on this page. |
| Package 1519/1905 | Hostname | OS / Arch | INSTALL | BUILD | CHECK | BUILD BIN | ||||||
| Rnits 1.22.0 Dipen P. Sangurdekar
| malbec2 | Linux (Ubuntu 18.04.4 LTS) / x86_64 | OK | OK | WARNINGS | |||||||
| tokay2 | Windows Server 2012 R2 Standard / x64 | OK | OK | WARNINGS | [ OK ] | |||||||
| machv2 | macOS 10.14.6 Mojave / x86_64 | OK | OK | WARNINGS | OK |
| Package: Rnits |
| Version: 1.22.0 |
| Command: rm -rf Rnits.buildbin-libdir && mkdir Rnits.buildbin-libdir && C:\Users\biocbuild\bbs-3.11-bioc\R\bin\R.exe CMD INSTALL --merge-multiarch --build --library=Rnits.buildbin-libdir Rnits_1.22.0.tar.gz |
| StartedAt: 2020-10-17 11:30:45 -0400 (Sat, 17 Oct 2020) |
| EndedAt: 2020-10-17 11:31:06 -0400 (Sat, 17 Oct 2020) |
| EllapsedTime: 21.5 seconds |
| RetCode: 0 |
| Status: OK |
| PackageFile: Rnits_1.22.0.zip |
| PackageFileSize: 911.3 KiB |
##############################################################################
##############################################################################
###
### Running command:
###
### rm -rf Rnits.buildbin-libdir && mkdir Rnits.buildbin-libdir && C:\Users\biocbuild\bbs-3.11-bioc\R\bin\R.exe CMD INSTALL --merge-multiarch --build --library=Rnits.buildbin-libdir Rnits_1.22.0.tar.gz
###
##############################################################################
##############################################################################
install for i386
* installing *source* package 'Rnits' ...
** using staged installation
** R
** data
*** moving datasets to lazyload DB
** inst
** byte-compile and prepare package for lazy loading
** help
*** installing help indices
converting help for package 'Rnits'
finding HTML links ... done
Rnits-class html
build.Rnits html
finding level-2 HTML links ... done
calculateGCV-methods html
extract-methods html
fit-methods html
getCID-methods html
getFitModel-methods html
getLR-methods html
getNormTwoChannel-methods html
getPval-methods html
getStat-methods html
plotResults-methods html
rnits html
summarizeProbes-methods html
summary-methods html
timeAlign-methods html
topData-methods html
yeastchemostat html
** building package indices
** installing vignettes
** testing if installed package can be loaded from temporary location
** testing if installed package can be loaded from final location
** testing if installed package keeps a record of temporary installation path
install for x64
* installing *source* package 'Rnits' ...
** testing if installed package can be loaded
* MD5 sums
packaged installation of 'Rnits' as Rnits_1.22.0.zip
* DONE (Rnits)