| 
 RnBeads.Rcheck/tests_i386/runTests.Rout 
R version 4.0.3 (2020-10-10) -- "Bunny-Wunnies Freak Out"
Copyright (C) 2020 The R Foundation for Statistical Computing
Platform: i386-w64-mingw32/i386 (32-bit)
R is free software and comes with ABSOLUTELY NO WARRANTY.
You are welcome to redistribute it under certain conditions.
Type 'license()' or 'licence()' for distribution details.
R is a collaborative project with many contributors.
Type 'contributors()' for more information and
'citation()' on how to cite R or R packages in publications.
Type 'demo()' for some demos, 'help()' for on-line help, or
'help.start()' for an HTML browser interface to help.
Type 'q()' to quit R.
> BiocGenerics:::testPackage("RnBeads")
Attaching package: 'BiocGenerics'
The following objects are masked from 'package:parallel':
    clusterApply, clusterApplyLB, clusterCall, clusterEvalQ,
    clusterExport, clusterMap, parApply, parCapply, parLapply,
    parLapplyLB, parRapply, parSapply, parSapplyLB
The following objects are masked from 'package:stats':
    IQR, mad, sd, var, xtabs
The following objects are masked from 'package:base':
    Filter, Find, Map, Position, Reduce, anyDuplicated, append,
    as.data.frame, basename, cbind, colnames, dirname, do.call,
    duplicated, eval, evalq, get, grep, grepl, intersect, is.unsorted,
    lapply, mapply, match, mget, order, paste, pmax, pmax.int, pmin,
    pmin.int, rank, rbind, rownames, sapply, setdiff, sort, table,
    tapply, union, unique, unsplit, which, which.max, which.min
Attaching package: 'S4Vectors'
The following object is masked from 'package:base':
    expand.grid
Attaching package: 'IRanges'
The following object is masked from 'package:grDevices':
    windows
Attaching package: 'bit'
The following object is masked from 'package:base':
    xor
Attaching package ff
- getOption("fftempdir")=="C:/Users/biocbuild/bbs-3.11-bioc/tmpdir/Rtmp4MUazo/ff"
- getOption("ffextension")=="ff"
- getOption("ffdrop")==TRUE
- getOption("fffinonexit")==TRUE
- getOption("ffpagesize")==65536
- getOption("ffcaching")=="mmnoflush"  -- consider "ffeachflush" if your system stalls on large writes
- getOption("ffbatchbytes")==37570478.08 -- consider a different value for tuning your system
- getOption("ffmaxbytes")==1878523904 -- consider a different value for tuning your system
Attaching package: 'ff'
The following objects are masked from 'package:utils':
    write.csv, write.csv2
The following objects are masked from 'package:base':
    is.factor, is.ordered
Spam version 2.5-1 (2019-12-12) is loaded.
Type 'help( Spam)' or 'demo( spam)' for a short introduction 
and overview of this package.
Help for individual functions is also obtained by adding the
suffix '.spam' to the function name, e.g. 'help( chol.spam)'.
Attaching package: 'spam'
The following object is masked from 'package:stats4':
    mle
The following objects are masked from 'package:base':
    backsolve, forwardsolve
See https://github.com/NCAR/Fields for
 an extensive vignette, other supplements and source code 
Attaching package: 'gplots'
The following object is masked from 'package:IRanges':
    space
The following object is masked from 'package:S4Vectors':
    space
The following object is masked from 'package:stats':
    lowess
Attaching package: 'gridExtra'
The following object is masked from 'package:BiocGenerics':
    combine
Attaching package: 'limma'
The following object is masked from 'package:BiocGenerics':
    plotMA
Welcome to Bioconductor
    Vignettes contain introductory material; view with
    'browseVignettes()'. To cite Bioconductor, see
    'citation("Biobase")', and for packages 'citation("pkgname")'.
Attaching package: 'Biobase'
The following objects are masked from 'package:matrixStats':
    anyMissing, rowMedians
Attaching package: 'AnnotationDbi'
The following object is masked from 'package:MASS':
    select
Attaching package: 'DelayedArray'
The following objects are masked from 'package:matrixStats':
    colMaxs, colMins, colRanges, rowMaxs, rowMins, rowRanges
The following object is masked from 'package:ff':
    maxlength
The following objects are masked from 'package:base':
    aperm, apply, rowsum
Attaching package: 'Biostrings'
The following objects are masked from 'package:ff':
    mismatch, pattern
The following object is masked from 'package:base':
    strsplit
locfit 1.5-9.4 	 2020-03-24
Setting options('download.file.method.GEOquery'='auto')
Setting options('GEOquery.inmemory.gpl'=FALSE)
Attaching package: 'plyr'
The following object is masked from 'package:XVector':
    compact
The following object is masked from 'package:matrixStats':
    count
The following object is masked from 'package:IRanges':
    desc
The following object is masked from 'package:S4Vectors':
    rename
2020-10-17 07:54:09     0.4  STATUS STARTED Unit testing: differential
2020-10-17 07:54:09     0.4  STATUS     STARTED Testing function: rowWelchP
Loading required package: RnBeads.hg19
2020-10-17 07:54:09     0.4  STATUS     COMPLETED Testing function: rowWelchP
2020-10-17 07:54:09     0.4  STATUS     STARTED Testing function: limmaP
2020-10-17 07:54:09     0.4  STATUS     COMPLETED Testing function: limmaP
2020-10-17 07:54:09     0.4  STATUS     STARTED Testing function: computeDiffTab.extended.site
2020-10-17 07:54:09     0.4    INFO         Conducting differential analysis using limma
2020-10-17 07:54:10     0.4  STATUS     COMPLETED Testing function: computeDiffTab.extended.site
2020-10-17 07:54:10     0.4  STATUS     STARTED Testing function: computeDiffTab.default.region
2020-10-17 07:54:10     0.4    INFO         Conducting differential analysis using limma
2020-10-17 07:54:20     0.6  STATUS     COMPLETED Testing function: computeDiffTab.default.region
2020-10-17 07:54:20     0.6  STATUS     STARTED Testing function: combineTestPvalsMeth
2020-10-17 07:54:20     0.6  STATUS     COMPLETED Testing function: combineTestPvalsMeth
2020-10-17 07:54:20     0.6  STATUS     STARTED Testing function: get.adjustment.variables
2020-10-17 07:54:20     0.6  STATUS     COMPLETED Testing function: get.adjustment.variables
2020-10-17 07:54:20     0.6  STATUS     STARTED Testing function: get.comparison.info
2020-10-17 07:54:20     0.6  STATUS     COMPLETED Testing function: get.comparison.info
2020-10-17 07:54:20     0.6  STATUS     STARTED Testing function: rnb.execute.computeDiffMeth
2020-10-17 07:54:20     0.6  STATUS         STARTED Retrieving comparison info
2020-10-17 07:54:20     0.6  STATUS         COMPLETED Retrieving comparison info
2020-10-17 07:54:20     0.6  STATUS         STARTED Computing differential methylation tables
2020-10-17 07:54:20     0.6  STATUS             STARTED Comparing: hESC vs. hiPSC (based on Sample_Group)
2020-10-17 07:54:20     0.6  STATUS                 STARTED Computing Differential Methylation Table
2020-10-17 07:54:20     0.6    INFO                     Conducting differential analysis using limma
2020-10-17 07:54:21     0.6  STATUS                 COMPLETED Computing Differential Methylation Table
2020-10-17 07:54:21     0.7  STATUS                 STARTED Computing Differential Methylation Tables (Region Level)
2020-10-17 07:54:22     0.7  STATUS                     Computed table for tiling
2020-10-17 07:54:22     0.7  STATUS                     Computed table for genes
2020-10-17 07:54:23     0.7  STATUS                     Computed table for promoters
2020-10-17 07:54:23     0.7  STATUS                     Computed table for cpgislands
2020-10-17 07:54:23     0.7  STATUS                 COMPLETED Computing Differential Methylation Tables (Region Level)
2020-10-17 07:54:24     0.7  STATUS             COMPLETED Comparing: hESC vs. hiPSC (based on Sample_Group)
2020-10-17 07:54:24     0.7  STATUS             STARTED Comparing: KOSR vs. TeSR (based on Treatment)
2020-10-17 07:54:24     0.7  STATUS                 STARTED Computing Differential Methylation Table
2020-10-17 07:54:24     0.7    INFO                     Conducting differential analysis using limma
2020-10-17 07:54:24     0.7  STATUS                 COMPLETED Computing Differential Methylation Table
2020-10-17 07:54:24     0.7  STATUS                 STARTED Computing Differential Methylation Tables (Region Level)
2020-10-17 07:54:24     0.7  STATUS                     Computed table for tiling
2020-10-17 07:54:25     0.7  STATUS                     Computed table for genes
2020-10-17 07:54:25     0.7  STATUS                     Computed table for promoters
2020-10-17 07:54:25     0.7  STATUS                     Computed table for cpgislands
2020-10-17 07:54:25     0.7  STATUS                 COMPLETED Computing Differential Methylation Tables (Region Level)
2020-10-17 07:54:25     0.7  STATUS             COMPLETED Comparing: KOSR vs. TeSR (based on Treatment)
2020-10-17 07:54:26     0.7  STATUS         COMPLETED Computing differential methylation tables
2020-10-17 07:54:26     0.7  STATUS     COMPLETED Testing function: rnb.execute.computeDiffMeth
2020-10-17 07:54:26     0.7  STATUS     STARTED Testing function: diffVar
2020-10-17 07:54:26     0.7  STATUS         STARTED diffVar method
2020-10-17 07:55:28     2.8  STATUS         COMPLETED diffVar method
2020-10-17 07:55:29     2.8  STATUS         STARTED diffVar method
Coefficients not estimable: x2x2 
2020-10-17 07:55:29     2.8  STATUS         COMPLETED diffVar method
2020-10-17 07:55:29     2.8  STATUS     COMPLETED Testing function: diffVar
2020-10-17 07:55:30     2.8  STATUS     STARTED Testing function: apply.iEVORA
2020-10-17 07:55:30     2.8  STATUS         STARTED iEVORA method
2020-10-17 07:55:31     2.9    INFO             No DVCs detected. All p-values set to 1.
2020-10-17 07:55:31     2.9  STATUS         COMPLETED iEVORA method
2020-10-17 07:55:32     2.9  STATUS         STARTED Testing function: rnb.execute.diffVar
2020-10-17 07:55:32     2.9  STATUS             STARTED Differential Variability
2020-10-17 07:55:32     2.9  STATUS                 STARTED Retrieving comparison info
2020-10-17 07:55:32     2.9  STATUS                 COMPLETED Retrieving comparison info
2020-10-17 07:55:32     2.9    INFO                 No imputation method selected, 'knn' method used.
2020-10-17 07:55:32     2.9  STATUS                 STARTED Imputation procedure knn 
2020-10-17 07:55:32     2.9  STATUS                 COMPLETED Imputation procedure knn 
2020-10-17 07:55:32     2.9  STATUS                 STARTED Comparing  hESC vs. hiPSC (based on Sample_Group)
2020-10-17 07:55:33     2.9    INFO                     Conducting differential variability using diffVar
2020-10-17 07:55:33     2.9  STATUS                     STARTED diffVar method
2020-10-17 07:55:33     2.9  STATUS                     COMPLETED diffVar method
2020-10-17 07:55:33     2.9  STATUS                     STARTED Computing Differential Variability Tables (Region Level)
2020-10-17 07:55:34     3.0  STATUS                         Computed table for tiling
2020-10-17 07:55:35     3.0  STATUS                         Computed table for genes
2020-10-17 07:55:36     3.1  STATUS                         Computed table for promoters
2020-10-17 07:55:37     2.8  STATUS                         Computed table for cpgislands
2020-10-17 07:55:37     2.8  STATUS                     COMPLETED Computing Differential Variability Tables (Region Level)
2020-10-17 07:55:37     2.8  STATUS                 COMPLETED Comparing  hESC vs. hiPSC (based on Sample_Group)
2020-10-17 07:55:37     2.8  STATUS                 STARTED Comparing  KOSR vs. TeSR (based on Treatment)
2020-10-17 07:55:37     2.8    INFO                     Conducting differential variability using diffVar
2020-10-17 07:55:37     2.8  STATUS                     STARTED diffVar method
2020-10-17 07:55:38     2.8  STATUS                     COMPLETED diffVar method
2020-10-17 07:55:38     2.8  STATUS                     STARTED Computing Differential Variability Tables (Region Level)
2020-10-17 07:55:38     2.8  STATUS                         Computed table for tiling
2020-10-17 07:55:38     2.8  STATUS                         Computed table for genes
2020-10-17 07:55:39     2.8  STATUS                         Computed table for promoters
2020-10-17 07:55:39     2.8  STATUS                         Computed table for cpgislands
2020-10-17 07:55:39     2.8  STATUS                     COMPLETED Computing Differential Variability Tables (Region Level)
2020-10-17 07:55:39     2.8  STATUS                 COMPLETED Comparing  KOSR vs. TeSR (based on Treatment)
2020-10-17 07:55:39     2.8  STATUS             COMPLETED Differential Variability
2020-10-17 07:55:39     2.8  STATUS         COMPLETED Testing function: rnb.execute.diffVar
2020-10-17 07:55:40     2.8  STATUS         STARTED Testing function: rnb.execute.computeDiffMeth and Variability
2020-10-17 07:55:40     2.8  STATUS             STARTED Retrieving comparison info
2020-10-17 07:55:40     2.8  STATUS             COMPLETED Retrieving comparison info
2020-10-17 07:55:40     2.8  STATUS             STARTED Computing differential methylation tables
2020-10-17 07:55:40     2.8  STATUS                 STARTED Comparing: hESC vs. hiPSC (based on Sample_Group)
2020-10-17 07:55:40     2.8  STATUS                     STARTED Computing Differential Methylation Table
2020-10-17 07:55:40     2.8    INFO                         Conducting differential analysis using limma
2020-10-17 07:55:40     2.8  STATUS                         STARTED Imputation procedure knn 
2020-10-17 07:55:40     2.8  STATUS                         COMPLETED Imputation procedure knn 
2020-10-17 07:55:40     2.8    INFO                         Conducting differential variability using diffVar
2020-10-17 07:55:41     2.8  STATUS                         STARTED diffVar method
2020-10-17 07:55:41     2.8  STATUS                         COMPLETED diffVar method
2020-10-17 07:55:41     2.8  STATUS                     COMPLETED Computing Differential Methylation Table
2020-10-17 07:55:41     2.8  STATUS                     STARTED Computing Differential Methylation Tables (Region Level)
2020-10-17 07:55:42     2.8  STATUS                         Computed table for tiling
2020-10-17 07:55:43     2.8  STATUS                         Computed table for genes
2020-10-17 07:55:43     2.8  STATUS                         Computed table for promoters
2020-10-17 07:55:44     2.8  STATUS                         Computed table for cpgislands
2020-10-17 07:55:44     2.8  STATUS                     COMPLETED Computing Differential Methylation Tables (Region Level)
2020-10-17 07:55:44     2.8  STATUS                 COMPLETED Comparing: hESC vs. hiPSC (based on Sample_Group)
2020-10-17 07:55:44     2.8  STATUS                 STARTED Comparing: KOSR vs. TeSR (based on Treatment)
2020-10-17 07:55:44     2.8  STATUS                     STARTED Computing Differential Methylation Table
2020-10-17 07:55:44     2.8    INFO                         Conducting differential analysis using limma
2020-10-17 07:55:44     2.8  STATUS                         STARTED Imputation procedure knn 
2020-10-17 07:55:44     2.8  STATUS                         COMPLETED Imputation procedure knn 
2020-10-17 07:55:44     2.8    INFO                         Conducting differential variability using diffVar
2020-10-17 07:55:44     2.8  STATUS                         STARTED diffVar method
2020-10-17 07:55:45     2.8  STATUS                         COMPLETED diffVar method
2020-10-17 07:55:45     2.8  STATUS                     COMPLETED Computing Differential Methylation Table
2020-10-17 07:55:45     2.8  STATUS                     STARTED Computing Differential Methylation Tables (Region Level)
2020-10-17 07:55:45     2.8  STATUS                         Computed table for tiling
2020-10-17 07:55:47     2.8  STATUS                         Computed table for genes
2020-10-17 07:55:47     2.8  STATUS                         Computed table for promoters
2020-10-17 07:55:47     2.8  STATUS                         Computed table for cpgislands
2020-10-17 07:55:48     2.8  STATUS                     COMPLETED Computing Differential Methylation Tables (Region Level)
2020-10-17 07:55:48     2.8  STATUS                 COMPLETED Comparing: KOSR vs. TeSR (based on Treatment)
2020-10-17 07:55:48     2.8  STATUS             COMPLETED Computing differential methylation tables
2020-10-17 07:55:48     2.8  STATUS         COMPLETED Testing function: rnb.execute.computeDiffMeth and Variability
2020-10-17 07:55:48     2.8  STATUS         STARTED Testing class: RnBDiffMeth
2020-10-17 07:55:48     2.8  STATUS             STARTED Retrieving comparison info
2020-10-17 07:55:48     2.8  STATUS             COMPLETED Retrieving comparison info
2020-10-17 07:55:48     2.8  STATUS             STARTED Computing differential methylation tables
2020-10-17 07:55:49     2.8  STATUS                 STARTED Comparing: hESC vs. hiPSC (based on Sample_Group)
2020-10-17 07:55:49     2.8  STATUS                     STARTED Computing Differential Methylation Table
2020-10-17 07:55:49     2.8    INFO                         Conducting differential analysis using limma
2020-10-17 07:55:49     2.8  STATUS                     COMPLETED Computing Differential Methylation Table
2020-10-17 07:55:49     2.8  STATUS                     STARTED Computing Differential Methylation Tables (Region Level)
2020-10-17 07:55:50     2.8  STATUS                         Computed table for tiling
2020-10-17 07:55:50     2.8  STATUS                         Computed table for genes
2020-10-17 07:55:50     2.8  STATUS                         Computed table for promoters
2020-10-17 07:55:51     2.8  STATUS                         Computed table for cpgislands
2020-10-17 07:55:51     2.8  STATUS                     COMPLETED Computing Differential Methylation Tables (Region Level)
2020-10-17 07:55:51     2.8  STATUS                 COMPLETED Comparing: hESC vs. hiPSC (based on Sample_Group)
2020-10-17 07:55:52     2.8  STATUS                 STARTED Comparing: KOSR vs. TeSR (based on Treatment)
2020-10-17 07:55:52     2.8  STATUS                     STARTED Computing Differential Methylation Table
2020-10-17 07:55:52     2.8    INFO                         Conducting differential analysis using limma
2020-10-17 07:55:52     2.8  STATUS                     COMPLETED Computing Differential Methylation Table
2020-10-17 07:55:52     2.8  STATUS                     STARTED Computing Differential Methylation Tables (Region Level)
2020-10-17 07:55:52     2.8  STATUS                         Computed table for tiling
2020-10-17 07:55:53     2.8  STATUS                         Computed table for genes
2020-10-17 07:55:53     2.8  STATUS                         Computed table for promoters
2020-10-17 07:55:53     2.8  STATUS                         Computed table for cpgislands
2020-10-17 07:55:53     2.8  STATUS                     COMPLETED Computing Differential Methylation Tables (Region Level)
2020-10-17 07:55:54     2.8  STATUS                 COMPLETED Comparing: KOSR vs. TeSR (based on Treatment)
2020-10-17 07:55:54     2.8  STATUS             COMPLETED Computing differential methylation tables
2020-10-17 07:55:54     2.8  STATUS             STARTED Retrieving comparison info
2020-10-17 07:55:54     2.8  STATUS             COMPLETED Retrieving comparison info
2020-10-17 07:55:54     2.8  STATUS             STARTED Computing differential methylation tables
2020-10-17 07:55:54     2.8  STATUS                 STARTED Comparing: hESC vs. hiPSC (based on Sample_Group)
2020-10-17 07:55:54     2.8  STATUS                     STARTED Computing Differential Methylation Table
2020-10-17 07:55:54     2.8    INFO                         Conducting differential analysis using limma
2020-10-17 07:55:54     2.8  STATUS                     COMPLETED Computing Differential Methylation Table
2020-10-17 07:55:55     2.8  STATUS                     STARTED Computing Differential Methylation Tables (Region Level)
2020-10-17 07:55:55     2.8  STATUS                         Computed table for genes
2020-10-17 07:55:57     2.8  STATUS                         Computed table for tiling
2020-10-17 07:55:57     2.8  STATUS                     COMPLETED Computing Differential Methylation Tables (Region Level)
2020-10-17 07:55:57     2.8  STATUS                 COMPLETED Comparing: hESC vs. hiPSC (based on Sample_Group)
2020-10-17 07:55:57     2.8  STATUS             COMPLETED Computing differential methylation tables
2020-10-17 07:55:57     2.8  STATUS             STARTED Retrieving comparison info
2020-10-17 07:55:57     2.8  STATUS             COMPLETED Retrieving comparison info
2020-10-17 07:55:57     2.8  STATUS             STARTED Computing differential methylation tables
2020-10-17 07:55:57     2.8  STATUS                 STARTED Comparing: hESC vs. hiPSC (based on Sample_Group)
2020-10-17 07:55:57     2.8  STATUS                     STARTED Computing Differential Methylation Table
2020-10-17 07:55:58     2.8    INFO                         Conducting differential analysis using limma
2020-10-17 07:55:58     2.8  STATUS                     COMPLETED Computing Differential Methylation Table
2020-10-17 07:55:58     2.8  STATUS                     STARTED Computing Differential Methylation Tables (Region Level)
2020-10-17 07:55:58     2.8  STATUS                         Computed table for genes
2020-10-17 07:55:59     2.8  STATUS                         Computed table for tiling
2020-10-17 07:55:59     2.8  STATUS                     COMPLETED Computing Differential Methylation Tables (Region Level)
2020-10-17 07:55:59     2.8  STATUS                 COMPLETED Comparing: hESC vs. hiPSC (based on Sample_Group)
2020-10-17 07:55:59     2.8  STATUS             COMPLETED Computing differential methylation tables
2020-10-17 07:55:59     2.8  STATUS             STARTED Retrieving comparison info
2020-10-17 07:55:59     2.8  STATUS             COMPLETED Retrieving comparison info
2020-10-17 07:55:59     2.8  STATUS             STARTED Computing differential methylation tables
2020-10-17 07:55:59     2.8  STATUS                 STARTED Comparing: hESC vs. hiPSC (based on Sample_Group)
2020-10-17 07:55:59     2.8  STATUS                     STARTED Computing Differential Methylation Table
2020-10-17 07:55:59     2.8    INFO                         Conducting differential analysis using limma
2020-10-17 07:56:00     2.8  STATUS                     COMPLETED Computing Differential Methylation Table
2020-10-17 07:56:00     2.8  STATUS                     STARTED Computing Differential Methylation Tables (Region Level)
2020-10-17 07:56:00     2.8  STATUS                         Computed table for promoters
2020-10-17 07:56:00     2.8  STATUS                     COMPLETED Computing Differential Methylation Tables (Region Level)
2020-10-17 07:56:00     2.8  STATUS                 COMPLETED Comparing: hESC vs. hiPSC (based on Sample_Group)
2020-10-17 07:56:00     2.8  STATUS                 STARTED Comparing: KOSR vs. TeSR (based on Treatment)
2020-10-17 07:56:00     2.8  STATUS                     STARTED Computing Differential Methylation Table
2020-10-17 07:56:00     2.8    INFO                         Conducting differential analysis using limma
2020-10-17 07:56:01     2.8  STATUS                     COMPLETED Computing Differential Methylation Table
2020-10-17 07:56:01     2.8  STATUS                     STARTED Computing Differential Methylation Tables (Region Level)
2020-10-17 07:56:01     2.8  STATUS                         Computed table for promoters
2020-10-17 07:56:01     2.8  STATUS                     COMPLETED Computing Differential Methylation Tables (Region Level)
2020-10-17 07:56:01     2.8  STATUS                 COMPLETED Comparing: KOSR vs. TeSR (based on Treatment)
2020-10-17 07:56:01     2.8  STATUS             COMPLETED Computing differential methylation tables
2020-10-17 07:56:01     2.8  STATUS             STARTED Retrieving comparison info
2020-10-17 07:56:01     2.8  STATUS             COMPLETED Retrieving comparison info
2020-10-17 07:56:02     2.8  STATUS             STARTED Computing differential methylation tables
2020-10-17 07:56:02     2.8  STATUS                 STARTED Comparing: KOSR vs. TeSR (based on Treatment)
2020-10-17 07:56:02     2.8  STATUS                     STARTED Computing Differential Methylation Table
2020-10-17 07:56:02     2.8    INFO                         Conducting differential analysis using limma
2020-10-17 07:56:02     2.8  STATUS                     COMPLETED Computing Differential Methylation Table
2020-10-17 07:56:02     2.8  STATUS                     STARTED Computing Differential Methylation Tables (Region Level)
2020-10-17 07:56:02     2.8  STATUS                         Computed table for genes
2020-10-17 07:56:04     2.8  STATUS                         Computed table for tiling
2020-10-17 07:56:04     2.8  STATUS                     COMPLETED Computing Differential Methylation Tables (Region Level)
2020-10-17 07:56:04     2.8  STATUS                 COMPLETED Comparing: KOSR vs. TeSR (based on Treatment)
2020-10-17 07:56:04     2.8  STATUS             COMPLETED Computing differential methylation tables
2020-10-17 07:56:04     2.8  STATUS             STARTED Testing function: get.region.types
2020-10-17 07:56:04     2.8  STATUS             COMPLETED Testing function: get.region.types
2020-10-17 07:56:04     2.8  STATUS             STARTED Testing function: get.comparisons
2020-10-17 07:56:05     2.8  STATUS             COMPLETED Testing function: get.comparisons
2020-10-17 07:56:05     2.8  STATUS             STARTED Testing function: get.comparison.grouplabels
2020-10-17 07:56:05     2.8  STATUS             COMPLETED Testing function: get.comparison.grouplabels
2020-10-17 07:56:05     2.8  STATUS             STARTED Testing function: get.site.test.method
2020-10-17 07:56:05     2.8  STATUS             COMPLETED Testing function: get.site.test.method
2020-10-17 07:56:05     2.8  STATUS             STARTED Testing function: get.table
2020-10-17 07:56:05     2.8  STATUS             COMPLETED Testing function: get.table
2020-10-17 07:56:05     2.8  STATUS             STARTED Testing function: addDiffMethTable
2020-10-17 07:56:05     2.8    INFO                 Conducting differential analysis using limma
2020-10-17 07:56:06     2.8  STATUS             COMPLETED Testing function: addDiffMethTable
2020-10-17 07:56:06     2.8  STATUS             STARTED Testing functions: join.diffMeth, is.valid
2020-10-17 07:56:06     2.8  STATUS             COMPLETED Testing functions: join.diffMeth, is.valid
2020-10-17 07:56:06     2.8  STATUS             STARTED Destructor
2020-10-17 07:56:06     2.8  STATUS                 STARTED Deleting RnBDiffMeth disk dump files from disk
2020-10-17 07:56:06     2.8  STATUS                 COMPLETED Deleting RnBDiffMeth disk dump files from disk
2020-10-17 07:56:06     2.8  STATUS                 STARTED Deleting RnBDiffMeth disk dump files from disk
2020-10-17 07:56:06     2.8  STATUS                 COMPLETED Deleting RnBDiffMeth disk dump files from disk
2020-10-17 07:56:06     2.8  STATUS                 STARTED Deleting RnBDiffMeth disk dump files from disk
2020-10-17 07:56:07     2.8  STATUS                 COMPLETED Deleting RnBDiffMeth disk dump files from disk
2020-10-17 07:56:07     2.8  STATUS                 STARTED Deleting RnBDiffMeth disk dump files from disk
2020-10-17 07:56:07     2.8  STATUS                 COMPLETED Deleting RnBDiffMeth disk dump files from disk
2020-10-17 07:56:07     2.8  STATUS             COMPLETED Destructor
2020-10-17 07:56:07     2.8  STATUS         COMPLETED Testing class: RnBDiffMeth
2020-10-17 07:56:07     2.8  STATUS     COMPLETED Testing function: apply.iEVORA
2020-10-17 07:56:07     2.8  STATUS     STARTED Retrieving comparison info
2020-10-17 07:56:07     2.8  STATUS     COMPLETED Retrieving comparison info
2020-10-17 07:56:07     2.8  STATUS     STARTED Computing differential methylation tables
2020-10-17 07:56:08     2.8  STATUS         STARTED Comparing: hESC vs. hiPSC (based on Sample_Group)
2020-10-17 07:56:08     2.8  STATUS             STARTED Computing Differential Methylation Table
2020-10-17 07:56:08     2.8    INFO                 Conducting differential analysis using limma
2020-10-17 07:56:08     2.8  STATUS             COMPLETED Computing Differential Methylation Table
2020-10-17 07:56:08     2.8  STATUS             STARTED Computing Differential Methylation Tables (Region Level)
2020-10-17 07:56:08     2.8  STATUS                 Computed table for tiling
2020-10-17 07:56:09     2.8  STATUS                 Computed table for genes
2020-10-17 07:56:09     2.8  STATUS                 Computed table for promoters
2020-10-17 07:56:09     2.8  STATUS                 Computed table for cpgislands
2020-10-17 07:56:09     2.8  STATUS             COMPLETED Computing Differential Methylation Tables (Region Level)
2020-10-17 07:56:10     2.8  STATUS         COMPLETED Comparing: hESC vs. hiPSC (based on Sample_Group)
2020-10-17 07:56:10     2.8  STATUS         STARTED Comparing: KOSR vs. TeSR (based on Treatment)
2020-10-17 07:56:10     2.8  STATUS             STARTED Computing Differential Methylation Table
2020-10-17 07:56:10     2.8    INFO                 Conducting differential analysis using limma
2020-10-17 07:56:10     2.8  STATUS             COMPLETED Computing Differential Methylation Table
2020-10-17 07:56:10     2.8  STATUS             STARTED Computing Differential Methylation Tables (Region Level)
2020-10-17 07:56:11     2.8  STATUS                 Computed table for tiling
2020-10-17 07:56:12     2.8  STATUS                 Computed table for genes
2020-10-17 07:56:12     2.8  STATUS                 Computed table for promoters
2020-10-17 07:56:12     2.8  STATUS                 Computed table for cpgislands
2020-10-17 07:56:12     2.8  STATUS             COMPLETED Computing Differential Methylation Tables (Region Level)
2020-10-17 07:56:12     2.8  STATUS         COMPLETED Comparing: KOSR vs. TeSR (based on Treatment)
2020-10-17 07:56:13     2.8  STATUS     COMPLETED Computing differential methylation tables
2020-10-17 07:56:13     2.8  STATUS     STARTED Retrieving comparison info
2020-10-17 07:56:13     2.8  STATUS     COMPLETED Retrieving comparison info
2020-10-17 07:56:13     2.8  STATUS     STARTED Computing differential methylation tables
2020-10-17 07:56:13     2.8  STATUS         STARTED Comparing: hESC vs. hiPSC (based on Sample_Group)
2020-10-17 07:56:13     2.8  STATUS             STARTED Computing Differential Methylation Table
2020-10-17 07:56:13     2.8    INFO                 Conducting differential analysis using limma
2020-10-17 07:56:13     2.8  STATUS             COMPLETED Computing Differential Methylation Table
2020-10-17 07:56:13     2.8  STATUS             STARTED Computing Differential Methylation Tables (Region Level)
2020-10-17 07:56:14     2.8  STATUS                 Computed table for genes
2020-10-17 07:56:14     2.8  STATUS                 Computed table for tiling
2020-10-17 07:56:14     2.8  STATUS             COMPLETED Computing Differential Methylation Tables (Region Level)
2020-10-17 07:56:14     2.8  STATUS         COMPLETED Comparing: hESC vs. hiPSC (based on Sample_Group)
2020-10-17 07:56:14     2.8  STATUS     COMPLETED Computing differential methylation tables
2020-10-17 07:56:15     2.8  STATUS     STARTED Retrieving comparison info
2020-10-17 07:56:15     2.8  STATUS     COMPLETED Retrieving comparison info
2020-10-17 07:56:15     2.8  STATUS     STARTED Computing differential methylation tables
2020-10-17 07:56:15     2.8  STATUS         STARTED Comparing: hESC vs. hiPSC (based on Sample_Group)
2020-10-17 07:56:15     2.8  STATUS             STARTED Computing Differential Methylation Table
2020-10-17 07:56:15     2.8    INFO                 Conducting differential analysis using limma
2020-10-17 07:56:15     2.8  STATUS             COMPLETED Computing Differential Methylation Table
2020-10-17 07:56:15     2.8  STATUS             STARTED Computing Differential Methylation Tables (Region Level)
2020-10-17 07:56:16     2.8  STATUS                 Computed table for genes
2020-10-17 07:56:17     2.8  STATUS                 Computed table for tiling
2020-10-17 07:56:17     2.8  STATUS             COMPLETED Computing Differential Methylation Tables (Region Level)
2020-10-17 07:56:17     2.8  STATUS         COMPLETED Comparing: hESC vs. hiPSC (based on Sample_Group)
2020-10-17 07:56:17     2.8  STATUS     COMPLETED Computing differential methylation tables
2020-10-17 07:56:17     2.8  STATUS     STARTED Retrieving comparison info
2020-10-17 07:56:17     2.8  STATUS     COMPLETED Retrieving comparison info
2020-10-17 07:56:17     2.8  STATUS     STARTED Computing differential methylation tables
2020-10-17 07:56:17     2.8  STATUS         STARTED Comparing: hESC vs. hiPSC (based on Sample_Group)
2020-10-17 07:56:17     2.8  STATUS             STARTED Computing Differential Methylation Table
2020-10-17 07:56:18     2.8    INFO                 Conducting differential analysis using limma
2020-10-17 07:56:18     2.8  STATUS             COMPLETED Computing Differential Methylation Table
2020-10-17 07:56:18     2.8  STATUS             STARTED Computing Differential Methylation Tables (Region Level)
2020-10-17 07:56:18     2.8  STATUS                 Computed table for promoters
2020-10-17 07:56:18     2.8  STATUS             COMPLETED Computing Differential Methylation Tables (Region Level)
2020-10-17 07:56:18     2.8  STATUS         COMPLETED Comparing: hESC vs. hiPSC (based on Sample_Group)
2020-10-17 07:56:18     2.8  STATUS         STARTED Comparing: KOSR vs. TeSR (based on Treatment)
2020-10-17 07:56:18     2.8  STATUS             STARTED Computing Differential Methylation Table
2020-10-17 07:56:19     2.8    INFO                 Conducting differential analysis using limma
2020-10-17 07:56:19     2.8  STATUS             COMPLETED Computing Differential Methylation Table
2020-10-17 07:56:19     2.8  STATUS             STARTED Computing Differential Methylation Tables (Region Level)
2020-10-17 07:56:19     2.8  STATUS                 Computed table for promoters
2020-10-17 07:56:19     2.8  STATUS             COMPLETED Computing Differential Methylation Tables (Region Level)
2020-10-17 07:56:19     2.8  STATUS         COMPLETED Comparing: KOSR vs. TeSR (based on Treatment)
2020-10-17 07:56:19     2.8  STATUS     COMPLETED Computing differential methylation tables
2020-10-17 07:56:19     2.8  STATUS     STARTED Retrieving comparison info
2020-10-17 07:56:20     2.8  STATUS     COMPLETED Retrieving comparison info
2020-10-17 07:56:20     2.8  STATUS     STARTED Computing differential methylation tables
2020-10-17 07:56:20     2.8  STATUS         STARTED Comparing: KOSR vs. TeSR (based on Treatment)
2020-10-17 07:56:20     2.8  STATUS             STARTED Computing Differential Methylation Table
2020-10-17 07:56:20     2.8    INFO                 Conducting differential analysis using limma
2020-10-17 07:56:20     2.8  STATUS             COMPLETED Computing Differential Methylation Table
2020-10-17 07:56:20     2.8  STATUS             STARTED Computing Differential Methylation Tables (Region Level)
2020-10-17 07:56:21     2.8  STATUS                 Computed table for genes
2020-10-17 07:56:21     2.8  STATUS                 Computed table for tiling
2020-10-17 07:56:21     2.8  STATUS             COMPLETED Computing Differential Methylation Tables (Region Level)
2020-10-17 07:56:21     2.8  STATUS         COMPLETED Comparing: KOSR vs. TeSR (based on Treatment)
2020-10-17 07:56:22     2.8  STATUS     COMPLETED Computing differential methylation tables
2020-10-17 07:56:22     2.8  STATUS     STARTED Testing function: get.region.types
2020-10-17 07:56:22     2.8  STATUS     COMPLETED Testing function: get.region.types
2020-10-17 07:56:22     2.8  STATUS     STARTED Testing function: get.comparisons
2020-10-17 07:56:22     2.8  STATUS     COMPLETED Testing function: get.comparisons
2020-10-17 07:56:22     2.8  STATUS     STARTED Testing function: get.comparison.grouplabels
2020-10-17 07:56:22     2.8  STATUS     COMPLETED Testing function: get.comparison.grouplabels
2020-10-17 07:56:22     2.8  STATUS     STARTED Testing function: get.site.test.method
2020-10-17 07:56:22     2.8  STATUS     COMPLETED Testing function: get.site.test.method
2020-10-17 07:56:22     2.8  STATUS     STARTED Testing function: get.table
2020-10-17 07:56:23     2.8  STATUS     COMPLETED Testing function: get.table
2020-10-17 07:56:23     2.8  STATUS     STARTED Testing function: addDiffMethTable
2020-10-17 07:56:23     2.8    INFO         Conducting differential analysis using limma
2020-10-17 07:56:23     2.8  STATUS     COMPLETED Testing function: addDiffMethTable
2020-10-17 07:56:23     2.8  STATUS     STARTED Testing functions: join.diffMeth, is.valid
2020-10-17 07:56:23     2.8  STATUS     COMPLETED Testing functions: join.diffMeth, is.valid
2020-10-17 07:56:23     2.8  STATUS     STARTED Destructor
2020-10-17 07:56:24     2.8  STATUS         STARTED Deleting RnBDiffMeth disk dump files from disk
2020-10-17 07:56:24     2.8  STATUS         COMPLETED Deleting RnBDiffMeth disk dump files from disk
2020-10-17 07:56:24     2.8  STATUS         STARTED Deleting RnBDiffMeth disk dump files from disk
2020-10-17 07:56:24     2.8  STATUS         COMPLETED Deleting RnBDiffMeth disk dump files from disk
2020-10-17 07:56:24     2.8  STATUS         STARTED Deleting RnBDiffMeth disk dump files from disk
2020-10-17 07:56:24     2.8  STATUS         COMPLETED Deleting RnBDiffMeth disk dump files from disk
2020-10-17 07:56:24     2.8  STATUS         STARTED Deleting RnBDiffMeth disk dump files from disk
2020-10-17 07:56:24     2.8  STATUS         COMPLETED Deleting RnBDiffMeth disk dump files from disk
2020-10-17 07:56:24     2.8  STATUS     COMPLETED Destructor
2020-10-17 07:56:25     2.8    INFO     Conducting differential analysis using limma
2020-10-17 07:56:26     2.8    INFO     Conducting differential analysis using limma
2020-10-17 07:56:26     2.8  STATUS     STARTED diffVar method
2020-10-17 07:56:26     2.8  STATUS     COMPLETED diffVar method
2020-10-17 07:56:26     2.8  STATUS     STARTED diffVar method
Coefficients not estimable: x2x2 
2020-10-17 07:56:26     2.8  STATUS     COMPLETED diffVar method
2020-10-17 07:56:27     2.8  STATUS     STARTED diffVar method
2020-10-17 07:56:27     2.8 WARNING         Could not compute p-values with diffVar, returning NA
2020-10-17 07:56:27     2.8  STATUS STARTED Unit testing: differential
2020-10-17 07:56:27     2.8  STATUS     STARTED Testing function: rowWelchP
2020-10-17 07:56:27     2.8  STATUS     COMPLETED Testing function: rowWelchP
2020-10-17 07:56:27     2.8  STATUS     STARTED Testing function: limmaP
2020-10-17 07:56:28     2.8  STATUS     COMPLETED Testing function: limmaP
2020-10-17 07:56:28     2.8  STATUS     STARTED Testing function: computeDiffTab.extended.site
2020-10-17 07:56:28     2.8    INFO         Conducting differential analysis using limma
2020-10-17 07:56:28     2.8  STATUS     COMPLETED Testing function: computeDiffTab.extended.site
2020-10-17 07:56:28     2.8  STATUS     STARTED Testing function: computeDiffTab.default.region
2020-10-17 07:56:28     2.8    INFO         Conducting differential analysis using limma
2020-10-17 07:56:29     2.8  STATUS     COMPLETED Testing function: computeDiffTab.default.region
2020-10-17 07:56:29     2.8  STATUS     STARTED Testing function: combineTestPvalsMeth
2020-10-17 07:56:29     2.8  STATUS     COMPLETED Testing function: combineTestPvalsMeth
2020-10-17 07:56:29     2.8  STATUS     STARTED Testing function: get.adjustment.variables
2020-10-17 07:56:29     2.8  STATUS     COMPLETED Testing function: get.adjustment.variables
2020-10-17 07:56:29     2.8  STATUS     STARTED Testing function: get.comparison.info
2020-10-17 07:56:29     2.8  STATUS     COMPLETED Testing function: get.comparison.info
2020-10-17 07:56:29     2.8  STATUS     STARTED Testing function: rnb.execute.computeDiffMeth
2020-10-17 07:56:30     2.8  STATUS         STARTED Retrieving comparison info
2020-10-17 07:56:30     2.8  STATUS         COMPLETED Retrieving comparison info
2020-10-17 07:56:30     2.8  STATUS         STARTED Computing differential methylation tables
2020-10-17 07:56:30     2.8  STATUS             STARTED Comparing: hESC vs. hiPSC (based on Sample_Group)
2020-10-17 07:56:30     2.8  STATUS                 STARTED Computing Differential Methylation Table
2020-10-17 07:56:30     2.8    INFO                     Conducting differential analysis using limma
2020-10-17 07:56:30     2.8  STATUS                 COMPLETED Computing Differential Methylation Table
2020-10-17 07:56:30     2.8  STATUS                 STARTED Computing Differential Methylation Tables (Region Level)
2020-10-17 07:56:31     2.8  STATUS                     Computed table for tiling
2020-10-17 07:56:31     2.9  STATUS                     Computed table for genes
2020-10-17 07:56:32     2.9  STATUS                     Computed table for promoters
2020-10-17 07:56:33     2.8  STATUS                     Computed table for cpgislands
2020-10-17 07:56:33     2.8  STATUS                 COMPLETED Computing Differential Methylation Tables (Region Level)
2020-10-17 07:56:33     2.8  STATUS             COMPLETED Comparing: hESC vs. hiPSC (based on Sample_Group)
2020-10-17 07:56:33     2.8  STATUS             STARTED Comparing: KOSR vs. TeSR (based on Treatment)
2020-10-17 07:56:33     2.8  STATUS                 STARTED Computing Differential Methylation Table
2020-10-17 07:56:33     2.8    INFO                     Conducting differential analysis using limma
2020-10-17 07:56:33     2.8  STATUS                 COMPLETED Computing Differential Methylation Table
2020-10-17 07:56:33     2.8  STATUS                 STARTED Computing Differential Methylation Tables (Region Level)
2020-10-17 07:56:34     2.8  STATUS                     Computed table for tiling
2020-10-17 07:56:34     2.8  STATUS                     Computed table for genes
2020-10-17 07:56:34     2.8  STATUS                     Computed table for promoters
2020-10-17 07:56:35     2.8  STATUS                     Computed table for cpgislands
2020-10-17 07:56:35     2.8  STATUS                 COMPLETED Computing Differential Methylation Tables (Region Level)
2020-10-17 07:56:35     2.8  STATUS             COMPLETED Comparing: KOSR vs. TeSR (based on Treatment)
2020-10-17 07:56:35     2.8  STATUS         COMPLETED Computing differential methylation tables
2020-10-17 07:56:35     2.8  STATUS     COMPLETED Testing function: rnb.execute.computeDiffMeth
2020-10-17 07:56:35     2.8  STATUS     STARTED Testing function: diffVar
2020-10-17 07:56:35     2.8  STATUS         STARTED diffVar method
2020-10-17 07:56:35     2.8  STATUS         COMPLETED diffVar method
2020-10-17 07:56:36     2.8  STATUS         STARTED diffVar method
Coefficients not estimable: x2x2 
2020-10-17 07:56:36     2.8  STATUS         COMPLETED diffVar method
2020-10-17 07:56:36     2.8  STATUS     COMPLETED Testing function: diffVar
2020-10-17 07:56:36     2.8  STATUS     STARTED Testing function: apply.iEVORA
2020-10-17 07:56:36     2.8  STATUS         STARTED iEVORA method
2020-10-17 07:56:38     2.8    INFO             No DVCs detected. All p-values set to 1.
2020-10-17 07:56:38     2.8  STATUS         COMPLETED iEVORA method
2020-10-17 07:56:38     2.8  STATUS         STARTED Testing function: rnb.execute.diffVar
2020-10-17 07:56:38     2.8  STATUS             STARTED Differential Variability
2020-10-17 07:56:38     2.8  STATUS                 STARTED Retrieving comparison info
2020-10-17 07:56:38     2.8  STATUS                 COMPLETED Retrieving comparison info
2020-10-17 07:56:38     2.8  STATUS                 STARTED Imputation procedure knn 
2020-10-17 07:56:39     2.8  STATUS                 COMPLETED Imputation procedure knn 
2020-10-17 07:56:39     2.8  STATUS                 STARTED Comparing  hESC vs. hiPSC (based on Sample_Group)
2020-10-17 07:56:39     2.8    INFO                     Conducting differential variability using diffVar
2020-10-17 07:56:39     2.8  STATUS                     STARTED diffVar method
2020-10-17 07:56:39     2.8  STATUS                     COMPLETED diffVar method
2020-10-17 07:56:39     2.8  STATUS                     STARTED Computing Differential Variability Tables (Region Level)
2020-10-17 07:56:39     2.8  STATUS                         Computed table for tiling
2020-10-17 07:56:40     2.8  STATUS                         Computed table for genes
2020-10-17 07:56:40     2.8  STATUS                         Computed table for promoters
2020-10-17 07:56:40     2.8  STATUS                         Computed table for cpgislands
2020-10-17 07:56:40     2.8  STATUS                     COMPLETED Computing Differential Variability Tables (Region Level)
2020-10-17 07:56:40     2.8  STATUS                 COMPLETED Comparing  hESC vs. hiPSC (based on Sample_Group)
2020-10-17 07:56:41     2.8  STATUS                 STARTED Comparing  KOSR vs. TeSR (based on Treatment)
2020-10-17 07:56:41     2.8    INFO                     Conducting differential variability using diffVar
2020-10-17 07:56:41     2.8  STATUS                     STARTED diffVar method
2020-10-17 07:56:41     2.8  STATUS                     COMPLETED diffVar method
2020-10-17 07:56:41     2.8  STATUS                     STARTED Computing Differential Variability Tables (Region Level)
2020-10-17 07:56:41     2.8  STATUS                         Computed table for tiling
2020-10-17 07:56:42     2.8  STATUS                         Computed table for genes
2020-10-17 07:56:43     2.8  STATUS                         Computed table for promoters
2020-10-17 07:56:43     2.8  STATUS                         Computed table for cpgislands
2020-10-17 07:56:43     2.8  STATUS                     COMPLETED Computing Differential Variability Tables (Region Level)
2020-10-17 07:56:43     2.8  STATUS                 COMPLETED Comparing  KOSR vs. TeSR (based on Treatment)
2020-10-17 07:56:43     2.8  STATUS             COMPLETED Differential Variability
2020-10-17 07:56:43     2.8  STATUS         COMPLETED Testing function: rnb.execute.diffVar
2020-10-17 07:56:43     2.8  STATUS         STARTED Testing function: rnb.execute.computeDiffMeth and Variability
2020-10-17 07:56:44     2.8  STATUS             STARTED Retrieving comparison info
2020-10-17 07:56:44     2.8  STATUS             COMPLETED Retrieving comparison info
2020-10-17 07:56:44     2.8  STATUS             STARTED Computing differential methylation tables
2020-10-17 07:56:44     2.8  STATUS                 STARTED Comparing: hESC vs. hiPSC (based on Sample_Group)
2020-10-17 07:56:44     2.8  STATUS                     STARTED Computing Differential Methylation Table
2020-10-17 07:56:44     2.8    INFO                         Conducting differential analysis using limma
2020-10-17 07:56:44     2.8  STATUS                         STARTED Imputation procedure knn 
2020-10-17 07:56:44     2.8  STATUS                         COMPLETED Imputation procedure knn 
2020-10-17 07:56:44     2.8    INFO                         Conducting differential variability using diffVar
2020-10-17 07:56:44     2.8  STATUS                         STARTED diffVar method
2020-10-17 07:56:45     2.8  STATUS                         COMPLETED diffVar method
2020-10-17 07:56:45     2.8  STATUS                     COMPLETED Computing Differential Methylation Table
2020-10-17 07:56:45     2.8  STATUS                     STARTED Computing Differential Methylation Tables (Region Level)
2020-10-17 07:56:46     2.8  STATUS                         Computed table for tiling
2020-10-17 07:56:46     2.8  STATUS                         Computed table for genes
2020-10-17 07:56:46     2.8  STATUS                         Computed table for promoters
2020-10-17 07:56:47     2.8  STATUS                         Computed table for cpgislands
2020-10-17 07:56:48     2.8  STATUS                     COMPLETED Computing Differential Methylation Tables (Region Level)
2020-10-17 07:56:48     2.8  STATUS                 COMPLETED Comparing: hESC vs. hiPSC (based on Sample_Group)
2020-10-17 07:56:48     2.8  STATUS                 STARTED Comparing: KOSR vs. TeSR (based on Treatment)
2020-10-17 07:56:48     2.8  STATUS                     STARTED Computing Differential Methylation Table
2020-10-17 07:56:48     2.8    INFO                         Conducting differential analysis using limma
2020-10-17 07:56:48     2.8  STATUS                         STARTED Imputation procedure knn 
2020-10-17 07:56:48     2.8  STATUS                         COMPLETED Imputation procedure knn 
2020-10-17 07:56:48     2.8    INFO                         Conducting differential variability using diffVar
2020-10-17 07:56:48     2.8  STATUS                         STARTED diffVar method
2020-10-17 07:56:49     2.8  STATUS                         COMPLETED diffVar method
2020-10-17 07:56:49     2.8  STATUS                     COMPLETED Computing Differential Methylation Table
2020-10-17 07:56:49     2.8  STATUS                     STARTED Computing Differential Methylation Tables (Region Level)
2020-10-17 07:56:50     2.8  STATUS                         Computed table for tiling
2020-10-17 07:56:50     2.8  STATUS                         Computed table for genes
2020-10-17 07:56:50     2.8  STATUS                         Computed table for promoters
2020-10-17 07:56:53     2.6  STATUS                         Computed table for cpgislands
2020-10-17 07:56:53     2.6  STATUS                     COMPLETED Computing Differential Methylation Tables (Region Level)
2020-10-17 07:56:53     2.6  STATUS                 COMPLETED Comparing: KOSR vs. TeSR (based on Treatment)
2020-10-17 07:56:53     2.6  STATUS             COMPLETED Computing differential methylation tables
2020-10-17 07:56:53     2.6  STATUS         COMPLETED Testing function: rnb.execute.computeDiffMeth and Variability
2020-10-17 07:56:53     2.6  STATUS         STARTED Testing class: RnBDiffMeth
2020-10-17 07:56:54     2.6  STATUS             STARTED Retrieving comparison info
2020-10-17 07:56:54     2.6  STATUS             COMPLETED Retrieving comparison info
2020-10-17 07:56:54     2.6  STATUS             STARTED Computing differential methylation tables
2020-10-17 07:56:54     2.6  STATUS                 STARTED Comparing: hESC vs. hiPSC (based on Sample_Group)
2020-10-17 07:56:54     2.6  STATUS                     STARTED Computing Differential Methylation Table
2020-10-17 07:56:54     2.6    INFO                         Conducting differential analysis using limma
2020-10-17 07:56:54     2.6  STATUS                     COMPLETED Computing Differential Methylation Table
2020-10-17 07:56:54     2.6  STATUS                     STARTED Computing Differential Methylation Tables (Region Level)
2020-10-17 07:56:55     2.6  STATUS                         Computed table for tiling
2020-10-17 07:56:55     2.6  STATUS                         Computed table for genes
2020-10-17 07:56:55     2.7  STATUS                         Computed table for promoters
2020-10-17 07:56:56     2.7  STATUS                         Computed table for cpgislands
2020-10-17 07:56:56     2.7  STATUS                     COMPLETED Computing Differential Methylation Tables (Region Level)
2020-10-17 07:56:56     2.7  STATUS                 COMPLETED Comparing: hESC vs. hiPSC (based on Sample_Group)
2020-10-17 07:56:56     2.7  STATUS                 STARTED Comparing: KOSR vs. TeSR (based on Treatment)
2020-10-17 07:56:56     2.7  STATUS                     STARTED Computing Differential Methylation Table
2020-10-17 07:56:56     2.7    INFO                         Conducting differential analysis using limma
2020-10-17 07:56:56     2.7  STATUS                     COMPLETED Computing Differential Methylation Table
2020-10-17 07:56:56     2.7  STATUS                     STARTED Computing Differential Methylation Tables (Region Level)
2020-10-17 07:56:57     2.8  STATUS                         Computed table for tiling
2020-10-17 07:56:58     2.8  STATUS                         Computed table for genes
2020-10-17 07:56:58     2.8  STATUS                         Computed table for promoters
2020-10-17 07:56:58     2.8  STATUS                         Computed table for cpgislands
2020-10-17 07:56:58     2.8  STATUS                     COMPLETED Computing Differential Methylation Tables (Region Level)
2020-10-17 07:56:59     2.8  STATUS                 COMPLETED Comparing: KOSR vs. TeSR (based on Treatment)
2020-10-17 07:56:59     2.8  STATUS             COMPLETED Computing differential methylation tables
2020-10-17 07:56:59     2.8  STATUS             STARTED Retrieving comparison info
2020-10-17 07:56:59     2.8  STATUS             COMPLETED Retrieving comparison info
2020-10-17 07:56:59     2.8  STATUS             STARTED Computing differential methylation tables
2020-10-17 07:56:59     2.8  STATUS                 STARTED Comparing: hESC vs. hiPSC (based on Sample_Group)
2020-10-17 07:56:59     2.8  STATUS                     STARTED Computing Differential Methylation Table
2020-10-17 07:56:59     2.8    INFO                         Conducting differential analysis using limma
2020-10-17 07:56:59     2.8  STATUS                     COMPLETED Computing Differential Methylation Table
2020-10-17 07:56:59     2.8  STATUS                     STARTED Computing Differential Methylation Tables (Region Level)
2020-10-17 07:57:00     2.8  STATUS                         Computed table for genes
2020-10-17 07:57:00     2.8  STATUS                         Computed table for tiling
2020-10-17 07:57:00     2.8  STATUS                     COMPLETED Computing Differential Methylation Tables (Region Level)
2020-10-17 07:57:01     2.8  STATUS                 COMPLETED Comparing: hESC vs. hiPSC (based on Sample_Group)
2020-10-17 07:57:01     2.8  STATUS             COMPLETED Computing differential methylation tables
2020-10-17 07:57:01     2.8  STATUS             STARTED Retrieving comparison info
2020-10-17 07:57:01     2.8  STATUS             COMPLETED Retrieving comparison info
2020-10-17 07:57:01     2.8  STATUS             STARTED Computing differential methylation tables
2020-10-17 07:57:01     2.8  STATUS                 STARTED Comparing: hESC vs. hiPSC (based on Sample_Group)
2020-10-17 07:57:02     2.8  STATUS                     STARTED Computing Differential Methylation Table
2020-10-17 07:57:02     2.8    INFO                         Conducting differential analysis using limma
2020-10-17 07:57:02     2.8  STATUS                     COMPLETED Computing Differential Methylation Table
2020-10-17 07:57:02     2.8  STATUS                     STARTED Computing Differential Methylation Tables (Region Level)
2020-10-17 07:57:02     2.8  STATUS                         Computed table for genes
2020-10-17 07:57:04     2.8  STATUS                         Computed table for tiling
2020-10-17 07:57:04     2.8  STATUS                     COMPLETED Computing Differential Methylation Tables (Region Level)
2020-10-17 07:57:04     2.8  STATUS                 COMPLETED Comparing: hESC vs. hiPSC (based on Sample_Group)
2020-10-17 07:57:04     2.8  STATUS             COMPLETED Computing differential methylation tables
2020-10-17 07:57:04     2.8  STATUS             STARTED Retrieving comparison info
2020-10-17 07:57:04     2.8  STATUS             COMPLETED Retrieving comparison info
2020-10-17 07:57:04     2.8  STATUS             STARTED Computing differential methylation tables
2020-10-17 07:57:04     2.8  STATUS                 STARTED Comparing: hESC vs. hiPSC (based on Sample_Group)
2020-10-17 07:57:05     2.8  STATUS                     STARTED Computing Differential Methylation Table
2020-10-17 07:57:05     2.8    INFO                         Conducting differential analysis using limma
2020-10-17 07:57:05     2.8  STATUS                     COMPLETED Computing Differential Methylation Table
2020-10-17 07:57:05     2.8  STATUS                     STARTED Computing Differential Methylation Tables (Region Level)
2020-10-17 07:57:05     2.8  STATUS                         Computed table for promoters
2020-10-17 07:57:05     2.8  STATUS                     COMPLETED Computing Differential Methylation Tables (Region Level)
2020-10-17 07:57:05     2.8  STATUS                 COMPLETED Comparing: hESC vs. hiPSC (based on Sample_Group)
2020-10-17 07:57:05     2.8  STATUS                 STARTED Comparing: KOSR vs. TeSR (based on Treatment)
2020-10-17 07:57:05     2.8  STATUS                     STARTED Computing Differential Methylation Table
2020-10-17 07:57:06     2.8    INFO                         Conducting differential analysis using limma
2020-10-17 07:57:06     2.8  STATUS                     COMPLETED Computing Differential Methylation Table
2020-10-17 07:57:06     2.8  STATUS                     STARTED Computing Differential Methylation Tables (Region Level)
2020-10-17 07:57:06     2.8  STATUS                         Computed table for promoters
2020-10-17 07:57:06     2.8  STATUS                     COMPLETED Computing Differential Methylation Tables (Region Level)
2020-10-17 07:57:07     2.8  STATUS                 COMPLETED Comparing: KOSR vs. TeSR (based on Treatment)
2020-10-17 07:57:07     2.8  STATUS             COMPLETED Computing differential methylation tables
2020-10-17 07:57:07     2.8  STATUS             STARTED Retrieving comparison info
2020-10-17 07:57:07     2.8  STATUS             COMPLETED Retrieving comparison info
2020-10-17 07:57:07     2.8  STATUS             STARTED Computing differential methylation tables
2020-10-17 07:57:07     2.8  STATUS                 STARTED Comparing: KOSR vs. TeSR (based on Treatment)
2020-10-17 07:57:07     2.8  STATUS                     STARTED Computing Differential Methylation Table
2020-10-17 07:57:07     2.8    INFO                         Conducting differential analysis using limma
2020-10-17 07:57:07     2.8  STATUS                     COMPLETED Computing Differential Methylation Table
2020-10-17 07:57:07     2.8  STATUS                     STARTED Computing Differential Methylation Tables (Region Level)
2020-10-17 07:57:08     2.8  STATUS                         Computed table for genes
2020-10-17 07:57:08     2.8  STATUS                         Computed table for tiling
2020-10-17 07:57:08     2.8  STATUS                     COMPLETED Computing Differential Methylation Tables (Region Level)
2020-10-17 07:57:08     2.8  STATUS                 COMPLETED Comparing: KOSR vs. TeSR (based on Treatment)
2020-10-17 07:57:09     2.8  STATUS             COMPLETED Computing differential methylation tables
2020-10-17 07:57:09     2.8  STATUS             STARTED Testing function: get.region.types
2020-10-17 07:57:09     2.8  STATUS             COMPLETED Testing function: get.region.types
2020-10-17 07:57:09     2.8  STATUS             STARTED Testing function: get.comparisons
2020-10-17 07:57:09     2.8  STATUS             COMPLETED Testing function: get.comparisons
2020-10-17 07:57:09     2.8  STATUS             STARTED Testing function: get.comparison.grouplabels
2020-10-17 07:57:09     2.8  STATUS             COMPLETED Testing function: get.comparison.grouplabels
2020-10-17 07:57:09     2.8  STATUS             STARTED Testing function: get.site.test.method
2020-10-17 07:57:09     2.8  STATUS             COMPLETED Testing function: get.site.test.method
2020-10-17 07:57:09     2.8  STATUS             STARTED Testing function: get.table
2020-10-17 07:57:10     2.8  STATUS             COMPLETED Testing function: get.table
2020-10-17 07:57:10     2.8  STATUS             STARTED Testing function: addDiffMethTable
2020-10-17 07:57:10     2.8    INFO                 Conducting differential analysis using limma
2020-10-17 07:57:10     2.8  STATUS             COMPLETED Testing function: addDiffMethTable
2020-10-17 07:57:10     2.8  STATUS             STARTED Testing functions: join.diffMeth, is.valid
2020-10-17 07:57:10     2.8  STATUS             COMPLETED Testing functions: join.diffMeth, is.valid
2020-10-17 07:57:10     2.8  STATUS             STARTED Destructor
2020-10-17 07:57:11     2.8  STATUS                 STARTED Deleting RnBDiffMeth disk dump files from disk
2020-10-17 07:57:11     2.8  STATUS                 COMPLETED Deleting RnBDiffMeth disk dump files from disk
2020-10-17 07:57:11     2.8  STATUS                 STARTED Deleting RnBDiffMeth disk dump files from disk
2020-10-17 07:57:11     2.8  STATUS                 COMPLETED Deleting RnBDiffMeth disk dump files from disk
2020-10-17 07:57:11     2.8  STATUS                 STARTED Deleting RnBDiffMeth disk dump files from disk
2020-10-17 07:57:11     2.8  STATUS                 COMPLETED Deleting RnBDiffMeth disk dump files from disk
2020-10-17 07:57:11     2.8  STATUS                 STARTED Deleting RnBDiffMeth disk dump files from disk
2020-10-17 07:57:11     2.8  STATUS                 COMPLETED Deleting RnBDiffMeth disk dump files from disk
2020-10-17 07:57:11     2.8  STATUS             COMPLETED Destructor
2020-10-17 07:57:12     2.8  STATUS         COMPLETED Testing class: RnBDiffMeth
2020-10-17 07:57:12     2.8  STATUS     COMPLETED Testing function: apply.iEVORA
2020-10-17 07:57:12     2.8  STATUS     STARTED iEVORA method
2020-10-17 07:57:14     2.8    INFO         No DVCs detected. All p-values set to 1.
Coefficients not estimable: x2x2 
2020-10-17 07:57:14     2.8  STATUS         STARTED Retrieving comparison info
2020-10-17 07:57:14     2.8  STATUS         COMPLETED Retrieving comparison info
2020-10-17 07:57:14     2.8  STATUS         STARTED Computing differential methylation tables
2020-10-17 07:57:14     2.8  STATUS             STARTED Comparing: hESC vs. hiPSC (based on Sample_Group)
2020-10-17 07:57:14     2.8  STATUS                 STARTED Computing Differential Methylation Table
2020-10-17 07:57:15     2.8    INFO                     Conducting differential analysis using limma
2020-10-17 07:57:15     2.8  STATUS                 COMPLETED Computing Differential Methylation Table
2020-10-17 07:57:15     2.8  STATUS                 STARTED Computing Differential Methylation Tables (Region Level)
2020-10-17 07:57:15     2.8  STATUS                     Computed table for tiling
2020-10-17 07:57:16     2.8  STATUS                     Computed table for genes
2020-10-17 07:57:16     2.8  STATUS                     Computed table for promoters
2020-10-17 07:57:16     2.8  STATUS                     Computed table for cpgislands
2020-10-17 07:57:16     2.8  STATUS                 COMPLETED Computing Differential Methylation Tables (Region Level)
2020-10-17 07:57:16     2.8  STATUS             COMPLETED Comparing: hESC vs. hiPSC (based on Sample_Group)
2020-10-17 07:57:16     2.8  STATUS             STARTED Comparing: KOSR vs. TeSR (based on Treatment)
2020-10-17 07:57:17     2.8  STATUS                 STARTED Computing Differential Methylation Table
2020-10-17 07:57:17     2.8    INFO                     Conducting differential analysis using limma
2020-10-17 07:57:17     2.8  STATUS                 COMPLETED Computing Differential Methylation Table
2020-10-17 07:57:17     2.8  STATUS                 STARTED Computing Differential Methylation Tables (Region Level)
2020-10-17 07:57:18     2.8  STATUS                     Computed table for tiling
2020-10-17 07:57:18     2.8  STATUS                     Computed table for genes
2020-10-17 07:57:18     2.8  STATUS                     Computed table for promoters
2020-10-17 07:57:19     2.8  STATUS                     Computed table for cpgislands
2020-10-17 07:57:19     2.8  STATUS                 COMPLETED Computing Differential Methylation Tables (Region Level)
2020-10-17 07:57:19     2.8  STATUS             COMPLETED Comparing: KOSR vs. TeSR (based on Treatment)
2020-10-17 07:57:19     2.8  STATUS         COMPLETED Computing differential methylation tables
2020-10-17 07:57:19     2.8  STATUS         STARTED Retrieving comparison info
2020-10-17 07:57:19     2.8  STATUS         COMPLETED Retrieving comparison info
2020-10-17 07:57:19     2.8  STATUS         STARTED Computing differential methylation tables
2020-10-17 07:57:19     2.8  STATUS             STARTED Comparing: hESC vs. hiPSC (based on Sample_Group)
2020-10-17 07:57:20     2.8  STATUS                 STARTED Computing Differential Methylation Table
2020-10-17 07:57:20     2.8    INFO                     Conducting differential analysis using limma
2020-10-17 07:57:20     2.8  STATUS                     STARTED Imputation procedure knn 
2020-10-17 07:57:20     2.8  STATUS                     COMPLETED Imputation procedure knn 
2020-10-17 07:57:20     2.8    INFO                     Conducting differential variability using diffVar
2020-10-17 07:57:20     2.8  STATUS                     STARTED diffVar method
2020-10-17 07:57:20     2.8  STATUS                     COMPLETED diffVar method
2020-10-17 07:57:20     2.8  STATUS                 COMPLETED Computing Differential Methylation Table
2020-10-17 07:57:20     2.8  STATUS                 STARTED Computing Differential Methylation Tables (Region Level)
2020-10-17 07:57:21     2.8  STATUS                     Computed table for tiling
2020-10-17 07:57:22     2.8  STATUS                     Computed table for genes
2020-10-17 07:57:23     2.8  STATUS                     Computed table for promoters
2020-10-17 07:57:23     2.8  STATUS                     Computed table for cpgislands
2020-10-17 07:57:23     2.8  STATUS                 COMPLETED Computing Differential Methylation Tables (Region Level)
2020-10-17 07:57:23     2.8  STATUS             COMPLETED Comparing: hESC vs. hiPSC (based on Sample_Group)
2020-10-17 07:57:23     2.8  STATUS             STARTED Comparing: KOSR vs. TeSR (based on Treatment)
2020-10-17 07:57:23     2.8  STATUS                 STARTED Computing Differential Methylation Table
2020-10-17 07:57:24     2.8    INFO                     Conducting differential analysis using limma
2020-10-17 07:57:24     2.8  STATUS                     STARTED Imputation procedure knn 
2020-10-17 07:57:24     2.8  STATUS                     COMPLETED Imputation procedure knn 
2020-10-17 07:57:24     2.8    INFO                     Conducting differential variability using diffVar
2020-10-17 07:57:24     2.8  STATUS                     STARTED diffVar method
2020-10-17 07:57:24     2.8  STATUS                     COMPLETED diffVar method
2020-10-17 07:57:24     2.8  STATUS                 COMPLETED Computing Differential Methylation Table
2020-10-17 07:57:24     2.8  STATUS                 STARTED Computing Differential Methylation Tables (Region Level)
2020-10-17 07:57:25     2.8  STATUS                     Computed table for tiling
2020-10-17 07:57:25     2.8  STATUS                     Computed table for genes
2020-10-17 07:57:26     2.8  STATUS                     Computed table for promoters
2020-10-17 07:57:27     2.8  STATUS                     Computed table for cpgislands
2020-10-17 07:57:27     2.8  STATUS                 COMPLETED Computing Differential Methylation Tables (Region Level)
2020-10-17 07:57:27     2.8  STATUS             COMPLETED Comparing: KOSR vs. TeSR (based on Treatment)
2020-10-17 07:57:27     2.8  STATUS         COMPLETED Computing differential methylation tables
2020-10-17 07:57:27     2.8  STATUS         STARTED Differential Variability
2020-10-17 07:57:27     2.8  STATUS             STARTED Retrieving comparison info
2020-10-17 07:57:28     2.8  STATUS             COMPLETED Retrieving comparison info
2020-10-17 07:57:28     2.8  STATUS             STARTED Imputation procedure knn 
2020-10-17 07:57:28     2.8  STATUS             COMPLETED Imputation procedure knn 
2020-10-17 07:57:28     2.8  STATUS             STARTED Comparing  hESC vs. hiPSC (based on Sample_Group)
2020-10-17 07:57:28     2.8    INFO                 Conducting differential variability using diffVar
2020-10-17 07:57:28     2.8  STATUS                 STARTED diffVar method
2020-10-17 07:57:28     2.8  STATUS                 COMPLETED diffVar method
2020-10-17 07:57:28     2.8  STATUS                 STARTED Computing Differential Variability Tables (Region Level)
2020-10-17 07:57:29     2.8  STATUS                     Computed table for tiling
2020-10-17 07:57:29     2.8  STATUS                     Computed table for genes
2020-10-17 07:57:29     2.8  STATUS                     Computed table for promoters
2020-10-17 07:57:30     2.8  STATUS                     Computed table for cpgislands
2020-10-17 07:57:30     2.8  STATUS                 COMPLETED Computing Differential Variability Tables (Region Level)
2020-10-17 07:57:30     2.8  STATUS             COMPLETED Comparing  hESC vs. hiPSC (based on Sample_Group)
2020-10-17 07:57:30     2.8  STATUS             STARTED Comparing  KOSR vs. TeSR (based on Treatment)
2020-10-17 07:57:30     2.8    INFO                 Conducting differential variability using diffVar
2020-10-17 07:57:30     2.8  STATUS                 STARTED diffVar method
2020-10-17 07:57:30     2.8  STATUS                 COMPLETED diffVar method
2020-10-17 07:57:30     2.8  STATUS                 STARTED Computing Differential Variability Tables (Region Level)
2020-10-17 07:57:32     2.8  STATUS                     Computed table for tiling
2020-10-17 07:57:32     2.8  STATUS                     Computed table for genes
2020-10-17 07:57:32     2.8  STATUS                     Computed table for promoters
2020-10-17 07:57:33     2.8  STATUS                     Computed table for cpgislands
2020-10-17 07:57:33     2.8  STATUS                 COMPLETED Computing Differential Variability Tables (Region Level)
2020-10-17 07:57:33     2.8  STATUS             COMPLETED Comparing  KOSR vs. TeSR (based on Treatment)
2020-10-17 07:57:33     2.8  STATUS         COMPLETED Differential Variability
2020-10-17 07:57:33     2.8  STATUS STARTED Analysis
2020-10-17 07:57:33     2.8    INFO     Loaded information from data.RData
2020-10-17 07:57:33     2.8  STATUS     STARTED Processing Detection P-values
2020-10-17 07:57:34     2.8    INFO         Removed 3979 probes that overlap with SNPs
2020-10-17 07:57:34     2.8    INFO         Completed Greedycut on 510 samples
2020-10-17 07:57:34     2.8  STATUS     COMPLETED Processing Detection P-values
2020-10-17 07:57:34     2.8 WARNING     File not found: data2.RData
2020-10-17 07:57:34     2.8  STATUS COMPLETED Analysis
2020-10-17 07:57:34     2.8  STATUS STARTED Testing imputation
2020-10-17 07:57:34     2.8  STATUS     STARTED Imputation procedure knn 
2020-10-17 07:57:36     2.8  STATUS     COMPLETED Imputation procedure knn 
2020-10-17 07:57:36     2.8  STATUS     STARTED Imputation procedure mean.samples 
2020-10-17 07:57:37     2.8  STATUS     COMPLETED Imputation procedure mean.samples 
2020-10-17 07:57:37     2.8  STATUS     STARTED Imputation procedure mean.cpgs 
2020-10-17 07:57:38     2.8  STATUS     COMPLETED Imputation procedure mean.cpgs 
2020-10-17 07:57:38     2.8  STATUS     STARTED Imputation procedure random 
2020-10-17 07:57:39     2.8  STATUS     COMPLETED Imputation procedure random 
2020-10-17 07:57:39     2.8  STATUS COMPLETED Testing imputation
2020-10-17 07:57:39     2.8  STATUS STARTED Testing age prediction
2020-10-17 07:57:39     2.8  STATUS     STARTED Performing Age Prediction
2020-10-17 07:57:44     2.8  STATUS     COMPLETED Performing Age Prediction
2020-10-17 07:57:44     2.8  STATUS COMPLETED Testing age prediction
2020-10-17 07:57:44     2.8  STATUS STARTED Performing Age Prediction
2020-10-17 07:57:47     3.1  STATUS COMPLETED Performing Age Prediction
2020-10-17 07:57:47     3.1  STATUS STARTED Imputation procedure knn 
2020-10-17 07:57:48     3.1  STATUS COMPLETED Imputation procedure knn 
2020-10-17 07:57:48     3.1  STATUS STARTED Imputation procedure mean.samples 
2020-10-17 07:57:49     2.8  STATUS COMPLETED Imputation procedure mean.samples 
2020-10-17 07:57:49     2.8  STATUS STARTED Imputation procedure mean.cpgs 
2020-10-17 07:57:50     2.8  STATUS COMPLETED Imputation procedure mean.cpgs 
2020-10-17 07:57:50     2.8  STATUS STARTED Imputation procedure random 
2020-10-17 07:57:51     2.8  STATUS COMPLETED Imputation procedure random 
2020-10-17 07:57:51     2.8  STATUS STARTED Testing imputation
2020-10-17 07:57:51     2.8  STATUS     STARTED Imputation procedure knn 
2020-10-17 07:57:53     2.8  STATUS     COMPLETED Imputation procedure knn 
2020-10-17 07:57:53     2.8  STATUS     STARTED Imputation procedure mean.samples 
2020-10-17 07:57:53     2.8  STATUS     COMPLETED Imputation procedure mean.samples 
2020-10-17 07:57:54     2.8  STATUS     STARTED Imputation procedure mean.cpgs 
2020-10-17 07:57:54     2.8  STATUS     COMPLETED Imputation procedure mean.cpgs 
2020-10-17 07:57:54     2.8  STATUS     STARTED Imputation procedure random 
2020-10-17 07:57:55     2.8  STATUS     COMPLETED Imputation procedure random 
2020-10-17 07:57:55     2.8  STATUS COMPLETED Testing imputation
2020-10-17 07:57:55     2.8  STATUS STARTED Testing age prediction
2020-10-17 07:57:55     2.8  STATUS     STARTED Performing Age Prediction
2020-10-17 07:57:58     3.0  STATUS     COMPLETED Performing Age Prediction
2020-10-17 07:57:58     3.0  STATUS COMPLETED Testing age prediction
RUNIT TEST PROTOCOL -- Sat Oct 17 07:58:28 2020 
*********************************************** 
Number of test functions: 24 
Number of errors: 0 
Number of failures: 0 
 
1 Test Suite : 
RnBeads RUnit Tests - 24 test functions, 0 errors, 0 failures
Number of test functions: 24 
Number of errors: 0 
Number of failures: 0 
There were 38 warnings (use warnings() to see them)
> 
> proc.time()
   user  system elapsed 
 229.75   18.26  279.78 
  | 
 RnBeads.Rcheck/tests_x64/runTests.Rout 
R version 4.0.3 (2020-10-10) -- "Bunny-Wunnies Freak Out"
Copyright (C) 2020 The R Foundation for Statistical Computing
Platform: x86_64-w64-mingw32/x64 (64-bit)
R is free software and comes with ABSOLUTELY NO WARRANTY.
You are welcome to redistribute it under certain conditions.
Type 'license()' or 'licence()' for distribution details.
R is a collaborative project with many contributors.
Type 'contributors()' for more information and
'citation()' on how to cite R or R packages in publications.
Type 'demo()' for some demos, 'help()' for on-line help, or
'help.start()' for an HTML browser interface to help.
Type 'q()' to quit R.
> BiocGenerics:::testPackage("RnBeads")
Attaching package: 'BiocGenerics'
The following objects are masked from 'package:parallel':
    clusterApply, clusterApplyLB, clusterCall, clusterEvalQ,
    clusterExport, clusterMap, parApply, parCapply, parLapply,
    parLapplyLB, parRapply, parSapply, parSapplyLB
The following objects are masked from 'package:stats':
    IQR, mad, sd, var, xtabs
The following objects are masked from 'package:base':
    Filter, Find, Map, Position, Reduce, anyDuplicated, append,
    as.data.frame, basename, cbind, colnames, dirname, do.call,
    duplicated, eval, evalq, get, grep, grepl, intersect, is.unsorted,
    lapply, mapply, match, mget, order, paste, pmax, pmax.int, pmin,
    pmin.int, rank, rbind, rownames, sapply, setdiff, sort, table,
    tapply, union, unique, unsplit, which, which.max, which.min
Attaching package: 'S4Vectors'
The following object is masked from 'package:base':
    expand.grid
Attaching package: 'IRanges'
The following object is masked from 'package:grDevices':
    windows
Attaching package: 'bit'
The following object is masked from 'package:base':
    xor
Attaching package ff
- getOption("fftempdir")=="C:/Users/biocbuild/bbs-3.11-bioc/tmpdir/RtmpmM4T4i/ff"
- getOption("ffextension")=="ff"
- getOption("ffdrop")==TRUE
- getOption("fffinonexit")==TRUE
- getOption("ffpagesize")==65536
- getOption("ffcaching")=="mmnoflush"  -- consider "ffeachflush" if your system stalls on large writes
- getOption("ffbatchbytes")==685831618.56 -- consider a different value for tuning your system
- getOption("ffmaxbytes")==34291580928 -- consider a different value for tuning your system
Attaching package: 'ff'
The following objects are masked from 'package:utils':
    write.csv, write.csv2
The following objects are masked from 'package:base':
    is.factor, is.ordered
Spam version 2.5-1 (2019-12-12) is loaded.
Type 'help( Spam)' or 'demo( spam)' for a short introduction 
and overview of this package.
Help for individual functions is also obtained by adding the
suffix '.spam' to the function name, e.g. 'help( chol.spam)'.
Attaching package: 'spam'
The following object is masked from 'package:stats4':
    mle
The following objects are masked from 'package:base':
    backsolve, forwardsolve
See https://github.com/NCAR/Fields for
 an extensive vignette, other supplements and source code 
Attaching package: 'gplots'
The following object is masked from 'package:IRanges':
    space
The following object is masked from 'package:S4Vectors':
    space
The following object is masked from 'package:stats':
    lowess
Attaching package: 'gridExtra'
The following object is masked from 'package:BiocGenerics':
    combine
Attaching package: 'limma'
The following object is masked from 'package:BiocGenerics':
    plotMA
Welcome to Bioconductor
    Vignettes contain introductory material; view with
    'browseVignettes()'. To cite Bioconductor, see
    'citation("Biobase")', and for packages 'citation("pkgname")'.
Attaching package: 'Biobase'
The following objects are masked from 'package:matrixStats':
    anyMissing, rowMedians
Attaching package: 'AnnotationDbi'
The following object is masked from 'package:MASS':
    select
Attaching package: 'DelayedArray'
The following objects are masked from 'package:matrixStats':
    colMaxs, colMins, colRanges, rowMaxs, rowMins, rowRanges
The following object is masked from 'package:ff':
    maxlength
The following objects are masked from 'package:base':
    aperm, apply, rowsum
Attaching package: 'Biostrings'
The following objects are masked from 'package:ff':
    mismatch, pattern
The following object is masked from 'package:base':
    strsplit
locfit 1.5-9.4 	 2020-03-24
Setting options('download.file.method.GEOquery'='auto')
Setting options('GEOquery.inmemory.gpl'=FALSE)
Attaching package: 'plyr'
The following object is masked from 'package:XVector':
    compact
The following object is masked from 'package:matrixStats':
    count
The following object is masked from 'package:IRanges':
    desc
The following object is masked from 'package:S4Vectors':
    rename
2020-10-17 07:58:56     0.7  STATUS STARTED Unit testing: differential
2020-10-17 07:58:56     0.7  STATUS     STARTED Testing function: rowWelchP
Loading required package: RnBeads.hg19
2020-10-17 07:58:56     0.7  STATUS     COMPLETED Testing function: rowWelchP
2020-10-17 07:58:56     0.7  STATUS     STARTED Testing function: limmaP
2020-10-17 07:58:56     0.7  STATUS     COMPLETED Testing function: limmaP
2020-10-17 07:58:56     0.7  STATUS     STARTED Testing function: computeDiffTab.extended.site
2020-10-17 07:58:56     0.7    INFO         Conducting differential analysis using limma
2020-10-17 07:58:56     0.7  STATUS     COMPLETED Testing function: computeDiffTab.extended.site
2020-10-17 07:58:56     0.7  STATUS     STARTED Testing function: computeDiffTab.default.region
2020-10-17 07:58:56     0.7    INFO         Conducting differential analysis using limma
2020-10-17 07:59:05     1.0  STATUS     COMPLETED Testing function: computeDiffTab.default.region
2020-10-17 07:59:05     1.0  STATUS     STARTED Testing function: combineTestPvalsMeth
2020-10-17 07:59:05     1.0  STATUS     COMPLETED Testing function: combineTestPvalsMeth
2020-10-17 07:59:05     1.0  STATUS     STARTED Testing function: get.adjustment.variables
2020-10-17 07:59:05     0.9  STATUS     COMPLETED Testing function: get.adjustment.variables
2020-10-17 07:59:05     0.9  STATUS     STARTED Testing function: get.comparison.info
2020-10-17 07:59:06     0.9  STATUS     COMPLETED Testing function: get.comparison.info
2020-10-17 07:59:06     0.9  STATUS     STARTED Testing function: rnb.execute.computeDiffMeth
2020-10-17 07:59:06     0.9  STATUS         STARTED Retrieving comparison info
2020-10-17 07:59:06     0.9  STATUS         COMPLETED Retrieving comparison info
2020-10-17 07:59:06     0.9  STATUS         STARTED Computing differential methylation tables
2020-10-17 07:59:06     0.9  STATUS             STARTED Comparing: hESC vs. hiPSC (based on Sample_Group)
2020-10-17 07:59:06     0.9  STATUS                 STARTED Computing Differential Methylation Table
2020-10-17 07:59:06     0.9    INFO                     Conducting differential analysis using limma
2020-10-17 07:59:06     0.9  STATUS                 COMPLETED Computing Differential Methylation Table
2020-10-17 07:59:06     0.9  STATUS                 STARTED Computing Differential Methylation Tables (Region Level)
2020-10-17 07:59:07     0.9  STATUS                     Computed table for tiling
2020-10-17 07:59:07     1.0  STATUS                     Computed table for genes
2020-10-17 07:59:07     1.1  STATUS                     Computed table for promoters
2020-10-17 07:59:08     1.1  STATUS                     Computed table for cpgislands
2020-10-17 07:59:08     1.1  STATUS                 COMPLETED Computing Differential Methylation Tables (Region Level)
2020-10-17 07:59:08     1.1  STATUS             COMPLETED Comparing: hESC vs. hiPSC (based on Sample_Group)
2020-10-17 07:59:08     1.1  STATUS             STARTED Comparing: KOSR vs. TeSR (based on Treatment)
2020-10-17 07:59:08     1.1  STATUS                 STARTED Computing Differential Methylation Table
2020-10-17 07:59:08     1.1    INFO                     Conducting differential analysis using limma
2020-10-17 07:59:10     1.0  STATUS                 COMPLETED Computing Differential Methylation Table
2020-10-17 07:59:10     1.0  STATUS                 STARTED Computing Differential Methylation Tables (Region Level)
2020-10-17 07:59:10     1.0  STATUS                     Computed table for tiling
2020-10-17 07:59:10     1.0  STATUS                     Computed table for genes
2020-10-17 07:59:11     1.0  STATUS                     Computed table for promoters
2020-10-17 07:59:11     1.1  STATUS                     Computed table for cpgislands
2020-10-17 07:59:11     1.1  STATUS                 COMPLETED Computing Differential Methylation Tables (Region Level)
2020-10-17 07:59:11     1.1  STATUS             COMPLETED Comparing: KOSR vs. TeSR (based on Treatment)
2020-10-17 07:59:11     1.1  STATUS         COMPLETED Computing differential methylation tables
2020-10-17 07:59:11     1.1  STATUS     COMPLETED Testing function: rnb.execute.computeDiffMeth
2020-10-17 07:59:11     1.1  STATUS     STARTED Testing function: diffVar
2020-10-17 07:59:11     1.1  STATUS         STARTED diffVar method
2020-10-17 08:00:22     3.7  STATUS         COMPLETED diffVar method
2020-10-17 08:00:22     3.7  STATUS         STARTED diffVar method
Coefficients not estimable: x2x2 
2020-10-17 08:00:23     3.8  STATUS         COMPLETED diffVar method
2020-10-17 08:00:23     3.8  STATUS     COMPLETED Testing function: diffVar
2020-10-17 08:00:23     3.8  STATUS     STARTED Testing function: apply.iEVORA
2020-10-17 08:00:23     3.8  STATUS         STARTED iEVORA method
2020-10-17 08:00:24     3.8    INFO             No DVCs detected. All p-values set to 1.
2020-10-17 08:00:24     3.8  STATUS         COMPLETED iEVORA method
2020-10-17 08:00:24     3.8  STATUS         STARTED Testing function: rnb.execute.diffVar
2020-10-17 08:00:24     3.8  STATUS             STARTED Differential Variability
2020-10-17 08:00:24     3.8  STATUS                 STARTED Retrieving comparison info
2020-10-17 08:00:24     3.8  STATUS                 COMPLETED Retrieving comparison info
2020-10-17 08:00:24     3.8    INFO                 No imputation method selected, 'knn' method used.
2020-10-17 08:00:24     3.8  STATUS                 STARTED Imputation procedure knn 
2020-10-17 08:00:24     3.9  STATUS                 COMPLETED Imputation procedure knn 
2020-10-17 08:00:24     3.9  STATUS                 STARTED Comparing  hESC vs. hiPSC (based on Sample_Group)
2020-10-17 08:00:24     3.9    INFO                     Conducting differential variability using diffVar
2020-10-17 08:00:24     3.9  STATUS                     STARTED diffVar method
2020-10-17 08:00:25     3.9  STATUS                     COMPLETED diffVar method
2020-10-17 08:00:25     3.9  STATUS                     STARTED Computing Differential Variability Tables (Region Level)
2020-10-17 08:00:26     3.6  STATUS                         Computed table for tiling
2020-10-17 08:00:26     3.6  STATUS                         Computed table for genes
2020-10-17 08:00:26     3.6  STATUS                         Computed table for promoters
2020-10-17 08:00:27     3.6  STATUS                         Computed table for cpgislands
2020-10-17 08:00:27     3.6  STATUS                     COMPLETED Computing Differential Variability Tables (Region Level)
2020-10-17 08:00:27     3.6  STATUS                 COMPLETED Comparing  hESC vs. hiPSC (based on Sample_Group)
2020-10-17 08:00:27     3.6  STATUS                 STARTED Comparing  KOSR vs. TeSR (based on Treatment)
2020-10-17 08:00:27     3.6    INFO                     Conducting differential variability using diffVar
2020-10-17 08:00:27     3.6  STATUS                     STARTED diffVar method
2020-10-17 08:00:27     3.6  STATUS                     COMPLETED diffVar method
2020-10-17 08:00:27     3.6  STATUS                     STARTED Computing Differential Variability Tables (Region Level)
2020-10-17 08:00:30     3.4  STATUS                         Computed table for tiling
2020-10-17 08:00:30     3.5  STATUS                         Computed table for genes
2020-10-17 08:00:31     3.5  STATUS                         Computed table for promoters
2020-10-17 08:00:31     3.5  STATUS                         Computed table for cpgislands
2020-10-17 08:00:31     3.5  STATUS                     COMPLETED Computing Differential Variability Tables (Region Level)
2020-10-17 08:00:31     3.5  STATUS                 COMPLETED Comparing  KOSR vs. TeSR (based on Treatment)
2020-10-17 08:00:31     3.5  STATUS             COMPLETED Differential Variability
2020-10-17 08:00:31     3.5  STATUS         COMPLETED Testing function: rnb.execute.diffVar
2020-10-17 08:00:31     3.5  STATUS         STARTED Testing function: rnb.execute.computeDiffMeth and Variability
2020-10-17 08:00:31     3.5  STATUS             STARTED Retrieving comparison info
2020-10-17 08:00:31     3.5  STATUS             COMPLETED Retrieving comparison info
2020-10-17 08:00:31     3.5  STATUS             STARTED Computing differential methylation tables
2020-10-17 08:00:31     3.5  STATUS                 STARTED Comparing: hESC vs. hiPSC (based on Sample_Group)
2020-10-17 08:00:31     3.5  STATUS                     STARTED Computing Differential Methylation Table
2020-10-17 08:00:31     3.5    INFO                         Conducting differential analysis using limma
2020-10-17 08:00:32     3.5  STATUS                         STARTED Imputation procedure knn 
2020-10-17 08:00:32     3.5  STATUS                         COMPLETED Imputation procedure knn 
2020-10-17 08:00:32     3.5    INFO                         Conducting differential variability using diffVar
2020-10-17 08:00:32     3.5  STATUS                         STARTED diffVar method
2020-10-17 08:00:32     3.5  STATUS                         COMPLETED diffVar method
2020-10-17 08:00:32     3.5  STATUS                     COMPLETED Computing Differential Methylation Table
2020-10-17 08:00:32     3.5  STATUS                     STARTED Computing Differential Methylation Tables (Region Level)
2020-10-17 08:00:39     2.9  STATUS                         Computed table for tiling
2020-10-17 08:00:40     2.9  STATUS                         Computed table for genes
2020-10-17 08:00:41     2.9  STATUS                         Computed table for promoters
2020-10-17 08:00:41     3.0  STATUS                         Computed table for cpgislands
2020-10-17 08:00:41     3.0  STATUS                     COMPLETED Computing Differential Methylation Tables (Region Level)
2020-10-17 08:00:41     3.0  STATUS                 COMPLETED Comparing: hESC vs. hiPSC (based on Sample_Group)
2020-10-17 08:00:41     3.0  STATUS                 STARTED Comparing: KOSR vs. TeSR (based on Treatment)
2020-10-17 08:00:41     3.0  STATUS                     STARTED Computing Differential Methylation Table
2020-10-17 08:00:42     3.0    INFO                         Conducting differential analysis using limma
2020-10-17 08:00:42     3.0  STATUS                         STARTED Imputation procedure knn 
2020-10-17 08:00:42     3.0  STATUS                         COMPLETED Imputation procedure knn 
2020-10-17 08:00:42     3.0    INFO                         Conducting differential variability using diffVar
2020-10-17 08:00:42     3.0  STATUS                         STARTED diffVar method
2020-10-17 08:00:42     3.0  STATUS                         COMPLETED diffVar method
2020-10-17 08:00:42     3.0  STATUS                     COMPLETED Computing Differential Methylation Table
2020-10-17 08:00:42     3.0  STATUS                     STARTED Computing Differential Methylation Tables (Region Level)
2020-10-17 08:00:43     3.2  STATUS                         Computed table for tiling
2020-10-17 08:00:43     3.3  STATUS                         Computed table for genes
2020-10-17 08:00:45     3.3  STATUS                         Computed table for promoters
2020-10-17 08:00:45     3.3  STATUS                         Computed table for cpgislands
2020-10-17 08:00:45     3.3  STATUS                     COMPLETED Computing Differential Methylation Tables (Region Level)
2020-10-17 08:00:45     3.3  STATUS                 COMPLETED Comparing: KOSR vs. TeSR (based on Treatment)
2020-10-17 08:00:45     3.3  STATUS             COMPLETED Computing differential methylation tables
2020-10-17 08:00:45     3.3  STATUS         COMPLETED Testing function: rnb.execute.computeDiffMeth and Variability
2020-10-17 08:00:45     3.3  STATUS         STARTED Testing class: RnBDiffMeth
2020-10-17 08:00:45     3.3  STATUS             STARTED Retrieving comparison info
2020-10-17 08:00:45     3.3  STATUS             COMPLETED Retrieving comparison info
2020-10-17 08:00:46     3.3  STATUS             STARTED Computing differential methylation tables
2020-10-17 08:00:46     3.3  STATUS                 STARTED Comparing: hESC vs. hiPSC (based on Sample_Group)
2020-10-17 08:00:46     3.3  STATUS                     STARTED Computing Differential Methylation Table
2020-10-17 08:00:46     3.3    INFO                         Conducting differential analysis using limma
2020-10-17 08:00:46     3.3  STATUS                     COMPLETED Computing Differential Methylation Table
2020-10-17 08:00:46     3.3  STATUS                     STARTED Computing Differential Methylation Tables (Region Level)
2020-10-17 08:00:47     3.4  STATUS                         Computed table for tiling
2020-10-17 08:00:47     3.4  STATUS                         Computed table for genes
2020-10-17 08:00:47     3.4  STATUS                         Computed table for promoters
2020-10-17 08:00:47     3.4  STATUS                         Computed table for cpgislands
2020-10-17 08:00:48     3.4  STATUS                     COMPLETED Computing Differential Methylation Tables (Region Level)
2020-10-17 08:00:48     3.4  STATUS                 COMPLETED Comparing: hESC vs. hiPSC (based on Sample_Group)
2020-10-17 08:00:48     3.4  STATUS                 STARTED Comparing: KOSR vs. TeSR (based on Treatment)
2020-10-17 08:00:48     3.4  STATUS                     STARTED Computing Differential Methylation Table
2020-10-17 08:00:48     3.4    INFO                         Conducting differential analysis using limma
2020-10-17 08:00:48     3.4  STATUS                     COMPLETED Computing Differential Methylation Table
2020-10-17 08:00:48     3.4  STATUS                     STARTED Computing Differential Methylation Tables (Region Level)
2020-10-17 08:00:48     3.4  STATUS                         Computed table for tiling
2020-10-17 08:00:49     3.4  STATUS                         Computed table for genes
2020-10-17 08:00:49     3.4  STATUS                         Computed table for promoters
2020-10-17 08:00:49     3.4  STATUS                         Computed table for cpgislands
2020-10-17 08:00:49     3.4  STATUS                     COMPLETED Computing Differential Methylation Tables (Region Level)
2020-10-17 08:00:49     3.4  STATUS                 COMPLETED Comparing: KOSR vs. TeSR (based on Treatment)
2020-10-17 08:00:49     3.4  STATUS             COMPLETED Computing differential methylation tables
2020-10-17 08:00:50     3.4  STATUS             STARTED Retrieving comparison info
2020-10-17 08:00:50     3.4  STATUS             COMPLETED Retrieving comparison info
2020-10-17 08:00:50     3.4  STATUS             STARTED Computing differential methylation tables
2020-10-17 08:00:50     3.4  STATUS                 STARTED Comparing: hESC vs. hiPSC (based on Sample_Group)
2020-10-17 08:00:50     3.4  STATUS                     STARTED Computing Differential Methylation Table
2020-10-17 08:00:50     3.4    INFO                         Conducting differential analysis using limma
2020-10-17 08:00:51     3.3  STATUS                     COMPLETED Computing Differential Methylation Table
2020-10-17 08:00:51     3.3  STATUS                     STARTED Computing Differential Methylation Tables (Region Level)
2020-10-17 08:00:51     3.4  STATUS                         Computed table for genes
2020-10-17 08:00:52     3.4  STATUS                         Computed table for tiling
2020-10-17 08:00:52     3.4  STATUS                     COMPLETED Computing Differential Methylation Tables (Region Level)
2020-10-17 08:00:52     3.4  STATUS                 COMPLETED Comparing: hESC vs. hiPSC (based on Sample_Group)
2020-10-17 08:00:52     3.4  STATUS             COMPLETED Computing differential methylation tables
2020-10-17 08:00:52     3.4  STATUS             STARTED Retrieving comparison info
2020-10-17 08:00:52     3.4  STATUS             COMPLETED Retrieving comparison info
2020-10-17 08:00:52     3.4  STATUS             STARTED Computing differential methylation tables
2020-10-17 08:00:52     3.4  STATUS                 STARTED Comparing: hESC vs. hiPSC (based on Sample_Group)
2020-10-17 08:00:52     3.4  STATUS                     STARTED Computing Differential Methylation Table
2020-10-17 08:00:52     3.4    INFO                         Conducting differential analysis using limma
2020-10-17 08:00:52     3.4  STATUS                     COMPLETED Computing Differential Methylation Table
2020-10-17 08:00:52     3.4  STATUS                     STARTED Computing Differential Methylation Tables (Region Level)
2020-10-17 08:00:53     3.4  STATUS                         Computed table for genes
2020-10-17 08:00:53     3.4  STATUS                         Computed table for tiling
2020-10-17 08:00:53     3.4  STATUS                     COMPLETED Computing Differential Methylation Tables (Region Level)
2020-10-17 08:00:53     3.4  STATUS                 COMPLETED Comparing: hESC vs. hiPSC (based on Sample_Group)
2020-10-17 08:00:53     3.4  STATUS             COMPLETED Computing differential methylation tables
2020-10-17 08:00:53     3.4  STATUS             STARTED Retrieving comparison info
2020-10-17 08:00:53     3.4  STATUS             COMPLETED Retrieving comparison info
2020-10-17 08:00:53     3.4  STATUS             STARTED Computing differential methylation tables
2020-10-17 08:00:54     3.4  STATUS                 STARTED Comparing: hESC vs. hiPSC (based on Sample_Group)
2020-10-17 08:00:54     3.4  STATUS                     STARTED Computing Differential Methylation Table
2020-10-17 08:00:54     3.4    INFO                         Conducting differential analysis using limma
2020-10-17 08:00:54     3.4  STATUS                     COMPLETED Computing Differential Methylation Table
2020-10-17 08:00:54     3.4  STATUS                     STARTED Computing Differential Methylation Tables (Region Level)
2020-10-17 08:00:54     3.4  STATUS                         Computed table for promoters
2020-10-17 08:00:54     3.4  STATUS                     COMPLETED Computing Differential Methylation Tables (Region Level)
2020-10-17 08:00:54     3.4  STATUS                 COMPLETED Comparing: hESC vs. hiPSC (based on Sample_Group)
2020-10-17 08:00:55     3.4  STATUS                 STARTED Comparing: KOSR vs. TeSR (based on Treatment)
2020-10-17 08:00:55     3.4  STATUS                     STARTED Computing Differential Methylation Table
2020-10-17 08:00:55     3.4    INFO                         Conducting differential analysis using limma
2020-10-17 08:00:55     3.4  STATUS                     COMPLETED Computing Differential Methylation Table
2020-10-17 08:00:55     3.4  STATUS                     STARTED Computing Differential Methylation Tables (Region Level)
2020-10-17 08:00:55     3.4  STATUS                         Computed table for promoters
2020-10-17 08:00:55     3.4  STATUS                     COMPLETED Computing Differential Methylation Tables (Region Level)
2020-10-17 08:00:55     3.4  STATUS                 COMPLETED Comparing: KOSR vs. TeSR (based on Treatment)
2020-10-17 08:00:56     3.4  STATUS             COMPLETED Computing differential methylation tables
2020-10-17 08:00:56     3.4  STATUS             STARTED Retrieving comparison info
2020-10-17 08:00:56     3.4  STATUS             COMPLETED Retrieving comparison info
2020-10-17 08:00:56     3.4  STATUS             STARTED Computing differential methylation tables
2020-10-17 08:00:56     3.4  STATUS                 STARTED Comparing: KOSR vs. TeSR (based on Treatment)
2020-10-17 08:00:56     3.4  STATUS                     STARTED Computing Differential Methylation Table
2020-10-17 08:00:56     3.4    INFO                         Conducting differential analysis using limma
2020-10-17 08:00:56     3.4  STATUS                     COMPLETED Computing Differential Methylation Table
2020-10-17 08:00:56     3.4  STATUS                     STARTED Computing Differential Methylation Tables (Region Level)
2020-10-17 08:00:57     3.4  STATUS                         Computed table for genes
2020-10-17 08:00:58     3.4  STATUS                         Computed table for tiling
2020-10-17 08:00:58     3.4  STATUS                     COMPLETED Computing Differential Methylation Tables (Region Level)
2020-10-17 08:00:58     3.4  STATUS                 COMPLETED Comparing: KOSR vs. TeSR (based on Treatment)
2020-10-17 08:00:58     3.4  STATUS             COMPLETED Computing differential methylation tables
2020-10-17 08:00:58     3.4  STATUS             STARTED Testing function: get.region.types
2020-10-17 08:00:58     3.4  STATUS             COMPLETED Testing function: get.region.types
2020-10-17 08:00:58     3.4  STATUS             STARTED Testing function: get.comparisons
2020-10-17 08:00:58     3.4  STATUS             COMPLETED Testing function: get.comparisons
2020-10-17 08:00:58     3.4  STATUS             STARTED Testing function: get.comparison.grouplabels
2020-10-17 08:00:58     3.4  STATUS             COMPLETED Testing function: get.comparison.grouplabels
2020-10-17 08:00:58     3.4  STATUS             STARTED Testing function: get.site.test.method
2020-10-17 08:00:58     3.4  STATUS             COMPLETED Testing function: get.site.test.method
2020-10-17 08:00:58     3.4  STATUS             STARTED Testing function: get.table
2020-10-17 08:00:58     3.4  STATUS             COMPLETED Testing function: get.table
2020-10-17 08:00:59     3.4  STATUS             STARTED Testing function: addDiffMethTable
2020-10-17 08:00:59     3.4    INFO                 Conducting differential analysis using limma
2020-10-17 08:01:00     3.3  STATUS             COMPLETED Testing function: addDiffMethTable
2020-10-17 08:01:00     3.3  STATUS             STARTED Testing functions: join.diffMeth, is.valid
2020-10-17 08:01:00     3.3  STATUS             COMPLETED Testing functions: join.diffMeth, is.valid
2020-10-17 08:01:00     3.3  STATUS             STARTED Destructor
2020-10-17 08:01:00     3.3  STATUS                 STARTED Deleting RnBDiffMeth disk dump files from disk
2020-10-17 08:01:00     3.3  STATUS                 COMPLETED Deleting RnBDiffMeth disk dump files from disk
2020-10-17 08:01:00     3.3  STATUS                 STARTED Deleting RnBDiffMeth disk dump files from disk
2020-10-17 08:01:00     3.3  STATUS                 COMPLETED Deleting RnBDiffMeth disk dump files from disk
2020-10-17 08:01:00     3.3  STATUS                 STARTED Deleting RnBDiffMeth disk dump files from disk
2020-10-17 08:01:00     3.3  STATUS                 COMPLETED Deleting RnBDiffMeth disk dump files from disk
2020-10-17 08:01:01     3.3  STATUS                 STARTED Deleting RnBDiffMeth disk dump files from disk
2020-10-17 08:01:01     3.3  STATUS                 COMPLETED Deleting RnBDiffMeth disk dump files from disk
2020-10-17 08:01:01     3.3  STATUS             COMPLETED Destructor
2020-10-17 08:01:01     3.3  STATUS         COMPLETED Testing class: RnBDiffMeth
2020-10-17 08:01:01     3.3  STATUS     COMPLETED Testing function: apply.iEVORA
2020-10-17 08:01:01     3.4  STATUS     STARTED Retrieving comparison info
2020-10-17 08:01:01     3.4  STATUS     COMPLETED Retrieving comparison info
2020-10-17 08:01:01     3.4  STATUS     STARTED Computing differential methylation tables
2020-10-17 08:01:01     3.4  STATUS         STARTED Comparing: hESC vs. hiPSC (based on Sample_Group)
2020-10-17 08:01:01     3.4  STATUS             STARTED Computing Differential Methylation Table
2020-10-17 08:01:01     3.4    INFO                 Conducting differential analysis using limma
2020-10-17 08:01:01     3.4  STATUS             COMPLETED Computing Differential Methylation Table
2020-10-17 08:01:02     3.4  STATUS             STARTED Computing Differential Methylation Tables (Region Level)
2020-10-17 08:01:02     3.4  STATUS                 Computed table for tiling
2020-10-17 08:01:02     3.4  STATUS                 Computed table for genes
2020-10-17 08:01:03     3.4  STATUS                 Computed table for promoters
2020-10-17 08:01:03     3.4  STATUS                 Computed table for cpgislands
2020-10-17 08:01:03     3.4  STATUS             COMPLETED Computing Differential Methylation Tables (Region Level)
2020-10-17 08:01:03     3.4  STATUS         COMPLETED Comparing: hESC vs. hiPSC (based on Sample_Group)
2020-10-17 08:01:03     3.4  STATUS         STARTED Comparing: KOSR vs. TeSR (based on Treatment)
2020-10-17 08:01:03     3.4  STATUS             STARTED Computing Differential Methylation Table
2020-10-17 08:01:03     3.4    INFO                 Conducting differential analysis using limma
2020-10-17 08:01:03     3.4  STATUS             COMPLETED Computing Differential Methylation Table
2020-10-17 08:01:04     3.4  STATUS             STARTED Computing Differential Methylation Tables (Region Level)
2020-10-17 08:01:04     3.4  STATUS                 Computed table for tiling
2020-10-17 08:01:05     3.4  STATUS                 Computed table for genes
2020-10-17 08:01:05     3.4  STATUS                 Computed table for promoters
2020-10-17 08:01:05     3.4  STATUS                 Computed table for cpgislands
2020-10-17 08:01:05     3.4  STATUS             COMPLETED Computing Differential Methylation Tables (Region Level)
2020-10-17 08:01:05     3.4  STATUS         COMPLETED Comparing: KOSR vs. TeSR (based on Treatment)
2020-10-17 08:01:05     3.4  STATUS     COMPLETED Computing differential methylation tables
2020-10-17 08:01:06     3.4  STATUS     STARTED Retrieving comparison info
2020-10-17 08:01:06     3.4  STATUS     COMPLETED Retrieving comparison info
2020-10-17 08:01:06     3.4  STATUS     STARTED Computing differential methylation tables
2020-10-17 08:01:06     3.4  STATUS         STARTED Comparing: hESC vs. hiPSC (based on Sample_Group)
2020-10-17 08:01:06     3.4  STATUS             STARTED Computing Differential Methylation Table
2020-10-17 08:01:06     3.4    INFO                 Conducting differential analysis using limma
2020-10-17 08:01:06     3.4  STATUS             COMPLETED Computing Differential Methylation Table
2020-10-17 08:01:06     3.4  STATUS             STARTED Computing Differential Methylation Tables (Region Level)
2020-10-17 08:01:07     3.4  STATUS                 Computed table for genes
2020-10-17 08:01:07     3.4  STATUS                 Computed table for tiling
2020-10-17 08:01:07     3.4  STATUS             COMPLETED Computing Differential Methylation Tables (Region Level)
2020-10-17 08:01:08     3.4  STATUS         COMPLETED Comparing: hESC vs. hiPSC (based on Sample_Group)
2020-10-17 08:01:08     3.4  STATUS     COMPLETED Computing differential methylation tables
2020-10-17 08:01:08     3.4  STATUS     STARTED Retrieving comparison info
2020-10-17 08:01:08     3.4  STATUS     COMPLETED Retrieving comparison info
2020-10-17 08:01:08     3.4  STATUS     STARTED Computing differential methylation tables
2020-10-17 08:01:08     3.4  STATUS         STARTED Comparing: hESC vs. hiPSC (based on Sample_Group)
2020-10-17 08:01:08     3.4  STATUS             STARTED Computing Differential Methylation Table
2020-10-17 08:01:08     3.4    INFO                 Conducting differential analysis using limma
2020-10-17 08:01:08     3.4  STATUS             COMPLETED Computing Differential Methylation Table
2020-10-17 08:01:08     3.4  STATUS             STARTED Computing Differential Methylation Tables (Region Level)
2020-10-17 08:01:08     3.4  STATUS                 Computed table for genes
2020-10-17 08:01:09     3.4  STATUS                 Computed table for tiling
2020-10-17 08:01:09     3.4  STATUS             COMPLETED Computing Differential Methylation Tables (Region Level)
2020-10-17 08:01:09     3.4  STATUS         COMPLETED Comparing: hESC vs. hiPSC (based on Sample_Group)
2020-10-17 08:01:09     3.4  STATUS     COMPLETED Computing differential methylation tables
2020-10-17 08:01:09     3.4  STATUS     STARTED Retrieving comparison info
2020-10-17 08:01:09     3.4  STATUS     COMPLETED Retrieving comparison info
2020-10-17 08:01:09     3.4  STATUS     STARTED Computing differential methylation tables
2020-10-17 08:01:10     3.4  STATUS         STARTED Comparing: hESC vs. hiPSC (based on Sample_Group)
2020-10-17 08:01:10     3.4  STATUS             STARTED Computing Differential Methylation Table
2020-10-17 08:01:10     3.4    INFO                 Conducting differential analysis using limma
2020-10-17 08:01:10     3.4  STATUS             COMPLETED Computing Differential Methylation Table
2020-10-17 08:01:10     3.4  STATUS             STARTED Computing Differential Methylation Tables (Region Level)
2020-10-17 08:01:10     3.4  STATUS                 Computed table for promoters
2020-10-17 08:01:10     3.4  STATUS             COMPLETED Computing Differential Methylation Tables (Region Level)
2020-10-17 08:01:10     3.4  STATUS         COMPLETED Comparing: hESC vs. hiPSC (based on Sample_Group)
2020-10-17 08:01:10     3.4  STATUS         STARTED Comparing: KOSR vs. TeSR (based on Treatment)
2020-10-17 08:01:10     3.4  STATUS             STARTED Computing Differential Methylation Table
2020-10-17 08:01:10     3.4    INFO                 Conducting differential analysis using limma
2020-10-17 08:01:11     3.4  STATUS             COMPLETED Computing Differential Methylation Table
2020-10-17 08:01:11     3.4  STATUS             STARTED Computing Differential Methylation Tables (Region Level)
2020-10-17 08:01:11     3.4  STATUS                 Computed table for promoters
2020-10-17 08:01:11     3.4  STATUS             COMPLETED Computing Differential Methylation Tables (Region Level)
2020-10-17 08:01:11     3.4  STATUS         COMPLETED Comparing: KOSR vs. TeSR (based on Treatment)
2020-10-17 08:01:11     3.4  STATUS     COMPLETED Computing differential methylation tables
2020-10-17 08:01:11     3.4  STATUS     STARTED Retrieving comparison info
2020-10-17 08:01:12     3.4  STATUS     COMPLETED Retrieving comparison info
2020-10-17 08:01:12     3.4  STATUS     STARTED Computing differential methylation tables
2020-10-17 08:01:12     3.4  STATUS         STARTED Comparing: KOSR vs. TeSR (based on Treatment)
2020-10-17 08:01:12     3.4  STATUS             STARTED Computing Differential Methylation Table
2020-10-17 08:01:12     3.4    INFO                 Conducting differential analysis using limma
2020-10-17 08:01:12     3.4  STATUS             COMPLETED Computing Differential Methylation Table
2020-10-17 08:01:12     3.4  STATUS             STARTED Computing Differential Methylation Tables (Region Level)
2020-10-17 08:01:12     3.4  STATUS                 Computed table for genes
2020-10-17 08:01:13     3.4  STATUS                 Computed table for tiling
2020-10-17 08:01:13     3.4  STATUS             COMPLETED Computing Differential Methylation Tables (Region Level)
2020-10-17 08:01:13     3.4  STATUS         COMPLETED Comparing: KOSR vs. TeSR (based on Treatment)
2020-10-17 08:01:13     3.4  STATUS     COMPLETED Computing differential methylation tables
2020-10-17 08:01:13     3.4  STATUS     STARTED Testing function: get.region.types
2020-10-17 08:01:13     3.4  STATUS     COMPLETED Testing function: get.region.types
2020-10-17 08:01:13     3.4  STATUS     STARTED Testing function: get.comparisons
2020-10-17 08:01:13     3.4  STATUS     COMPLETED Testing function: get.comparisons
2020-10-17 08:01:13     3.4  STATUS     STARTED Testing function: get.comparison.grouplabels
2020-10-17 08:01:13     3.4  STATUS     COMPLETED Testing function: get.comparison.grouplabels
2020-10-17 08:01:14     3.4  STATUS     STARTED Testing function: get.site.test.method
2020-10-17 08:01:14     3.4  STATUS     COMPLETED Testing function: get.site.test.method
2020-10-17 08:01:14     3.4  STATUS     STARTED Testing function: get.table
2020-10-17 08:01:14     3.4  STATUS     COMPLETED Testing function: get.table
2020-10-17 08:01:14     3.4  STATUS     STARTED Testing function: addDiffMethTable
2020-10-17 08:01:14     3.4    INFO         Conducting differential analysis using limma
2020-10-17 08:01:15     3.3  STATUS     COMPLETED Testing function: addDiffMethTable
2020-10-17 08:01:15     3.3  STATUS     STARTED Testing functions: join.diffMeth, is.valid
2020-10-17 08:01:15     3.4  STATUS     COMPLETED Testing functions: join.diffMeth, is.valid
2020-10-17 08:01:15     3.4  STATUS     STARTED Destructor
2020-10-17 08:01:15     3.4  STATUS         STARTED Deleting RnBDiffMeth disk dump files from disk
2020-10-17 08:01:15     3.4  STATUS         COMPLETED Deleting RnBDiffMeth disk dump files from disk
2020-10-17 08:01:15     3.4  STATUS         STARTED Deleting RnBDiffMeth disk dump files from disk
2020-10-17 08:01:15     3.4  STATUS         COMPLETED Deleting RnBDiffMeth disk dump files from disk
2020-10-17 08:01:15     3.4  STATUS         STARTED Deleting RnBDiffMeth disk dump files from disk
2020-10-17 08:01:16     3.4  STATUS         COMPLETED Deleting RnBDiffMeth disk dump files from disk
2020-10-17 08:01:16     3.4  STATUS         STARTED Deleting RnBDiffMeth disk dump files from disk
2020-10-17 08:01:16     3.4  STATUS         COMPLETED Deleting RnBDiffMeth disk dump files from disk
2020-10-17 08:01:16     3.4  STATUS     COMPLETED Destructor
2020-10-17 08:01:16     3.4    INFO     Conducting differential analysis using limma
2020-10-17 08:01:16     3.4    INFO     Conducting differential analysis using limma
2020-10-17 08:01:16     3.4  STATUS     STARTED diffVar method
2020-10-17 08:01:17     3.4  STATUS     COMPLETED diffVar method
2020-10-17 08:01:17     3.4  STATUS     STARTED diffVar method
Coefficients not estimable: x2x2 
2020-10-17 08:01:17     3.4  STATUS     COMPLETED diffVar method
2020-10-17 08:01:17     3.4  STATUS     STARTED diffVar method
2020-10-17 08:01:18     3.4 WARNING         Could not compute p-values with diffVar, returning NA
2020-10-17 08:01:18     3.4  STATUS STARTED Unit testing: differential
2020-10-17 08:01:18     3.4  STATUS     STARTED Testing function: rowWelchP
2020-10-17 08:01:18     3.4  STATUS     COMPLETED Testing function: rowWelchP
2020-10-17 08:01:18     3.4  STATUS     STARTED Testing function: limmaP
2020-10-17 08:01:18     3.4  STATUS     COMPLETED Testing function: limmaP
2020-10-17 08:01:18     3.4  STATUS     STARTED Testing function: computeDiffTab.extended.site
2020-10-17 08:01:18     3.4    INFO         Conducting differential analysis using limma
2020-10-17 08:01:19     3.4  STATUS     COMPLETED Testing function: computeDiffTab.extended.site
2020-10-17 08:01:19     3.4  STATUS     STARTED Testing function: computeDiffTab.default.region
2020-10-17 08:01:19     3.4    INFO         Conducting differential analysis using limma
2020-10-17 08:01:19     3.4  STATUS     COMPLETED Testing function: computeDiffTab.default.region
2020-10-17 08:01:19     3.4  STATUS     STARTED Testing function: combineTestPvalsMeth
2020-10-17 08:01:19     3.4  STATUS     COMPLETED Testing function: combineTestPvalsMeth
2020-10-17 08:01:19     3.4  STATUS     STARTED Testing function: get.adjustment.variables
2020-10-17 08:01:19     3.4  STATUS     COMPLETED Testing function: get.adjustment.variables
2020-10-17 08:01:20     3.4  STATUS     STARTED Testing function: get.comparison.info
2020-10-17 08:01:20     3.4  STATUS     COMPLETED Testing function: get.comparison.info
2020-10-17 08:01:20     3.4  STATUS     STARTED Testing function: rnb.execute.computeDiffMeth
2020-10-17 08:01:20     3.4  STATUS         STARTED Retrieving comparison info
2020-10-17 08:01:20     3.4  STATUS         COMPLETED Retrieving comparison info
2020-10-17 08:01:20     3.4  STATUS         STARTED Computing differential methylation tables
2020-10-17 08:01:20     3.4  STATUS             STARTED Comparing: hESC vs. hiPSC (based on Sample_Group)
2020-10-17 08:01:20     3.4  STATUS                 STARTED Computing Differential Methylation Table
2020-10-17 08:01:20     3.4    INFO                     Conducting differential analysis using limma
2020-10-17 08:01:20     3.4  STATUS                 COMPLETED Computing Differential Methylation Table
2020-10-17 08:01:20     3.4  STATUS                 STARTED Computing Differential Methylation Tables (Region Level)
2020-10-17 08:01:21     3.4  STATUS                     Computed table for tiling
2020-10-17 08:01:21     3.4  STATUS                     Computed table for genes
2020-10-17 08:01:22     3.4  STATUS                     Computed table for promoters
2020-10-17 08:01:22     3.4  STATUS                     Computed table for cpgislands
2020-10-17 08:01:22     3.4  STATUS                 COMPLETED Computing Differential Methylation Tables (Region Level)
2020-10-17 08:01:22     3.4  STATUS             COMPLETED Comparing: hESC vs. hiPSC (based on Sample_Group)
2020-10-17 08:01:22     3.4  STATUS             STARTED Comparing: KOSR vs. TeSR (based on Treatment)
2020-10-17 08:01:22     3.4  STATUS                 STARTED Computing Differential Methylation Table
2020-10-17 08:01:22     3.4    INFO                     Conducting differential analysis using limma
2020-10-17 08:01:22     3.4  STATUS                 COMPLETED Computing Differential Methylation Table
2020-10-17 08:01:23     3.4  STATUS                 STARTED Computing Differential Methylation Tables (Region Level)
2020-10-17 08:01:23     3.5  STATUS                     Computed table for tiling
2020-10-17 08:01:24     3.4  STATUS                     Computed table for genes
2020-10-17 08:01:24     3.4  STATUS                     Computed table for promoters
2020-10-17 08:01:25     3.4  STATUS                     Computed table for cpgislands
2020-10-17 08:01:25     3.4  STATUS                 COMPLETED Computing Differential Methylation Tables (Region Level)
2020-10-17 08:01:25     3.4  STATUS             COMPLETED Comparing: KOSR vs. TeSR (based on Treatment)
2020-10-17 08:01:25     3.4  STATUS         COMPLETED Computing differential methylation tables
2020-10-17 08:01:25     3.4  STATUS     COMPLETED Testing function: rnb.execute.computeDiffMeth
2020-10-17 08:01:25     3.4  STATUS     STARTED Testing function: diffVar
2020-10-17 08:01:25     3.4  STATUS         STARTED diffVar method
2020-10-17 08:01:25     3.4  STATUS         COMPLETED diffVar method
2020-10-17 08:01:25     3.4  STATUS         STARTED diffVar method
Coefficients not estimable: x2x2 
2020-10-17 08:01:26     3.4  STATUS         COMPLETED diffVar method
2020-10-17 08:01:26     3.4  STATUS     COMPLETED Testing function: diffVar
2020-10-17 08:01:26     3.4  STATUS     STARTED Testing function: apply.iEVORA
2020-10-17 08:01:26     3.4  STATUS         STARTED iEVORA method
2020-10-17 08:01:27     3.4    INFO             No DVCs detected. All p-values set to 1.
2020-10-17 08:01:27     3.4  STATUS         COMPLETED iEVORA method
2020-10-17 08:01:27     3.4  STATUS         STARTED Testing function: rnb.execute.diffVar
2020-10-17 08:01:27     3.4  STATUS             STARTED Differential Variability
2020-10-17 08:01:27     3.4  STATUS                 STARTED Retrieving comparison info
2020-10-17 08:01:27     3.4  STATUS                 COMPLETED Retrieving comparison info
2020-10-17 08:01:27     3.4  STATUS                 STARTED Imputation procedure knn 
2020-10-17 08:01:28     3.4  STATUS                 COMPLETED Imputation procedure knn 
2020-10-17 08:01:28     3.4  STATUS                 STARTED Comparing  hESC vs. hiPSC (based on Sample_Group)
2020-10-17 08:01:28     3.4    INFO                     Conducting differential variability using diffVar
2020-10-17 08:01:28     3.4  STATUS                     STARTED diffVar method
2020-10-17 08:01:28     3.4  STATUS                     COMPLETED diffVar method
2020-10-17 08:01:28     3.4  STATUS                     STARTED Computing Differential Variability Tables (Region Level)
2020-10-17 08:01:28     3.4  STATUS                         Computed table for tiling
2020-10-17 08:01:29     3.4  STATUS                         Computed table for genes
2020-10-17 08:01:29     3.4  STATUS                         Computed table for promoters
2020-10-17 08:01:29     3.4  STATUS                         Computed table for cpgislands
2020-10-17 08:01:29     3.4  STATUS                     COMPLETED Computing Differential Variability Tables (Region Level)
2020-10-17 08:01:29     3.4  STATUS                 COMPLETED Comparing  hESC vs. hiPSC (based on Sample_Group)
2020-10-17 08:01:29     3.4  STATUS                 STARTED Comparing  KOSR vs. TeSR (based on Treatment)
2020-10-17 08:01:30     3.4    INFO                     Conducting differential variability using diffVar
2020-10-17 08:01:30     3.4  STATUS                     STARTED diffVar method
2020-10-17 08:01:30     3.4  STATUS                     COMPLETED diffVar method
2020-10-17 08:01:30     3.4  STATUS                     STARTED Computing Differential Variability Tables (Region Level)
2020-10-17 08:01:31     3.4  STATUS                         Computed table for tiling
2020-10-17 08:01:32     3.4  STATUS                         Computed table for genes
2020-10-17 08:01:32     3.4  STATUS                         Computed table for promoters
2020-10-17 08:01:32     3.4  STATUS                         Computed table for cpgislands
2020-10-17 08:01:32     3.4  STATUS                     COMPLETED Computing Differential Variability Tables (Region Level)
2020-10-17 08:01:32     3.4  STATUS                 COMPLETED Comparing  KOSR vs. TeSR (based on Treatment)
2020-10-17 08:01:32     3.4  STATUS             COMPLETED Differential Variability
2020-10-17 08:01:32     3.4  STATUS         COMPLETED Testing function: rnb.execute.diffVar
2020-10-17 08:01:33     3.4  STATUS         STARTED Testing function: rnb.execute.computeDiffMeth and Variability
2020-10-17 08:01:33     3.4  STATUS             STARTED Retrieving comparison info
2020-10-17 08:01:33     3.4  STATUS             COMPLETED Retrieving comparison info
2020-10-17 08:01:33     3.4  STATUS             STARTED Computing differential methylation tables
2020-10-17 08:01:33     3.4  STATUS                 STARTED Comparing: hESC vs. hiPSC (based on Sample_Group)
2020-10-17 08:01:33     3.4  STATUS                     STARTED Computing Differential Methylation Table
2020-10-17 08:01:33     3.4    INFO                         Conducting differential analysis using limma
2020-10-17 08:01:33     3.4  STATUS                         STARTED Imputation procedure knn 
2020-10-17 08:01:33     3.4  STATUS                         COMPLETED Imputation procedure knn 
2020-10-17 08:01:33     3.4    INFO                         Conducting differential variability using diffVar
2020-10-17 08:01:33     3.4  STATUS                         STARTED diffVar method
2020-10-17 08:01:33     3.4  STATUS                         COMPLETED diffVar method
2020-10-17 08:01:34     3.4  STATUS                     COMPLETED Computing Differential Methylation Table
2020-10-17 08:01:34     3.4  STATUS                     STARTED Computing Differential Methylation Tables (Region Level)
2020-10-17 08:01:35     3.4  STATUS                         Computed table for tiling
2020-10-17 08:01:35     3.4  STATUS                         Computed table for genes
2020-10-17 08:01:36     3.4  STATUS                         Computed table for promoters
2020-10-17 08:01:37     3.4  STATUS                         Computed table for cpgislands
2020-10-17 08:01:37     3.4  STATUS                     COMPLETED Computing Differential Methylation Tables (Region Level)
2020-10-17 08:01:37     3.4  STATUS                 COMPLETED Comparing: hESC vs. hiPSC (based on Sample_Group)
2020-10-17 08:01:37     3.4  STATUS                 STARTED Comparing: KOSR vs. TeSR (based on Treatment)
2020-10-17 08:01:37     3.4  STATUS                     STARTED Computing Differential Methylation Table
2020-10-17 08:01:37     3.4    INFO                         Conducting differential analysis using limma
2020-10-17 08:01:37     3.4  STATUS                         STARTED Imputation procedure knn 
2020-10-17 08:01:37     3.4  STATUS                         COMPLETED Imputation procedure knn 
2020-10-17 08:01:37     3.4    INFO                         Conducting differential variability using diffVar
2020-10-17 08:01:37     3.4  STATUS                         STARTED diffVar method
2020-10-17 08:01:37     3.4  STATUS                         COMPLETED diffVar method
2020-10-17 08:01:38     3.4  STATUS                     COMPLETED Computing Differential Methylation Table
2020-10-17 08:01:38     3.4  STATUS                     STARTED Computing Differential Methylation Tables (Region Level)
2020-10-17 08:01:39     3.4  STATUS                         Computed table for tiling
2020-10-17 08:01:40     3.4  STATUS                         Computed table for genes
2020-10-17 08:01:40     3.4  STATUS                         Computed table for promoters
2020-10-17 08:01:40     3.4  STATUS                         Computed table for cpgislands
2020-10-17 08:01:40     3.4  STATUS                     COMPLETED Computing Differential Methylation Tables (Region Level)
2020-10-17 08:01:41     3.4  STATUS                 COMPLETED Comparing: KOSR vs. TeSR (based on Treatment)
2020-10-17 08:01:41     3.4  STATUS             COMPLETED Computing differential methylation tables
2020-10-17 08:01:41     3.4  STATUS         COMPLETED Testing function: rnb.execute.computeDiffMeth and Variability
2020-10-17 08:01:41     3.4  STATUS         STARTED Testing class: RnBDiffMeth
2020-10-17 08:01:41     3.4  STATUS             STARTED Retrieving comparison info
2020-10-17 08:01:41     3.4  STATUS             COMPLETED Retrieving comparison info
2020-10-17 08:01:41     3.4  STATUS             STARTED Computing differential methylation tables
2020-10-17 08:01:41     3.4  STATUS                 STARTED Comparing: hESC vs. hiPSC (based on Sample_Group)
2020-10-17 08:01:41     3.4  STATUS                     STARTED Computing Differential Methylation Table
2020-10-17 08:01:41     3.4    INFO                         Conducting differential analysis using limma
2020-10-17 08:01:41     3.4  STATUS                     COMPLETED Computing Differential Methylation Table
2020-10-17 08:01:41     3.4  STATUS                     STARTED Computing Differential Methylation Tables (Region Level)
2020-10-17 08:01:42     3.4  STATUS                         Computed table for tiling
2020-10-17 08:01:42     3.4  STATUS                         Computed table for genes
2020-10-17 08:01:43     3.4  STATUS                         Computed table for promoters
2020-10-17 08:01:44     3.4  STATUS                         Computed table for cpgislands
2020-10-17 08:01:44     3.4  STATUS                     COMPLETED Computing Differential Methylation Tables (Region Level)
2020-10-17 08:01:44     3.4  STATUS                 COMPLETED Comparing: hESC vs. hiPSC (based on Sample_Group)
2020-10-17 08:01:44     3.4  STATUS                 STARTED Comparing: KOSR vs. TeSR (based on Treatment)
2020-10-17 08:01:44     3.4  STATUS                     STARTED Computing Differential Methylation Table
2020-10-17 08:01:44     3.4    INFO                         Conducting differential analysis using limma
2020-10-17 08:01:44     3.4  STATUS                     COMPLETED Computing Differential Methylation Table
2020-10-17 08:01:44     3.4  STATUS                     STARTED Computing Differential Methylation Tables (Region Level)
2020-10-17 08:01:45     3.4  STATUS                         Computed table for tiling
2020-10-17 08:01:45     3.4  STATUS                         Computed table for genes
2020-10-17 08:01:45     3.4  STATUS                         Computed table for promoters
2020-10-17 08:01:45     3.4  STATUS                         Computed table for cpgislands
2020-10-17 08:01:46     3.4  STATUS                     COMPLETED Computing Differential Methylation Tables (Region Level)
2020-10-17 08:01:46     3.4  STATUS                 COMPLETED Comparing: KOSR vs. TeSR (based on Treatment)
2020-10-17 08:01:46     3.4  STATUS             COMPLETED Computing differential methylation tables
2020-10-17 08:01:46     3.4  STATUS             STARTED Retrieving comparison info
2020-10-17 08:01:46     3.4  STATUS             COMPLETED Retrieving comparison info
2020-10-17 08:01:46     3.4  STATUS             STARTED Computing differential methylation tables
2020-10-17 08:01:46     3.4  STATUS                 STARTED Comparing: hESC vs. hiPSC (based on Sample_Group)
2020-10-17 08:01:46     3.4  STATUS                     STARTED Computing Differential Methylation Table
2020-10-17 08:01:46     3.4    INFO                         Conducting differential analysis using limma
2020-10-17 08:01:46     3.4  STATUS                     COMPLETED Computing Differential Methylation Table
2020-10-17 08:01:46     3.4  STATUS                     STARTED Computing Differential Methylation Tables (Region Level)
2020-10-17 08:01:47     3.4  STATUS                         Computed table for genes
2020-10-17 08:01:48     3.4  STATUS                         Computed table for tiling
2020-10-17 08:01:48     3.4  STATUS                     COMPLETED Computing Differential Methylation Tables (Region Level)
2020-10-17 08:01:48     3.4  STATUS                 COMPLETED Comparing: hESC vs. hiPSC (based on Sample_Group)
2020-10-17 08:01:48     3.4  STATUS             COMPLETED Computing differential methylation tables
2020-10-17 08:01:48     3.4  STATUS             STARTED Retrieving comparison info
2020-10-17 08:01:48     3.4  STATUS             COMPLETED Retrieving comparison info
2020-10-17 08:01:48     3.4  STATUS             STARTED Computing differential methylation tables
2020-10-17 08:01:48     3.4  STATUS                 STARTED Comparing: hESC vs. hiPSC (based on Sample_Group)
2020-10-17 08:01:48     3.4  STATUS                     STARTED Computing Differential Methylation Table
2020-10-17 08:01:48     3.4    INFO                         Conducting differential analysis using limma
2020-10-17 08:01:48     3.4  STATUS                     COMPLETED Computing Differential Methylation Table
2020-10-17 08:01:48     3.4  STATUS                     STARTED Computing Differential Methylation Tables (Region Level)
2020-10-17 08:01:49     3.4  STATUS                         Computed table for genes
2020-10-17 08:01:50     3.4  STATUS                         Computed table for tiling
2020-10-17 08:01:50     3.4  STATUS                     COMPLETED Computing Differential Methylation Tables (Region Level)
2020-10-17 08:01:51     3.4  STATUS                 COMPLETED Comparing: hESC vs. hiPSC (based on Sample_Group)
2020-10-17 08:01:51     3.4  STATUS             COMPLETED Computing differential methylation tables
2020-10-17 08:01:51     3.4  STATUS             STARTED Retrieving comparison info
2020-10-17 08:01:51     3.4  STATUS             COMPLETED Retrieving comparison info
2020-10-17 08:01:51     3.4  STATUS             STARTED Computing differential methylation tables
2020-10-17 08:01:51     3.4  STATUS                 STARTED Comparing: hESC vs. hiPSC (based on Sample_Group)
2020-10-17 08:01:51     3.4  STATUS                     STARTED Computing Differential Methylation Table
2020-10-17 08:01:51     3.4    INFO                         Conducting differential analysis using limma
2020-10-17 08:01:51     3.4  STATUS                     COMPLETED Computing Differential Methylation Table
2020-10-17 08:01:51     3.4  STATUS                     STARTED Computing Differential Methylation Tables (Region Level)
2020-10-17 08:01:52     3.4  STATUS                         Computed table for promoters
2020-10-17 08:01:52     3.4  STATUS                     COMPLETED Computing Differential Methylation Tables (Region Level)
2020-10-17 08:01:52     3.4  STATUS                 COMPLETED Comparing: hESC vs. hiPSC (based on Sample_Group)
2020-10-17 08:01:52     3.4  STATUS                 STARTED Comparing: KOSR vs. TeSR (based on Treatment)
2020-10-17 08:01:52     3.4  STATUS                     STARTED Computing Differential Methylation Table
2020-10-17 08:01:52     3.4    INFO                         Conducting differential analysis using limma
2020-10-17 08:01:52     3.4  STATUS                     COMPLETED Computing Differential Methylation Table
2020-10-17 08:01:52     3.4  STATUS                     STARTED Computing Differential Methylation Tables (Region Level)
2020-10-17 08:01:53     3.4  STATUS                         Computed table for promoters
2020-10-17 08:01:53     3.4  STATUS                     COMPLETED Computing Differential Methylation Tables (Region Level)
2020-10-17 08:01:53     3.4  STATUS                 COMPLETED Comparing: KOSR vs. TeSR (based on Treatment)
2020-10-17 08:01:53     3.4  STATUS             COMPLETED Computing differential methylation tables
2020-10-17 08:01:53     3.4  STATUS             STARTED Retrieving comparison info
2020-10-17 08:01:53     3.4  STATUS             COMPLETED Retrieving comparison info
2020-10-17 08:01:53     3.4  STATUS             STARTED Computing differential methylation tables
2020-10-17 08:01:53     3.4  STATUS                 STARTED Comparing: KOSR vs. TeSR (based on Treatment)
2020-10-17 08:01:53     3.4  STATUS                     STARTED Computing Differential Methylation Table
2020-10-17 08:01:53     3.4    INFO                         Conducting differential analysis using limma
2020-10-17 08:01:53     3.4  STATUS                     COMPLETED Computing Differential Methylation Table
2020-10-17 08:01:53     3.4  STATUS                     STARTED Computing Differential Methylation Tables (Region Level)
2020-10-17 08:01:54     3.4  STATUS                         Computed table for genes
2020-10-17 08:01:55     3.4  STATUS                         Computed table for tiling
2020-10-17 08:01:55     3.4  STATUS                     COMPLETED Computing Differential Methylation Tables (Region Level)
2020-10-17 08:01:55     3.4  STATUS                 COMPLETED Comparing: KOSR vs. TeSR (based on Treatment)
2020-10-17 08:01:55     3.4  STATUS             COMPLETED Computing differential methylation tables
2020-10-17 08:01:55     3.4  STATUS             STARTED Testing function: get.region.types
2020-10-17 08:01:55     3.4  STATUS             COMPLETED Testing function: get.region.types
2020-10-17 08:01:55     3.4  STATUS             STARTED Testing function: get.comparisons
2020-10-17 08:01:55     3.4  STATUS             COMPLETED Testing function: get.comparisons
2020-10-17 08:01:55     3.4  STATUS             STARTED Testing function: get.comparison.grouplabels
2020-10-17 08:01:55     3.4  STATUS             COMPLETED Testing function: get.comparison.grouplabels
2020-10-17 08:01:55     3.4  STATUS             STARTED Testing function: get.site.test.method
2020-10-17 08:01:55     3.4  STATUS             COMPLETED Testing function: get.site.test.method
2020-10-17 08:01:55     3.4  STATUS             STARTED Testing function: get.table
2020-10-17 08:01:56     3.4  STATUS             COMPLETED Testing function: get.table
2020-10-17 08:01:56     3.4  STATUS             STARTED Testing function: addDiffMethTable
2020-10-17 08:01:56     3.4    INFO                 Conducting differential analysis using limma
2020-10-17 08:01:56     3.4  STATUS             COMPLETED Testing function: addDiffMethTable
2020-10-17 08:01:56     3.4  STATUS             STARTED Testing functions: join.diffMeth, is.valid
2020-10-17 08:01:56     3.4  STATUS             COMPLETED Testing functions: join.diffMeth, is.valid
2020-10-17 08:01:56     3.4  STATUS             STARTED Destructor
2020-10-17 08:01:56     3.4  STATUS                 STARTED Deleting RnBDiffMeth disk dump files from disk
2020-10-17 08:01:56     3.4  STATUS                 COMPLETED Deleting RnBDiffMeth disk dump files from disk
2020-10-17 08:01:56     3.4  STATUS                 STARTED Deleting RnBDiffMeth disk dump files from disk
2020-10-17 08:01:57     3.4  STATUS                 COMPLETED Deleting RnBDiffMeth disk dump files from disk
2020-10-17 08:01:57     3.4  STATUS                 STARTED Deleting RnBDiffMeth disk dump files from disk
2020-10-17 08:01:57     3.4  STATUS                 COMPLETED Deleting RnBDiffMeth disk dump files from disk
2020-10-17 08:01:57     3.4  STATUS                 STARTED Deleting RnBDiffMeth disk dump files from disk
2020-10-17 08:01:57     3.4  STATUS                 COMPLETED Deleting RnBDiffMeth disk dump files from disk
2020-10-17 08:01:57     3.4  STATUS             COMPLETED Destructor
2020-10-17 08:01:57     3.4  STATUS         COMPLETED Testing class: RnBDiffMeth
2020-10-17 08:01:57     3.4  STATUS     COMPLETED Testing function: apply.iEVORA
2020-10-17 08:01:57     3.4  STATUS     STARTED iEVORA method
2020-10-17 08:01:58     3.4    INFO         No DVCs detected. All p-values set to 1.
Coefficients not estimable: x2x2 
2020-10-17 08:01:58     3.4  STATUS         STARTED Retrieving comparison info
2020-10-17 08:01:59     3.4  STATUS         COMPLETED Retrieving comparison info
2020-10-17 08:01:59     3.4  STATUS         STARTED Computing differential methylation tables
2020-10-17 08:01:59     3.4  STATUS             STARTED Comparing: hESC vs. hiPSC (based on Sample_Group)
2020-10-17 08:01:59     3.4  STATUS                 STARTED Computing Differential Methylation Table
2020-10-17 08:01:59     3.4    INFO                     Conducting differential analysis using limma
2020-10-17 08:01:59     3.4  STATUS                 COMPLETED Computing Differential Methylation Table
2020-10-17 08:01:59     3.4  STATUS                 STARTED Computing Differential Methylation Tables (Region Level)
2020-10-17 08:02:00     3.4  STATUS                     Computed table for tiling
2020-10-17 08:02:00     3.4  STATUS                     Computed table for genes
2020-10-17 08:02:01     3.4  STATUS                     Computed table for promoters
2020-10-17 08:02:01     3.4  STATUS                     Computed table for cpgislands
2020-10-17 08:02:01     3.4  STATUS                 COMPLETED Computing Differential Methylation Tables (Region Level)
2020-10-17 08:02:01     3.4  STATUS             COMPLETED Comparing: hESC vs. hiPSC (based on Sample_Group)
2020-10-17 08:02:01     3.4  STATUS             STARTED Comparing: KOSR vs. TeSR (based on Treatment)
2020-10-17 08:02:01     3.4  STATUS                 STARTED Computing Differential Methylation Table
2020-10-17 08:02:02     3.4    INFO                     Conducting differential analysis using limma
2020-10-17 08:02:02     3.4  STATUS                 COMPLETED Computing Differential Methylation Table
2020-10-17 08:02:02     3.4  STATUS                 STARTED Computing Differential Methylation Tables (Region Level)
2020-10-17 08:02:02     3.4  STATUS                     Computed table for tiling
2020-10-17 08:02:02     3.4  STATUS                     Computed table for genes
2020-10-17 08:02:03     3.4  STATUS                     Computed table for promoters
2020-10-17 08:02:03     3.4  STATUS                     Computed table for cpgislands
2020-10-17 08:02:03     3.4  STATUS                 COMPLETED Computing Differential Methylation Tables (Region Level)
2020-10-17 08:02:03     3.4  STATUS             COMPLETED Comparing: KOSR vs. TeSR (based on Treatment)
2020-10-17 08:02:03     3.4  STATUS         COMPLETED Computing differential methylation tables
2020-10-17 08:02:03     3.4  STATUS         STARTED Retrieving comparison info
2020-10-17 08:02:04     3.4  STATUS         COMPLETED Retrieving comparison info
2020-10-17 08:02:04     3.4  STATUS         STARTED Computing differential methylation tables
2020-10-17 08:02:04     3.4  STATUS             STARTED Comparing: hESC vs. hiPSC (based on Sample_Group)
2020-10-17 08:02:04     3.4  STATUS                 STARTED Computing Differential Methylation Table
2020-10-17 08:02:04     3.4    INFO                     Conducting differential analysis using limma
2020-10-17 08:02:04     3.4  STATUS                     STARTED Imputation procedure knn 
2020-10-17 08:02:04     3.4  STATUS                     COMPLETED Imputation procedure knn 
2020-10-17 08:02:04     3.4    INFO                     Conducting differential variability using diffVar
2020-10-17 08:02:04     3.4  STATUS                     STARTED diffVar method
2020-10-17 08:02:04     3.4  STATUS                     COMPLETED diffVar method
2020-10-17 08:02:04     3.4  STATUS                 COMPLETED Computing Differential Methylation Table
2020-10-17 08:02:05     3.4  STATUS                 STARTED Computing Differential Methylation Tables (Region Level)
2020-10-17 08:02:06     3.4  STATUS                     Computed table for tiling
2020-10-17 08:02:07     3.4  STATUS                     Computed table for genes
2020-10-17 08:02:08     3.4  STATUS                     Computed table for promoters
2020-10-17 08:02:08     3.4  STATUS                     Computed table for cpgislands
2020-10-17 08:02:08     3.4  STATUS                 COMPLETED Computing Differential Methylation Tables (Region Level)
2020-10-17 08:02:08     3.4  STATUS             COMPLETED Comparing: hESC vs. hiPSC (based on Sample_Group)
2020-10-17 08:02:08     3.4  STATUS             STARTED Comparing: KOSR vs. TeSR (based on Treatment)
2020-10-17 08:02:08     3.4  STATUS                 STARTED Computing Differential Methylation Table
2020-10-17 08:02:08     3.4    INFO                     Conducting differential analysis using limma
2020-10-17 08:02:09     3.4  STATUS                     STARTED Imputation procedure knn 
2020-10-17 08:02:09     3.4  STATUS                     COMPLETED Imputation procedure knn 
2020-10-17 08:02:09     3.4    INFO                     Conducting differential variability using diffVar
2020-10-17 08:02:09     3.4  STATUS                     STARTED diffVar method
2020-10-17 08:02:09     3.4  STATUS                     COMPLETED diffVar method
2020-10-17 08:02:09     3.4  STATUS                 COMPLETED Computing Differential Methylation Table
2020-10-17 08:02:09     3.4  STATUS                 STARTED Computing Differential Methylation Tables (Region Level)
2020-10-17 08:02:11     3.4  STATUS                     Computed table for tiling
2020-10-17 08:02:11     3.4  STATUS                     Computed table for genes
2020-10-17 08:02:12     3.4  STATUS                     Computed table for promoters
2020-10-17 08:02:13     3.4  STATUS                     Computed table for cpgislands
2020-10-17 08:02:13     3.4  STATUS                 COMPLETED Computing Differential Methylation Tables (Region Level)
2020-10-17 08:02:13     3.4  STATUS             COMPLETED Comparing: KOSR vs. TeSR (based on Treatment)
2020-10-17 08:02:13     3.4  STATUS         COMPLETED Computing differential methylation tables
2020-10-17 08:02:14     3.4  STATUS         STARTED Differential Variability
2020-10-17 08:02:14     3.4  STATUS             STARTED Retrieving comparison info
2020-10-17 08:02:14     3.4  STATUS             COMPLETED Retrieving comparison info
2020-10-17 08:02:14     3.4  STATUS             STARTED Imputation procedure knn 
2020-10-17 08:02:14     3.4  STATUS             COMPLETED Imputation procedure knn 
2020-10-17 08:02:14     3.4  STATUS             STARTED Comparing  hESC vs. hiPSC (based on Sample_Group)
2020-10-17 08:02:14     3.4    INFO                 Conducting differential variability using diffVar
2020-10-17 08:02:14     3.4  STATUS                 STARTED diffVar method
2020-10-17 08:02:14     3.4  STATUS                 COMPLETED diffVar method
2020-10-17 08:02:14     3.4  STATUS                 STARTED Computing Differential Variability Tables (Region Level)
2020-10-17 08:02:15     3.4  STATUS                     Computed table for tiling
2020-10-17 08:02:15     3.4  STATUS                     Computed table for genes
2020-10-17 08:02:15     3.4  STATUS                     Computed table for promoters
2020-10-17 08:02:16     3.4  STATUS                     Computed table for cpgislands
2020-10-17 08:02:16     3.4  STATUS                 COMPLETED Computing Differential Variability Tables (Region Level)
2020-10-17 08:02:16     3.4  STATUS             COMPLETED Comparing  hESC vs. hiPSC (based on Sample_Group)
2020-10-17 08:02:16     3.4  STATUS             STARTED Comparing  KOSR vs. TeSR (based on Treatment)
2020-10-17 08:02:16     3.4    INFO                 Conducting differential variability using diffVar
2020-10-17 08:02:16     3.4  STATUS                 STARTED diffVar method
2020-10-17 08:02:16     3.4  STATUS                 COMPLETED diffVar method
2020-10-17 08:02:16     3.4  STATUS                 STARTED Computing Differential Variability Tables (Region Level)
2020-10-17 08:02:17     3.4  STATUS                     Computed table for tiling
2020-10-17 08:02:17     3.4  STATUS                     Computed table for genes
2020-10-17 08:02:18     3.4  STATUS                     Computed table for promoters
2020-10-17 08:02:18     3.4  STATUS                     Computed table for cpgislands
2020-10-17 08:02:18     3.4  STATUS                 COMPLETED Computing Differential Variability Tables (Region Level)
2020-10-17 08:02:18     3.4  STATUS             COMPLETED Comparing  KOSR vs. TeSR (based on Treatment)
2020-10-17 08:02:18     3.4  STATUS         COMPLETED Differential Variability
2020-10-17 08:02:18     3.4  STATUS STARTED Analysis
2020-10-17 08:02:18     3.4    INFO     Loaded information from data.RData
2020-10-17 08:02:18     3.4  STATUS     STARTED Processing Detection P-values
2020-10-17 08:02:18     3.4    INFO         Removed 3979 probes that overlap with SNPs
2020-10-17 08:02:18     3.4    INFO         Completed Greedycut on 510 samples
2020-10-17 08:02:19     3.4  STATUS     COMPLETED Processing Detection P-values
2020-10-17 08:02:19     3.4 WARNING     File not found: data2.RData
2020-10-17 08:02:19     3.4  STATUS COMPLETED Analysis
2020-10-17 08:02:19     3.4  STATUS STARTED Testing imputation
2020-10-17 08:02:19     3.4  STATUS     STARTED Imputation procedure knn 
2020-10-17 08:02:21     2.9  STATUS     COMPLETED Imputation procedure knn 
2020-10-17 08:02:21     2.9  STATUS     STARTED Imputation procedure mean.samples 
2020-10-17 08:02:22     2.9  STATUS     COMPLETED Imputation procedure mean.samples 
2020-10-17 08:02:22     2.9  STATUS     STARTED Imputation procedure mean.cpgs 
2020-10-17 08:02:22     3.0  STATUS     COMPLETED Imputation procedure mean.cpgs 
2020-10-17 08:02:22     3.0  STATUS     STARTED Imputation procedure random 
2020-10-17 08:02:23     3.1  STATUS     COMPLETED Imputation procedure random 
2020-10-17 08:02:23     3.1  STATUS COMPLETED Testing imputation
2020-10-17 08:02:23     3.1  STATUS STARTED Testing age prediction
2020-10-17 08:02:23     3.1  STATUS     STARTED Performing Age Prediction
2020-10-17 08:02:27     3.4  STATUS     COMPLETED Performing Age Prediction
2020-10-17 08:02:27     3.4  STATUS COMPLETED Testing age prediction
2020-10-17 08:02:27     3.4  STATUS STARTED Performing Age Prediction
2020-10-17 08:02:30     3.7  STATUS COMPLETED Performing Age Prediction
2020-10-17 08:02:30     3.7  STATUS STARTED Imputation procedure knn 
2020-10-17 08:02:31     3.7  STATUS COMPLETED Imputation procedure knn 
2020-10-17 08:02:31     3.7  STATUS STARTED Imputation procedure mean.samples 
2020-10-17 08:02:32     3.7  STATUS COMPLETED Imputation procedure mean.samples 
2020-10-17 08:02:32     3.7  STATUS STARTED Imputation procedure mean.cpgs 
2020-10-17 08:02:34     3.4  STATUS COMPLETED Imputation procedure mean.cpgs 
2020-10-17 08:02:34     3.4  STATUS STARTED Imputation procedure random 
2020-10-17 08:02:35     3.4  STATUS COMPLETED Imputation procedure random 
2020-10-17 08:02:35     3.4  STATUS STARTED Testing imputation
2020-10-17 08:02:35     3.4  STATUS     STARTED Imputation procedure knn 
2020-10-17 08:02:35     3.5  STATUS     COMPLETED Imputation procedure knn 
2020-10-17 08:02:36     3.5  STATUS     STARTED Imputation procedure mean.samples 
2020-10-17 08:02:36     3.5  STATUS     COMPLETED Imputation procedure mean.samples 
2020-10-17 08:02:36     3.5  STATUS     STARTED Imputation procedure mean.cpgs 
2020-10-17 08:02:37     3.5  STATUS     COMPLETED Imputation procedure mean.cpgs 
2020-10-17 08:02:37     3.5  STATUS     STARTED Imputation procedure random 
2020-10-17 08:02:38     3.4  STATUS     COMPLETED Imputation procedure random 
2020-10-17 08:02:38     3.4  STATUS COMPLETED Testing imputation
2020-10-17 08:02:39     3.4  STATUS STARTED Testing age prediction
2020-10-17 08:02:39     3.4  STATUS     STARTED Performing Age Prediction
2020-10-17 08:02:41     3.7  STATUS     COMPLETED Performing Age Prediction
2020-10-17 08:02:41     3.7  STATUS COMPLETED Testing age prediction
RUNIT TEST PROTOCOL -- Sat Oct 17 08:03:03 2020 
*********************************************** 
Number of test functions: 24 
Number of errors: 0 
Number of failures: 0 
 
1 Test Suite : 
RnBeads RUnit Tests - 24 test functions, 0 errors, 0 failures
Number of test functions: 24 
Number of errors: 0 
Number of failures: 0 
There were 38 warnings (use warnings() to see them)
> 
> proc.time()
   user  system elapsed 
 244.53    7.00  273.42 
  |