| Back to Multiple platform build/check report for BioC 3.11 |
|
This page was generated on 2020-10-17 11:57:35 -0400 (Sat, 17 Oct 2020).
| TO THE DEVELOPERS/MAINTAINERS OF THE ReadqPCR PACKAGE: Please make sure to use the following settings in order to reproduce any error or warning you see on this page. |
| Package 1448/1905 | Hostname | OS / Arch | INSTALL | BUILD | CHECK | BUILD BIN | ||||||
| ReadqPCR 1.34.0 James Perkins
| malbec2 | Linux (Ubuntu 18.04.4 LTS) / x86_64 | OK | OK | OK | |||||||
| tokay2 | Windows Server 2012 R2 Standard / x64 | [ OK ] | OK | WARNINGS | OK | |||||||
| machv2 | macOS 10.14.6 Mojave / x86_64 | OK | OK | OK | OK |
| Package: ReadqPCR |
| Version: 1.34.0 |
| Command: C:\cygwin\bin\curl.exe -O https://malbec2.bioconductor.org/BBS/3.11/bioc/src/contrib/ReadqPCR_1.34.0.tar.gz && rm -rf ReadqPCR.buildbin-libdir && mkdir ReadqPCR.buildbin-libdir && C:\Users\biocbuild\bbs-3.11-bioc\R\bin\R.exe CMD INSTALL --merge-multiarch --build --library=ReadqPCR.buildbin-libdir ReadqPCR_1.34.0.tar.gz && C:\Users\biocbuild\bbs-3.11-bioc\R\bin\R.exe CMD INSTALL ReadqPCR_1.34.0.zip && rm ReadqPCR_1.34.0.tar.gz ReadqPCR_1.34.0.zip |
| StartedAt: 2020-10-16 16:52:01 -0400 (Fri, 16 Oct 2020) |
| EndedAt: 2020-10-16 16:52:45 -0400 (Fri, 16 Oct 2020) |
| EllapsedTime: 44.1 seconds |
| RetCode: 0 |
| Status: OK |
##############################################################################
##############################################################################
###
### Running command:
###
### C:\cygwin\bin\curl.exe -O https://malbec2.bioconductor.org/BBS/3.11/bioc/src/contrib/ReadqPCR_1.34.0.tar.gz && rm -rf ReadqPCR.buildbin-libdir && mkdir ReadqPCR.buildbin-libdir && C:\Users\biocbuild\bbs-3.11-bioc\R\bin\R.exe CMD INSTALL --merge-multiarch --build --library=ReadqPCR.buildbin-libdir ReadqPCR_1.34.0.tar.gz && C:\Users\biocbuild\bbs-3.11-bioc\R\bin\R.exe CMD INSTALL ReadqPCR_1.34.0.zip && rm ReadqPCR_1.34.0.tar.gz ReadqPCR_1.34.0.zip
###
##############################################################################
##############################################################################
% Total % Received % Xferd Average Speed Time Time Time Current
Dload Upload Total Spent Left Speed
0 0 0 0 0 0 0 0 --:--:-- --:--:-- --:--:-- 0
100 432k 100 432k 0 0 6544k 0 --:--:-- --:--:-- --:--:-- 7337k
install for i386
* installing *source* package 'ReadqPCR' ...
** using staged installation
** R
** inst
** byte-compile and prepare package for lazy loading
** help
*** installing help indices
converting help for package 'ReadqPCR'
finding HTML links ... done
CyclesSet-class html
ReadqPCR-package html
merge html
qPCRBatch-class html
qpcR2CyclesSet html
Rd warning: C:/Users/biocbuild/bbs-3.11-bioc/tmpdir/RtmpMJ0Bua/R.INSTALLb1828143f62/ReadqPCR/man/qpcR2CyclesSet.Rd:30: file link 'reps' in package 'qpcR' does not exist and so has been treated as a topic
read.qPCR html
read.taqman html
readLC480 html
Rd warning: C:/Users/biocbuild/bbs-3.11-bioc/tmpdir/RtmpMJ0Bua/R.INSTALLb1828143f62/ReadqPCR/man/readLC480.Rd:61: file link 'eSet' in package 'Biobase' does not exist and so has been treated as a topic
readLC480SampleInfo html
Rd warning: C:/Users/biocbuild/bbs-3.11-bioc/tmpdir/RtmpMJ0Bua/R.INSTALLb1828143f62/ReadqPCR/man/readLC480SampleInfo.Rd:54: file link 'AnnotatedDataFrame-class' in package 'Biobase' does not exist and so has been treated as a topic
** building package indices
** installing vignettes
'ReadqPCR.Rnw'
** testing if installed package can be loaded from temporary location
** testing if installed package can be loaded from final location
** testing if installed package keeps a record of temporary installation path
install for x64
* installing *source* package 'ReadqPCR' ...
** testing if installed package can be loaded
* MD5 sums
packaged installation of 'ReadqPCR' as ReadqPCR_1.34.0.zip
* DONE (ReadqPCR)
* installing to library 'C:/Users/biocbuild/bbs-3.11-bioc/R/library'
package 'ReadqPCR' successfully unpacked and MD5 sums checked