| Back to Multiple platform build/check report for BioC 3.11 |
|
This page was generated on 2020-10-17 11:55:32 -0400 (Sat, 17 Oct 2020).
| TO THE DEVELOPERS/MAINTAINERS OF THE Rcpi PACKAGE: Please make sure to use the following settings in order to reproduce any error or warning you see on this page. |
| Package 1436/1905 | Hostname | OS / Arch | INSTALL | BUILD | CHECK | BUILD BIN | ||||||
| Rcpi 1.24.0 Nan Xiao
| malbec2 | Linux (Ubuntu 18.04.4 LTS) / x86_64 | OK | OK | [ OK ] | |||||||
| tokay2 | Windows Server 2012 R2 Standard / x64 | OK | OK | OK | OK | |||||||
| machv2 | macOS 10.14.6 Mojave / x86_64 | OK | OK | OK | OK |
| Package: Rcpi |
| Version: 1.24.0 |
| Command: /home/biocbuild/bbs-3.11-bioc/R/bin/R CMD check --install=check:Rcpi.install-out.txt --library=/home/biocbuild/bbs-3.11-bioc/R/library --no-vignettes --timings Rcpi_1.24.0.tar.gz |
| StartedAt: 2020-10-17 04:33:31 -0400 (Sat, 17 Oct 2020) |
| EndedAt: 2020-10-17 04:36:11 -0400 (Sat, 17 Oct 2020) |
| EllapsedTime: 160.6 seconds |
| RetCode: 0 |
| Status: OK |
| CheckDir: Rcpi.Rcheck |
| Warnings: 0 |
############################################################################## ############################################################################## ### ### Running command: ### ### /home/biocbuild/bbs-3.11-bioc/R/bin/R CMD check --install=check:Rcpi.install-out.txt --library=/home/biocbuild/bbs-3.11-bioc/R/library --no-vignettes --timings Rcpi_1.24.0.tar.gz ### ############################################################################## ############################################################################## * using log directory ‘/home/biocbuild/bbs-3.11-bioc/meat/Rcpi.Rcheck’ * using R version 4.0.3 (2020-10-10) * using platform: x86_64-pc-linux-gnu (64-bit) * using session charset: UTF-8 * using option ‘--no-vignettes’ * checking for file ‘Rcpi/DESCRIPTION’ ... OK * checking extension type ... Package * this is package ‘Rcpi’ version ‘1.24.0’ * package encoding: UTF-8 * checking package namespace information ... OK * checking package dependencies ... OK * checking if this is a source package ... OK * checking if there is a namespace ... OK * checking for hidden files and directories ... OK * checking for portable file names ... OK * checking for sufficient/correct file permissions ... OK * checking whether package ‘Rcpi’ can be installed ... OK * checking installed package size ... OK * checking package directory ... OK * checking ‘build’ directory ... OK * checking DESCRIPTION meta-information ... OK * checking top-level files ... OK * checking for left-over files ... OK * checking index information ... OK * checking package subdirectories ... OK * checking R files for non-ASCII characters ... OK * checking R files for syntax errors ... OK * checking whether the package can be loaded ... OK * checking whether the package can be loaded with stated dependencies ... OK * checking whether the package can be unloaded cleanly ... OK * checking whether the namespace can be loaded with stated dependencies ... OK * checking whether the namespace can be unloaded cleanly ... OK * checking dependencies in R code ... OK * checking S3 generic/method consistency ... OK * checking replacement functions ... OK * checking foreign function calls ... OK * checking R code for possible problems ... OK * checking Rd files ... OK * checking Rd metadata ... OK * checking Rd cross-references ... OK * checking for missing documentation entries ... OK * checking for code/documentation mismatches ... OK * checking Rd \usage sections ... OK * checking Rd contents ... OK * checking for unstated dependencies in examples ... OK * checking contents of ‘data’ directory ... OK * checking data for non-ASCII characters ... OK * checking data for ASCII and uncompressed saves ... OK * checking files in ‘vignettes’ ... OK * checking examples ... OK * checking for unstated dependencies in ‘tests’ ... OK * checking tests ... Running ‘runTests.R’ OK * checking for unstated dependencies in vignettes ... OK * checking package vignettes in ‘inst/doc’ ... OK * checking running R code from vignettes ... SKIPPED * checking re-building of vignette outputs ... SKIPPED * checking PDF version of manual ... OK * DONE Status: OK
Rcpi.Rcheck/00install.out
############################################################################## ############################################################################## ### ### Running command: ### ### /home/biocbuild/bbs-3.11-bioc/R/bin/R CMD INSTALL Rcpi ### ############################################################################## ############################################################################## * installing to library ‘/home/biocbuild/bbs-3.11-bioc/R/library’ * installing *source* package ‘Rcpi’ ... ** using staged installation ** R ** data *** moving datasets to lazyload DB ** inst ** byte-compile and prepare package for lazy loading ** help *** installing help indices ** building package indices ** installing vignettes ** testing if installed package can be loaded from temporary location ** testing if installed package can be loaded from final location ** testing if installed package keeps a record of temporary installation path * DONE (Rcpi)
Rcpi.Rcheck/tests/runTests.Rout
R version 4.0.3 (2020-10-10) -- "Bunny-Wunnies Freak Out"
Copyright (C) 2020 The R Foundation for Statistical Computing
Platform: x86_64-pc-linux-gnu (64-bit)
R is free software and comes with ABSOLUTELY NO WARRANTY.
You are welcome to redistribute it under certain conditions.
Type 'license()' or 'licence()' for distribution details.
R is a collaborative project with many contributors.
Type 'contributors()' for more information and
'citation()' on how to cite R or R packages in publications.
Type 'demo()' for some demos, 'help()' for on-line help, or
'help.start()' for an HTML browser interface to help.
Type 'q()' to quit R.
> BiocGenerics:::testPackage('Rcpi')
RUNIT TEST PROTOCOL -- Sat Oct 17 04:36:03 2020
***********************************************
Number of test functions: 11
Number of errors: 0
Number of failures: 0
1 Test Suite :
Rcpi RUnit Tests - 11 test functions, 0 errors, 0 failures
Number of test functions: 11
Number of errors: 0
Number of failures: 0
>
> proc.time()
user system elapsed
8.482 0.359 7.794
Rcpi.Rcheck/Rcpi-Ex.timings
| name | user | system | elapsed | |
| AA2DACOR | 0.011 | 0.004 | 0.015 | |
| AA3DMoRSE | 0.001 | 0.000 | 0.001 | |
| AAACF | 0.001 | 0.000 | 0.001 | |
| AABLOSUM100 | 0.001 | 0.000 | 0.001 | |
| AABLOSUM45 | 0.001 | 0.000 | 0.001 | |
| AABLOSUM50 | 0.001 | 0.000 | 0.001 | |
| AABLOSUM62 | 0.001 | 0.000 | 0.000 | |
| AABLOSUM80 | 0.000 | 0.001 | 0.001 | |
| AABurden | 0.000 | 0.001 | 0.000 | |
| AACPSA | 0.000 | 0.001 | 0.001 | |
| AAConn | 0.001 | 0.000 | 0.000 | |
| AAConst | 0.001 | 0.000 | 0.001 | |
| AADescAll | 0.001 | 0.000 | 0.001 | |
| AAEdgeAdj | 0.001 | 0.000 | 0.001 | |
| AAEigIdx | 0.001 | 0.000 | 0.001 | |
| AAFGC | 0.001 | 0.000 | 0.001 | |
| AAGETAWAY | 0.000 | 0.000 | 0.001 | |
| AAGeom | 0.001 | 0.000 | 0.001 | |
| AAInfo | 0.001 | 0.000 | 0.001 | |
| AAMOE2D | 0.001 | 0.000 | 0.001 | |
| AAMOE3D | 0.000 | 0.000 | 0.001 | |
| AAMetaInfo | 0.001 | 0.000 | 0.001 | |
| AAMolProp | 0.001 | 0.000 | 0.001 | |
| AAPAM120 | 0.001 | 0.000 | 0.001 | |
| AAPAM250 | 0.001 | 0.000 | 0.001 | |
| AAPAM30 | 0.001 | 0.000 | 0.001 | |
| AAPAM40 | 0.001 | 0.000 | 0.001 | |
| AAPAM70 | 0.000 | 0.000 | 0.001 | |
| AARDF | 0.001 | 0.000 | 0.001 | |
| AARandic | 0.001 | 0.000 | 0.001 | |
| AATopo | 0.001 | 0.000 | 0.001 | |
| AATopoChg | 0.001 | 0.000 | 0.001 | |
| AAWHIM | 0.001 | 0.000 | 0.000 | |
| AAWalk | 0.001 | 0.000 | 0.001 | |
| AAindex | 0.000 | 0.000 | 0.001 | |
| OptAA3d | 0 | 0 | 0 | |
| acc | 0.005 | 0.004 | 0.010 | |
| calcDrugFPSim | 2.380 | 0.094 | 1.162 | |
| calcDrugMCSSim | 0.018 | 0.004 | 0.081 | |
| calcParProtGOSim | 0 | 0 | 0 | |
| calcParProtSeqSim | 0.009 | 0.000 | 0.257 | |
| calcTwoProtGOSim | 0 | 0 | 0 | |
| calcTwoProtSeqSim | 0.001 | 0.000 | 0.001 | |
| checkProt | 0.001 | 0.000 | 0.001 | |
| convMolFormat | 0.000 | 0.000 | 0.001 | |
| extractDrugAIO | 0 | 0 | 0 | |
| extractDrugALOGP | 0 | 0 | 0 | |
| extractDrugAminoAcidCount | 0 | 0 | 0 | |
| extractDrugApol | 0 | 0 | 0 | |
| extractDrugAromaticAtomsCount | 0 | 0 | 0 | |
| extractDrugAromaticBondsCount | 0.000 | 0.000 | 0.001 | |
| extractDrugAtomCount | 0.000 | 0.000 | 0.001 | |
| extractDrugAutocorrelationCharge | 0.001 | 0.000 | 0.000 | |
| extractDrugAutocorrelationMass | 0.001 | 0.000 | 0.001 | |
| extractDrugAutocorrelationPolarizability | 0.001 | 0.000 | 0.001 | |
| extractDrugBCUT | 0.000 | 0.000 | 0.001 | |
| extractDrugBPol | 0.000 | 0.000 | 0.001 | |
| extractDrugBondCount | 0.000 | 0.000 | 0.001 | |
| extractDrugCPSA | 0 | 0 | 0 | |
| extractDrugCarbonTypes | 0.001 | 0.000 | 0.000 | |
| extractDrugChiChain | 0.001 | 0.000 | 0.000 | |
| extractDrugChiCluster | 0.001 | 0.000 | 0.000 | |
| extractDrugChiPath | 0.001 | 0.000 | 0.001 | |
| extractDrugChiPathCluster | 0.001 | 0.000 | 0.001 | |
| extractDrugDescOB | 0.120 | 0.036 | 0.156 | |
| extractDrugECI | 0.001 | 0.000 | 0.001 | |
| extractDrugEstate | 0 | 0 | 0 | |
| extractDrugEstateComplete | 0 | 0 | 0 | |
| extractDrugExtended | 0 | 0 | 0 | |
| extractDrugExtendedComplete | 0 | 0 | 0 | |
| extractDrugFMF | 0 | 0 | 0 | |
| extractDrugFragmentComplexity | 0 | 0 | 0 | |
| extractDrugGraph | 0 | 0 | 0 | |
| extractDrugGraphComplete | 0 | 0 | 0 | |
| extractDrugGravitationalIndex | 0 | 0 | 0 | |
| extractDrugHBondAcceptorCount | 0 | 0 | 0 | |
| extractDrugHBondDonorCount | 0 | 0 | 0 | |
| extractDrugHybridization | 0 | 0 | 0 | |
| extractDrugHybridizationComplete | 0 | 0 | 0 | |
| extractDrugHybridizationRatio | 0 | 0 | 0 | |
| extractDrugIPMolecularLearning | 0 | 0 | 0 | |
| extractDrugKR | 0 | 0 | 0 | |
| extractDrugKRComplete | 0 | 0 | 0 | |
| extractDrugKappaShapeIndices | 0 | 0 | 0 | |
| extractDrugKierHallSmarts | 0 | 0 | 0 | |
| extractDrugLargestChain | 0.000 | 0.000 | 0.001 | |
| extractDrugLargestPiSystem | 0.000 | 0.000 | 0.001 | |
| extractDrugLengthOverBreadth | 0.000 | 0.000 | 0.001 | |
| extractDrugLongestAliphaticChain | 0.000 | 0.000 | 0.001 | |
| extractDrugMACCS | 0.000 | 0.000 | 0.001 | |
| extractDrugMACCSComplete | 0.000 | 0.000 | 0.001 | |
| extractDrugMDE | 0.000 | 0.000 | 0.001 | |
| extractDrugMannholdLogP | 0.000 | 0.000 | 0.001 | |
| extractDrugMomentOfInertia | 0.000 | 0.000 | 0.001 | |
| extractDrugOBFP2 | 0.005 | 0.004 | 0.009 | |
| extractDrugOBFP3 | 0.339 | 0.020 | 0.358 | |
| extractDrugOBFP4 | 0.010 | 0.000 | 0.009 | |
| extractDrugOBMACCS | 0.011 | 0.004 | 0.015 | |
| extractDrugPetitjeanNumber | 0.000 | 0.000 | 0.001 | |
| extractDrugPetitjeanShapeIndex | 0 | 0 | 0 | |
| extractDrugPubChem | 0 | 0 | 0 | |
| extractDrugPubChemComplete | 0 | 0 | 0 | |
| extractDrugRotatableBondsCount | 0 | 0 | 0 | |
| extractDrugRuleOfFive | 0 | 0 | 0 | |
| extractDrugShortestPath | 0 | 0 | 0 | |
| extractDrugShortestPathComplete | 0 | 0 | 0 | |
| extractDrugStandard | 0 | 0 | 0 | |
| extractDrugStandardComplete | 0 | 0 | 0 | |
| extractDrugTPSA | 0 | 0 | 0 | |
| extractDrugVABC | 0 | 0 | 0 | |
| extractDrugVAdjMa | 0 | 0 | 0 | |
| extractDrugWHIM | 0 | 0 | 0 | |
| extractDrugWeight | 0 | 0 | 0 | |
| extractDrugWeightedPath | 0 | 0 | 0 | |
| extractDrugWienerNumbers | 0.000 | 0.000 | 0.001 | |
| extractDrugXLogP | 0.000 | 0.000 | 0.001 | |
| extractDrugZagrebIndex | 0.000 | 0.000 | 0.001 | |
| extractPCMBLOSUM | 0.007 | 0.000 | 0.008 | |
| extractPCMDescScales | 0.009 | 0.000 | 0.009 | |
| extractPCMFAScales | 0.014 | 0.000 | 0.013 | |
| extractPCMMDSScales | 0.007 | 0.000 | 0.007 | |
| extractPCMPropScales | 0.005 | 0.004 | 0.009 | |
| extractPCMScales | 0.010 | 0.004 | 0.014 | |
| extractProtAAC | 0.002 | 0.000 | 0.002 | |
| extractProtAPAAC | 0.741 | 0.045 | 0.785 | |
| extractProtCTDC | 0.002 | 0.000 | 0.002 | |
| extractProtCTDD | 0.004 | 0.000 | 0.004 | |
| extractProtCTDT | 0.004 | 0.000 | 0.004 | |
| extractProtCTriad | 0.073 | 0.008 | 0.081 | |
| extractProtDC | 0.001 | 0.003 | 0.004 | |
| extractProtGeary | 0.448 | 0.004 | 0.452 | |
| extractProtMoran | 0.189 | 0.000 | 0.188 | |
| extractProtMoreauBroto | 0.118 | 0.000 | 0.119 | |
| extractProtPAAC | 0.426 | 0.003 | 0.430 | |
| extractProtPSSM | 0.001 | 0.000 | 0.001 | |
| extractProtPSSMAcc | 0 | 0 | 0 | |
| extractProtPSSMFeature | 0.001 | 0.000 | 0.001 | |
| extractProtQSO | 0.657 | 0.004 | 0.660 | |
| extractProtSOCN | 0.683 | 0.000 | 0.682 | |
| extractProtTC | 0.038 | 0.036 | 0.073 | |
| getCPI | 0.004 | 0.000 | 0.004 | |
| getDrug | 0 | 0 | 0 | |
| getFASTAFromKEGG | 0 | 0 | 0 | |
| getFASTAFromUniProt | 0 | 0 | 0 | |
| getMolFromCAS | 0 | 0 | 0 | |
| getMolFromChEMBL | 0 | 0 | 0 | |
| getMolFromDrugBank | 0 | 0 | 0 | |
| getMolFromKEGG | 0 | 0 | 0 | |
| getMolFromPubChem | 0 | 0 | 0 | |
| getPDBFromRCSBPDB | 0 | 0 | 0 | |
| getPPI | 0.004 | 0.000 | 0.004 | |
| getProt | 0 | 0 | 0 | |
| getSeqFromKEGG | 0 | 0 | 0 | |
| getSeqFromRCSBPDB | 0 | 0 | 0 | |
| getSeqFromUniProt | 0 | 0 | 0 | |
| getSmiFromChEMBL | 0 | 0 | 0 | |
| getSmiFromDrugBank | 0 | 0 | 0 | |
| getSmiFromKEGG | 0 | 0 | 0 | |
| getSmiFromPubChem | 0 | 0 | 0 | |
| readFASTA | 0.001 | 0.000 | 0.001 | |
| readMolFromSDF | 0.002 | 0.000 | 0.002 | |
| readMolFromSmi | 0.001 | 0.000 | 0.001 | |
| readPDB | 1.132 | 0.004 | 1.151 | |
| searchDrug | 0.001 | 0.000 | 0.001 | |
| segProt | 0.002 | 0.000 | 0.002 | |