| Back to Multiple platform build/check report for BioC 3.11 | 
  | 
This page was generated on 2020-05-29 14:46:44 -0400 (Fri, 29 May 2020).
| TO THE DEVELOPERS/MAINTAINERS OF THE Rariant PACKAGE: Please make sure to use the following settings in order to reproduce any error or warning you see on this page. | 
| Package 1419/1905 | Hostname | OS / Arch | INSTALL | BUILD | CHECK | BUILD BIN | ||||||
| Rariant 1.24.0 Julian Gehring 
  | malbec2 | Linux (Ubuntu 18.04.4 LTS) / x86_64 | OK | OK | WARNINGS | |||||||
| tokay2 | Windows Server 2012 R2 Standard / x64 | OK | OK | WARNINGS | [ OK ] | |||||||
| machv2 | macOS 10.14.6 Mojave / x86_64 | OK | OK | WARNINGS | OK | 
| Package: Rariant | 
| Version: 1.24.0 | 
| Command: rm -rf Rariant.buildbin-libdir && mkdir Rariant.buildbin-libdir && C:\Users\biocbuild\bbs-3.11-bioc\R\bin\R.exe CMD INSTALL --merge-multiarch --build --library=Rariant.buildbin-libdir Rariant_1.24.0.tar.gz | 
| StartedAt: 2020-05-29 12:29:30 -0400 (Fri, 29 May 2020) | 
| EndedAt: 2020-05-29 12:30:53 -0400 (Fri, 29 May 2020) | 
| EllapsedTime: 83.8 seconds | 
| RetCode: 0 | 
| Status: OK | 
| PackageFile: Rariant_1.24.0.zip | 
| PackageFileSize: 5.93 MiB | 
##############################################################################
##############################################################################
###
### Running command:
###
###   rm -rf Rariant.buildbin-libdir && mkdir Rariant.buildbin-libdir && C:\Users\biocbuild\bbs-3.11-bioc\R\bin\R.exe CMD INSTALL --merge-multiarch --build --library=Rariant.buildbin-libdir Rariant_1.24.0.tar.gz
###
##############################################################################
##############################################################################
install for i386
* installing *source* package 'Rariant' ...
** using staged installation
** R
** inst
** byte-compile and prepare package for lazy loading
** help
*** installing help indices
  converting help for package 'Rariant'
    finding HTML links ... done
    Rariant-package                         html  
    ci-adjust                               html  
    ci-assessment                           html  
    ci-utils                                html  
    colorscales                             html  
    convert-utils                           html  
    evidence-heatmap                        html  
    mismatch-plot                           html  
    mismatch-utils                          html  
    multi-utils                             html  
    plot-cis                                html  
    prop-cis                                html  
    prop-tests                              html  
    rariant                                 html  
    shiny                                   html  
    split-sample                            html  
    tally                                   html  
    yesnomaybe                              html  
** building package indices
** installing vignettes
** testing if installed package can be loaded from temporary location
** testing if installed package can be loaded from final location
** testing if installed package keeps a record of temporary installation path
install for x64
* installing *source* package 'Rariant' ...
** testing if installed package can be loaded
* MD5 sums
packaged installation of 'Rariant' as Rariant_1.24.0.zip
* DONE (Rariant)