| Back to Multiple platform build/check report for BioC 3.11 | 
  | 
This page was generated on 2020-10-17 11:57:43 -0400 (Sat, 17 Oct 2020).
| TO THE DEVELOPERS/MAINTAINERS OF THE RVS PACKAGE: Please make sure to use the following settings in order to reproduce any error or warning you see on this page. | 
| Package 1562/1905 | Hostname | OS / Arch | INSTALL | BUILD | CHECK | BUILD BIN | ||||||
| RVS 1.10.0 Thomas Sherman 
  | malbec2 | Linux (Ubuntu 18.04.4 LTS) / x86_64 | OK | OK | OK | |||||||
| tokay2 | Windows Server 2012 R2 Standard / x64 | OK | OK | OK | [ OK ] | |||||||
| machv2 | macOS 10.14.6 Mojave / x86_64 | OK | OK | OK | OK | 
| Package: RVS | 
| Version: 1.10.0 | 
| Command: rm -rf RVS.buildbin-libdir && mkdir RVS.buildbin-libdir && C:\Users\biocbuild\bbs-3.11-bioc\R\bin\R.exe CMD INSTALL --merge-multiarch --build --library=RVS.buildbin-libdir RVS_1.10.0.tar.gz | 
| StartedAt: 2020-10-17 11:33:57 -0400 (Sat, 17 Oct 2020) | 
| EndedAt: 2020-10-17 11:34:25 -0400 (Sat, 17 Oct 2020) | 
| EllapsedTime: 27.2 seconds | 
| RetCode: 0 | 
| Status: OK | 
| PackageFile: RVS_1.10.0.zip | 
| PackageFileSize: 551.6 KiB | 
##############################################################################
##############################################################################
###
### Running command:
###
###   rm -rf RVS.buildbin-libdir && mkdir RVS.buildbin-libdir && C:\Users\biocbuild\bbs-3.11-bioc\R\bin\R.exe CMD INSTALL --merge-multiarch --build --library=RVS.buildbin-libdir RVS_1.10.0.tar.gz
###
##############################################################################
##############################################################################
install for i386
* installing *source* package 'RVS' ...
** using staged installation
** R
** data
*** moving datasets to lazyload DB
** inst
** byte-compile and prepare package for lazy loading
** help
*** installing help indices
  converting help for package 'RVS'
    finding HTML links ... done
    ComputeKinshipPropCoef-methods          html  
    GeneDrop                                html  
    RVS                                     html  
    RVgene                                  html  
    RVsharing-methods                       html  
    SnpMatrixToCount                        html  
    ancestorDistance                        html  
    areMating                               html  
    checkArgs                               html  
    computePFU                              html  
    computePhiVec                           html  
    convertMatrix                           html  
    createNetwork                           html  
    denomProb                               html  
    enrichmentPValue                        html  
    enrichmentPValue_R_Backend              html  
    ex.ped.mat                              html  
    exactSharingProb                        html  
    extract_carriers                        html  
    fam15157.vcf                            html  
    fam28003.vcf                            html  
    founderOccurence                        html  
    get.psubset                             html  
    inferNumAlleles                         html  
    inferTheta                              html  
    isDescendant                            html  
    marginalProb                            html  
    monteCarloSharingProb                   html  
    multipleFamilyPValue                    html  
    multipleFamilyPValue_R_Backend          html  
    multipleVariantPValue                   html  
    multipleVariantPValue_R_Backend         html  
    numerProb                               html  
    oldArgs                                 html  
    oneFounderSharingProb                   html  
    oneFounderSharingProbSplitting          html  
    ped2trio                                html  
    processPedigree-methods                 html  
    relatedFoundersCorrection               html  
    runMonteCarlo                           html  
    samplePedigrees                         html  
    simulatePedigree                        html  
    snpMat                                  html  
    twoFounderSharingProb                   html  
** building package indices
** installing vignettes
** testing if installed package can be loaded from temporary location
** testing if installed package can be loaded from final location
** testing if installed package keeps a record of temporary installation path
install for x64
* installing *source* package 'RVS' ...
** testing if installed package can be loaded
* MD5 sums
packaged installation of 'RVS' as RVS_1.10.0.zip
* DONE (RVS)