| Back to Multiple platform build/check report for BioC 3.11 | 
  | 
This page was generated on 2020-01-16 13:36:41 -0500 (Thu, 16 Jan 2020).
| Package 1456/1818 | Hostname | OS / Arch | INSTALL | BUILD | CHECK | BUILD BIN | ||||||
| RNASeqPower 1.27.0 Terry M Therneau 
  | malbec2 | Linux (Ubuntu 18.04.3 LTS) / x86_64 | OK | OK | OK | |||||||
| tokay2 | Windows Server 2012 R2 Standard / x64 | OK | OK | OK | OK | |||||||
| celaya2 | OS X 10.11.6 El Capitan / x86_64 | OK | [ OK ] | OK | OK | 
| Package: RNASeqPower | 
| Version: 1.27.0 | 
| Command: /Library/Frameworks/R.framework/Versions/Current/Resources/bin/R CMD build --keep-empty-dirs --no-resave-data RNASeqPower | 
| StartedAt: 2020-01-15 21:07:30 -0500 (Wed, 15 Jan 2020) | 
| EndedAt: 2020-01-15 21:07:39 -0500 (Wed, 15 Jan 2020) | 
| EllapsedTime: 8.3 seconds | 
| RetCode: 0 | 
| Status: OK | 
| PackageFile: RNASeqPower_1.27.0.tar.gz | 
| PackageFileSize: 149.4 KiB | 
##############################################################################
##############################################################################
###
### Running command:
###
###   /Library/Frameworks/R.framework/Versions/Current/Resources/bin/R CMD build --keep-empty-dirs --no-resave-data RNASeqPower
###
##############################################################################
##############################################################################
* checking for file ‘RNASeqPower/DESCRIPTION’ ... OK
* preparing ‘RNASeqPower’:
* checking DESCRIPTION meta-information ... OK
* installing the package to build vignettes
* creating vignettes ... OK
Warning: ‘inst/doc’ file
    ‘samplesize.Rnw’
  ignored as vignettes have been rebuilt.
  Run R CMD build with --no-build-vignettes to prevent rebuilding.
* checking for LF line-endings in source and make files and shell scripts
* checking for empty or unneeded directories
* building ‘RNASeqPower_1.27.0.tar.gz’