| Back to Multiple platform build/check report for BioC 3.11 |
|
This page was generated on 2020-10-17 11:57:39 -0400 (Sat, 17 Oct 2020).
| TO THE DEVELOPERS/MAINTAINERS OF THE RJMCMCNucleosomes PACKAGE: Please make sure to use the following settings in order to reproduce any error or warning you see on this page. |
| Package 1497/1905 | Hostname | OS / Arch | INSTALL | BUILD | CHECK | BUILD BIN | ||||||
| RJMCMCNucleosomes 1.12.0 Astrid DeschĂȘnes
| malbec2 | Linux (Ubuntu 18.04.4 LTS) / x86_64 | OK | OK | OK | |||||||
| tokay2 | Windows Server 2012 R2 Standard / x64 | [ OK ] | OK | OK | OK | |||||||
| machv2 | macOS 10.14.6 Mojave / x86_64 | OK | OK | OK | OK |
| Package: RJMCMCNucleosomes |
| Version: 1.12.0 |
| Command: C:\cygwin\bin\curl.exe -O https://malbec2.bioconductor.org/BBS/3.11/bioc/src/contrib/RJMCMCNucleosomes_1.12.0.tar.gz && rm -rf RJMCMCNucleosomes.buildbin-libdir && mkdir RJMCMCNucleosomes.buildbin-libdir && C:\Users\biocbuild\bbs-3.11-bioc\R\bin\R.exe CMD INSTALL --merge-multiarch --build --library=RJMCMCNucleosomes.buildbin-libdir RJMCMCNucleosomes_1.12.0.tar.gz && C:\Users\biocbuild\bbs-3.11-bioc\R\bin\R.exe CMD INSTALL RJMCMCNucleosomes_1.12.0.zip && rm RJMCMCNucleosomes_1.12.0.tar.gz RJMCMCNucleosomes_1.12.0.zip |
| StartedAt: 2020-10-16 18:56:55 -0400 (Fri, 16 Oct 2020) |
| EndedAt: 2020-10-16 18:59:08 -0400 (Fri, 16 Oct 2020) |
| EllapsedTime: 133.1 seconds |
| RetCode: 0 |
| Status: OK |
##############################################################################
##############################################################################
###
### Running command:
###
### C:\cygwin\bin\curl.exe -O https://malbec2.bioconductor.org/BBS/3.11/bioc/src/contrib/RJMCMCNucleosomes_1.12.0.tar.gz && rm -rf RJMCMCNucleosomes.buildbin-libdir && mkdir RJMCMCNucleosomes.buildbin-libdir && C:\Users\biocbuild\bbs-3.11-bioc\R\bin\R.exe CMD INSTALL --merge-multiarch --build --library=RJMCMCNucleosomes.buildbin-libdir RJMCMCNucleosomes_1.12.0.tar.gz && C:\Users\biocbuild\bbs-3.11-bioc\R\bin\R.exe CMD INSTALL RJMCMCNucleosomes_1.12.0.zip && rm RJMCMCNucleosomes_1.12.0.tar.gz RJMCMCNucleosomes_1.12.0.zip
###
##############################################################################
##############################################################################
% Total % Received % Xferd Average Speed Time Time Time Current
Dload Upload Total Spent Left Speed
0 0 0 0 0 0 0 0 --:--:-- --:--:-- --:--:-- 0
0 0 0 0 0 0 0 0 --:--:-- --:--:-- --:--:-- 0
100 288k 100 288k 0 0 1056k 0 --:--:-- --:--:-- --:--:-- 1076k
install for i386
* installing *source* package 'RJMCMCNucleosomes' ...
** using staged installation
** libs
"C:/rtools40/mingw32/bin/"g++ -std=gnu++11 -I"C:/Users/BIOCBU~1/BBS-3~1.11-/R/include" -DNDEBUG -I/i386/include -I'C:/Users/biocbuild/bbs-3.11-bioc/R/library/Rcpp/include' -I"C:/extsoft/include" -O2 -Wall -mfpmath=sse -msse2 -mstackrealign -c NucleoDirichlet.cpp -o NucleoDirichlet.o
"C:/rtools40/mingw32/bin/"g++ -std=gnu++11 -I"C:/Users/BIOCBU~1/BBS-3~1.11-/R/include" -DNDEBUG -I/i386/include -I'C:/Users/biocbuild/bbs-3.11-bioc/R/library/Rcpp/include' -I"C:/extsoft/include" -O2 -Wall -mfpmath=sse -msse2 -mstackrealign -c NucleoDirichletPA.cpp -o NucleoDirichletPA.o
"C:/rtools40/mingw32/bin/"g++ -std=gnu++11 -I"C:/Users/BIOCBU~1/BBS-3~1.11-/R/include" -DNDEBUG -I/i386/include -I'C:/Users/biocbuild/bbs-3.11-bioc/R/library/Rcpp/include' -I"C:/extsoft/include" -O2 -Wall -mfpmath=sse -msse2 -mstackrealign -c Nucleosome.cpp -o Nucleosome.o
"C:/rtools40/mingw32/bin/"gcc -I"C:/Users/BIOCBU~1/BBS-3~1.11-/R/include" -DNDEBUG -I/i386/include -I'C:/Users/biocbuild/bbs-3.11-bioc/R/library/Rcpp/include' -I"C:/extsoft/include" -O2 -Wall -std=gnu99 -mfpmath=sse -msse2 -mstackrealign -c RJMCMCNucleosomes_init.c -o RJMCMCNucleosomes_init.o
"C:/rtools40/mingw32/bin/"g++ -std=gnu++11 -I"C:/Users/BIOCBU~1/BBS-3~1.11-/R/include" -DNDEBUG -I/i386/include -I'C:/Users/biocbuild/bbs-3.11-bioc/R/library/Rcpp/include' -I"C:/extsoft/include" -O2 -Wall -mfpmath=sse -msse2 -mstackrealign -c RcppExports.cpp -o RcppExports.o
"C:/rtools40/mingw32/bin/"g++ -std=gnu++11 -I"C:/Users/BIOCBU~1/BBS-3~1.11-/R/include" -DNDEBUG -I/i386/include -I'C:/Users/biocbuild/bbs-3.11-bioc/R/library/Rcpp/include' -I"C:/extsoft/include" -O2 -Wall -mfpmath=sse -msse2 -mstackrealign -c SegmentSeq.cpp -o SegmentSeq.o
"C:/rtools40/mingw32/bin/"g++ -std=gnu++11 -I"C:/Users/BIOCBU~1/BBS-3~1.11-/R/include" -DNDEBUG -I/i386/include -I'C:/Users/biocbuild/bbs-3.11-bioc/R/library/Rcpp/include' -I"C:/extsoft/include" -O2 -Wall -mfpmath=sse -msse2 -mstackrealign -c rjmcmcNucleo.cpp -o rjmcmcNucleo.o
C:/rtools40/mingw32/bin/g++ -std=gnu++11 -shared -s -static-libgcc -o RJMCMCNucleosomes.dll tmp.def NucleoDirichlet.o NucleoDirichletPA.o Nucleosome.o RJMCMCNucleosomes_init.o RcppExports.o SegmentSeq.o rjmcmcNucleo.o -L/i386/lib -lgsl -LC:/extsoft/lib/i386 -LC:/extsoft/lib -LC:/Users/BIOCBU~1/BBS-3~1.11-/R/bin/i386 -lR
installing to C:/Users/biocbuild/bbs-3.11-bioc/meat/RJMCMCNucleosomes.buildbin-libdir/00LOCK-RJMCMCNucleosomes/00new/RJMCMCNucleosomes/libs/i386
** R
** data
** inst
** byte-compile and prepare package for lazy loading
** help
*** installing help indices
converting help for package 'RJMCMCNucleosomes'
finding HTML links ... done
RJMCMCNucleosomes-package html
RJMCMC_result html
mergeAllRDSFiles html
mergeAllRDSFilesFromDirectory html
mergeRDSFiles html
plotNucleosomes html
postMerge html
postTreatment html
print.rjmcmcNucleosomes html
print.rjmcmcNucleosomesBeforeAndAfterPostTreatment
html
print.rjmcmcNucleosomesMerge html
reads_demo_01 html
reads_demo_02 html
rjmcmc html
rjmcmcCHR html
rjmcmcNucleo html
runCHR html
segmentation html
syntheticNucleosomeReads html
validateDirectoryParameters html
validatePlotNucleosomesParameters html
validatePrepMergeParameters html
validateRDSFilesParameters html
validateRJMCMCParameters html
validateSegmentationParameters html
** building package indices
** installing vignettes
** testing if installed package can be loaded from temporary location
** testing if installed package can be loaded from final location
** testing if installed package keeps a record of temporary installation path
install for x64
* installing *source* package 'RJMCMCNucleosomes' ...
** libs
"C:/rtools40/mingw64/bin/"g++ -std=gnu++11 -I"C:/Users/BIOCBU~1/BBS-3~1.11-/R/include" -DNDEBUG -I/x64/include -I'C:/Users/biocbuild/bbs-3.11-bioc/R/library/Rcpp/include' -I"C:/extsoft/include" -O2 -Wall -mfpmath=sse -msse2 -mstackrealign -c NucleoDirichlet.cpp -o NucleoDirichlet.o
"C:/rtools40/mingw64/bin/"g++ -std=gnu++11 -I"C:/Users/BIOCBU~1/BBS-3~1.11-/R/include" -DNDEBUG -I/x64/include -I'C:/Users/biocbuild/bbs-3.11-bioc/R/library/Rcpp/include' -I"C:/extsoft/include" -O2 -Wall -mfpmath=sse -msse2 -mstackrealign -c NucleoDirichletPA.cpp -o NucleoDirichletPA.o
"C:/rtools40/mingw64/bin/"g++ -std=gnu++11 -I"C:/Users/BIOCBU~1/BBS-3~1.11-/R/include" -DNDEBUG -I/x64/include -I'C:/Users/biocbuild/bbs-3.11-bioc/R/library/Rcpp/include' -I"C:/extsoft/include" -O2 -Wall -mfpmath=sse -msse2 -mstackrealign -c Nucleosome.cpp -o Nucleosome.o
"C:/rtools40/mingw64/bin/"gcc -I"C:/Users/BIOCBU~1/BBS-3~1.11-/R/include" -DNDEBUG -I/x64/include -I'C:/Users/biocbuild/bbs-3.11-bioc/R/library/Rcpp/include' -I"C:/extsoft/include" -O2 -Wall -std=gnu99 -mfpmath=sse -msse2 -mstackrealign -c RJMCMCNucleosomes_init.c -o RJMCMCNucleosomes_init.o
"C:/rtools40/mingw64/bin/"g++ -std=gnu++11 -I"C:/Users/BIOCBU~1/BBS-3~1.11-/R/include" -DNDEBUG -I/x64/include -I'C:/Users/biocbuild/bbs-3.11-bioc/R/library/Rcpp/include' -I"C:/extsoft/include" -O2 -Wall -mfpmath=sse -msse2 -mstackrealign -c RcppExports.cpp -o RcppExports.o
"C:/rtools40/mingw64/bin/"g++ -std=gnu++11 -I"C:/Users/BIOCBU~1/BBS-3~1.11-/R/include" -DNDEBUG -I/x64/include -I'C:/Users/biocbuild/bbs-3.11-bioc/R/library/Rcpp/include' -I"C:/extsoft/include" -O2 -Wall -mfpmath=sse -msse2 -mstackrealign -c SegmentSeq.cpp -o SegmentSeq.o
"C:/rtools40/mingw64/bin/"g++ -std=gnu++11 -I"C:/Users/BIOCBU~1/BBS-3~1.11-/R/include" -DNDEBUG -I/x64/include -I'C:/Users/biocbuild/bbs-3.11-bioc/R/library/Rcpp/include' -I"C:/extsoft/include" -O2 -Wall -mfpmath=sse -msse2 -mstackrealign -c rjmcmcNucleo.cpp -o rjmcmcNucleo.o
C:/rtools40/mingw64/bin/g++ -std=gnu++11 -shared -s -static-libgcc -o RJMCMCNucleosomes.dll tmp.def NucleoDirichlet.o NucleoDirichletPA.o Nucleosome.o RJMCMCNucleosomes_init.o RcppExports.o SegmentSeq.o rjmcmcNucleo.o -L/x64/lib -lgsl -LC:/extsoft/lib/x64 -LC:/extsoft/lib -LC:/Users/BIOCBU~1/BBS-3~1.11-/R/bin/x64 -lR
installing to C:/Users/biocbuild/bbs-3.11-bioc/meat/RJMCMCNucleosomes.buildbin-libdir/RJMCMCNucleosomes/libs/x64
** testing if installed package can be loaded
* MD5 sums
packaged installation of 'RJMCMCNucleosomes' as RJMCMCNucleosomes_1.12.0.zip
* DONE (RJMCMCNucleosomes)
* installing to library 'C:/Users/biocbuild/bbs-3.11-bioc/R/library'
package 'RJMCMCNucleosomes' successfully unpacked and MD5 sums checked