| name | user | system | elapsed
|
| AddToGroup | 0 | 0 | 0 |
|
| RemoveFromGroup | 0 | 0 | 0 |
|
| addCyEdges | 0 | 0 | 0 |
|
| addCyNodes | 0 | 0 | 0 |
|
| analyzeNetwork | 0 | 0 | 0 |
|
| applyFilter | 0 | 0 | 0 |
|
| bundleEdges | 0 | 0 | 0 |
|
| clearEdgeBends | 0 | 0 | 0 |
|
| clearEdgePropertyBypass | 0 | 0 | 0 |
|
| clearNetworkCenterBypass | 0 | 0 | 0 |
|
| clearNetworkPropertyBypass | 0 | 0 | 0 |
|
| clearNetworkZoomBypass | 0 | 0 | 0 |
|
| clearNodeOpacityBypass | 0 | 0 | 0 |
|
| clearNodePropertyBypass | 0.001 | 0.000 | 0.001 |
|
| clearSelection | 0.000 | 0.000 | 0.001 |
|
| cloneNetwork | 0.000 | 0.000 | 0.001 |
|
| closeSession | 0 | 0 | 0 |
|
| collapseGroup | 0.000 | 0.001 | 0.000 |
|
| commandEcho | 0 | 0 | 0 |
|
| commandOpenDialog | 0 | 0 | 0 |
|
| commandPause | 0 | 0 | 0 |
|
| commandQuit | 0 | 0 | 0 |
|
| commandRunFile | 0 | 0 | 0 |
|
| commandSleep | 0 | 0 | 0 |
|
| commandsAPI | 0.001 | 0.000 | 0.001 |
|
| commandsGET | 0.000 | 0.000 | 0.001 |
|
| commandsHelp | 0 | 0 | 0 |
|
| commandsPOST | 0 | 0 | 0 |
|
| commandsRun | 0 | 0 | 0 |
|
| copyVisualStyle | 0 | 0 | 0 |
|
| createColumnFilter | 0 | 0 | 0 |
|
| createCompositeFilter | 0 | 0 | 0 |
|
| createDegreeFilter | 0 | 0 | 0 |
|
| createGraphFromNetwork | 0 | 0 | 0 |
|
| createGroup | 0 | 0 | 0 |
|
| createGroupByColumn | 0 | 0 | 0 |
|
| createIgraphFromNetwork | 0.001 | 0.000 | 0.001 |
|
| createNetworkFromDataFrames | 0.001 | 0.000 | 0.001 |
|
| createNetworkFromGraph | 0 | 0 | 0 |
|
| createNetworkFromIgraph | 0 | 0 | 0 |
|
| createSubnetwork | 0 | 0 | 0 |
|
| createVisualStyle | 0 | 0 | 0 |
|
| cybrowserClose | 0 | 0 | 0 |
|
| cybrowserDialog | 0 | 0 | 0 |
|
| cybrowserHide | 0 | 0 | 0 |
|
| cybrowserList | 0 | 0 | 0 |
|
| cybrowserSend | 0.001 | 0.000 | 0.001 |
|
| cybrowserShow | 0 | 0 | 0 |
|
| cybrowserVersion | 0 | 0 | 0 |
|
| cyrestAPI | 0 | 0 | 0 |
|
| cyrestDELETE | 0 | 0 | 0 |
|
| cyrestGET | 0 | 0 | 0 |
|
| cyrestPOST | 0 | 0 | 0 |
|
| cyrestPUT | 0 | 0 | 0 |
|
| cytoscapeApiVersions | 0 | 0 | 0 |
|
| cytoscapeFreeMemory | 0.001 | 0.000 | 0.000 |
|
| cytoscapeMemoryStatus | 0.001 | 0.000 | 0.001 |
|
| cytoscapeNumberOfCores | 0 | 0 | 0 |
|
| cytoscapePing | 0 | 0 | 0 |
|
| cytoscapeVersionInfo | 0 | 0 | 0 |
|
| deleteAllNetworks | 0 | 0 | 0 |
|
| deleteDuplicateEdges | 0 | 0 | 0 |
|
| deleteGroup | 0 | 0 | 0 |
|
| deleteNetwork | 0 | 0 | 0 |
|
| deleteSelectedEdges | 0 | 0 | 0 |
|
| deleteSelectedNodes | 0 | 0 | 0 |
|
| deleteSelfLoops | 0 | 0 | 0 |
|
| deleteStyleMapping | 0 | 0 | 0 |
|
| deleteTableColumn | 0 | 0 | 0 |
|
| deleteVisualStyle | 0 | 0 | 0 |
|
| diffusionAdvanced | 0.000 | 0.000 | 0.001 |
|
| diffusionBasic | 0.001 | 0.000 | 0.001 |
|
| disableApp | 0 | 0 | 0 |
|
| dockPanel | 0 | 0 | 0 |
|
| enableApp | 0 | 0 | 0 |
|
| expandGroup | 0 | 0 | 0 |
|
| exportFilters | 0 | 0 | 0 |
|
| exportImage | 0 | 0 | 0 |
|
| exportNetwork | 0 | 0 | 0 |
|
| exportNetworkToNDEx | 0 | 0 | 0 |
|
| exportVisualStyles | 0 | 0 | 0 |
|
| fitContent | 0 | 0 | 0 |
|
| floatPanel | 0 | 0 | 0 |
|
| getAllEdges | 0 | 0 | 0 |
|
| getAllNodes | 0 | 0 | 0 |
|
| getAppInformation | 0 | 0 | 0 |
|
| getAppStatus | 0.001 | 0.000 | 0.001 |
|
| getAppUpdates | 0.001 | 0.000 | 0.001 |
|
| getArrowShapes | 0.001 | 0.000 | 0.001 |
|
| getAvailableApps | 0 | 0 | 0 |
|
| getBackgroundColorDefault | 0 | 0 | 0 |
|
| getCollectionList | 0 | 0 | 0 |
|
| getCollectionName | 0 | 0 | 0 |
|
| getCollectionNetworks | 0 | 0 | 0 |
|
| getCollectionSuid | 0 | 0 | 0 |
|
| getDisabledApps | 0 | 0 | 0 |
|
| getEdgeColor | 0 | 0 | 0 |
|
| getEdgeCount | 0 | 0 | 0 |
|
| getEdgeInfo | 0 | 0 | 0 |
|
| getEdgeLineStyle | 0 | 0 | 0 |
|
| getEdgeLineWidth | 0 | 0 | 0 |
|
| getEdgeProperty | 0 | 0 | 0 |
|
| getEdgeSelectionColorDefault | 0 | 0 | 0 |
|
| getEdgeTargetArrowShape | 0.001 | 0.000 | 0.000 |
|
| getFilterList | 0.001 | 0.000 | 0.001 |
|
| getFirstNeighbors | 0 | 0 | 0 |
|
| getGroupInfo | 0 | 0 | 0 |
|
| getInstalledApps | 0 | 0 | 0 |
|
| getLayoutNameMapping | 0 | 0 | 0 |
|
| getLayoutNames | 0 | 0 | 0 |
|
| getLayoutPropertyNames | 0 | 0 | 0 |
|
| getLayoutPropertyType | 0 | 0 | 0 |
|
| getLayoutPropertyValue | 0 | 0 | 0 |
|
| getLineStyles | 0 | 0 | 0 |
|
| getNetworkCenter | 0 | 0 | 0 |
|
| getNetworkCount | 0 | 0 | 0 |
|
| getNetworkList | 0.001 | 0.000 | 0.001 |
|
| getNetworkNDExId | 0.001 | 0.000 | 0.001 |
|
| getNetworkName | 0.000 | 0.000 | 0.001 |
|
| getNetworkProperty | 0 | 0 | 0 |
|
| getNetworkSuid | 0 | 0 | 0 |
|
| getNetworkViewSuid | 0 | 0 | 0 |
|
| getNetworkViews | 0 | 0 | 0 |
|
| getNetworkZoom | 0 | 0 | 0 |
|
| getNodeColor | 0 | 0 | 0 |
|
| getNodeCount | 0 | 0 | 0 |
|
| getNodeHeight | 0 | 0 | 0 |
|
| getNodePosition | 0 | 0 | 0 |
|
| getNodeProperty | 0 | 0 | 0 |
|
| getNodeSelectionColorDefault | 0 | 0 | 0 |
|
| getNodeShapes | 0.001 | 0.000 | 0.001 |
|
| getNodeSize | 0.000 | 0.000 | 0.001 |
|
| getNodeWidth | 0 | 0 | 0 |
|
| getSelectedEdgeCount | 0 | 0 | 0 |
|
| getSelectedEdges | 0 | 0 | 0 |
|
| getSelectedNodeCount | 0 | 0 | 0 |
|
| getSelectedNodes | 0 | 0 | 0 |
|
| getStyleDependencies | 0 | 0 | 0 |
|
| getTableColumnNames | 0 | 0 | 0 |
|
| getTableColumnTypes | 0 | 0 | 0 |
|
| getTableColumns | 0 | 0 | 0 |
|
| getTableValue | 0.001 | 0.000 | 0.001 |
|
| getUninstalledApps | 0.001 | 0.000 | 0.001 |
|
| getVisualPropertyDefault | 0 | 0 | 0 |
|
| getVisualPropertyNames | 0 | 0 | 0 |
|
| getVisualStyleNames | 0 | 0 | 0 |
|
| hideAllPanels | 0 | 0 | 0 |
|
| hideEdges | 0 | 0 | 0 |
|
| hideNodes | 0 | 0 | 0 |
|
| hidePanel | 0 | 0 | 0 |
|
| hideSelectedEdges | 0 | 0 | 0 |
|
| hideSelectedNodes | 0 | 0 | 0 |
|
| importFilters | 0 | 0 | 0 |
|
| importNetworkFromFile | 0 | 0 | 0 |
|
| importNetworkFromNDEx | 0 | 0 | 0 |
|
| importVisualStyles | 0.001 | 0.000 | 0.001 |
|
| installApp | 0 | 0 | 0 |
|
| invertEdgeSelection | 0 | 0 | 0 |
|
| invertNodeSelection | 0 | 0 | 0 |
|
| layoutCopycat | 0 | 0 | 0 |
|
| layoutNetwork | 0 | 0 | 0 |
|
| listGroups | 0 | 0 | 0 |
|
| lockNodeDimensions | 0 | 0 | 0 |
|
| makeSimpleGraph | 0.097 | 0.002 | 0.099 |
|
| makeSimpleIgraph | 0.017 | 0.000 | 0.017 |
|
| mapTableColumn | 0.001 | 0.000 | 0.001 |
|
| mapVisualProperty | 0.001 | 0.000 | 0.001 |
|
| matchArrowColorToEdge | 0.001 | 0.000 | 0.001 |
|
| mergeNetworks | 0.001 | 0.000 | 0.001 |
|
| openAppStore | 0.001 | 0.000 | 0.001 |
|
| openSession | 0.001 | 0.000 | 0.001 |
|
| removeNodeCustomGraphics | 0.001 | 0.000 | 0.001 |
|
| renameNetwork | 0.000 | 0.000 | 0.001 |
|
| renameTableColumn | 0 | 0 | 0 |
|
| saveSession | 0 | 0 | 0 |
|
| selectAllEdges | 0 | 0 | 0 |
|
| selectAllNodes | 0 | 0 | 0 |
|
| selectEdges | 0 | 0 | 0 |
|
| selectEdgesAdjacentToSelectedNodes | 0 | 0 | 0 |
|
| selectEdgesConnectingSelectedNodes | 0 | 0 | 0 |
|
| selectFirstNeighbors | 0 | 0 | 0 |
|
| selectNodes | 0 | 0 | 0 |
|
| selectNodesConnectedBySelectedEdges | 0 | 0 | 0 |
|
| setBackgroundColorDefault | 0 | 0 | 0 |
|
| setCurrentNetwork | 0 | 0 | 0 |
|
| setCurrentView | 0 | 0 | 0 |
|
| setEdgeColorBypass | 0.001 | 0.000 | 0.001 |
|
| setEdgeColorDefault | 0.000 | 0.001 | 0.001 |
|
| setEdgeColorMapping | 0.000 | 0.001 | 0.001 |
|
| setEdgeFontFaceBypass | 0.000 | 0.001 | 0.000 |
|
| setEdgeFontFaceDefault | 0 | 0 | 0 |
|
| setEdgeFontFaceMapping | 0 | 0 | 0 |
|
| setEdgeFontSizeBypass | 0 | 0 | 0 |
|
| setEdgeFontSizeDefault | 0 | 0 | 0 |
|
| setEdgeFontSizeMapping | 0 | 0 | 0 |
|
| setEdgeLabelBypass | 0 | 0 | 0 |
|
| setEdgeLabelColorBypass | 0 | 0 | 0 |
|
| setEdgeLabelColorDefault | 0 | 0 | 0 |
|
| setEdgeLabelColorMapping | 0 | 0 | 0 |
|
| setEdgeLabelDefault | 0 | 0 | 0 |
|
| setEdgeLabelMapping | 0 | 0 | 0 |
|
| setEdgeLabelOpacityBypass | 0.001 | 0.000 | 0.000 |
|
| setEdgeLabelOpacityDefault | 0.001 | 0.000 | 0.001 |
|
| setEdgeLabelOpacityMapping | 0.000 | 0.000 | 0.001 |
|
| setEdgeLineStyleBypass | 0.000 | 0.001 | 0.000 |
|
| setEdgeLineStyleDefault | 0.000 | 0.001 | 0.000 |
|
| setEdgeLineStyleMapping | 0 | 0 | 0 |
|
| setEdgeLineWidthBypass | 0 | 0 | 0 |
|
| setEdgeLineWidthDefault | 0 | 0 | 0 |
|
| setEdgeLineWidthMapping | 0 | 0 | 0 |
|
| setEdgeOpacityBypass | 0 | 0 | 0 |
|
| setEdgeOpacityDefault | 0 | 0 | 0 |
|
| setEdgeOpacityMapping | 0 | 0 | 0 |
|
| setEdgePropertyBypass | 0 | 0 | 0 |
|
| setEdgeSelectionColorDefault | 0.001 | 0.000 | 0.001 |
|
| setEdgeSourceArrowColorBypass | 0 | 0 | 0 |
|
| setEdgeSourceArrowColorDefault | 0 | 0 | 0 |
|
| setEdgeSourceArrowColorMapping | 0 | 0 | 0 |
|
| setEdgeSourceArrowMapping | 0 | 0 | 0 |
|
| setEdgeSourceArrowShapeBypass | 0 | 0 | 0 |
|
| setEdgeSourceArrowShapeDefault | 0 | 0 | 0 |
|
| setEdgeSourceArrowShapeMapping | 0 | 0 | 0 |
|
| setEdgeTargetArrowColorBypass | 0 | 0 | 0 |
|
| setEdgeTargetArrowColorDefault | 0.001 | 0.000 | 0.001 |
|
| setEdgeTargetArrowColorMapping | 0.000 | 0.000 | 0.001 |
|
| setEdgeTargetArrowMapping | 0 | 0 | 0 |
|
| setEdgeTargetArrowShapeBypass | 0 | 0 | 0 |
|
| setEdgeTargetArrowShapeDefault | 0 | 0 | 0 |
|
| setEdgeTargetArrowShapeMapping | 0 | 0 | 0 |
|
| setEdgeTooltipBypass | 0 | 0 | 0 |
|
| setEdgeTooltipDefault | 0 | 0 | 0 |
|
| setEdgeTooltipMapping | 0 | 0 | 0 |
|
| setLayoutProperties | 0 | 0 | 0 |
|
| setNetworkCenterBypass | 0.001 | 0.000 | 0.001 |
|
| setNetworkPropertyBypass | 0.001 | 0.000 | 0.001 |
|
| setNetworkZoomBypass | 0 | 0 | 0 |
|
| setNodeBorderColorBypass | 0 | 0 | 0 |
|
| setNodeBorderColorDefault | 0 | 0 | 0 |
|
| setNodeBorderColorMapping | 0 | 0 | 0 |
|
| setNodeBorderOpacityBypass | 0 | 0 | 0 |
|
| setNodeBorderOpacityDefault | 0 | 0 | 0 |
|
| setNodeBorderOpacityMapping | 0 | 0 | 0 |
|
| setNodeBorderWidthBypass | 0 | 0 | 0 |
|
| setNodeBorderWidthDefault | 0.001 | 0.000 | 0.001 |
|
| setNodeBorderWidthMapping | 0.000 | 0.000 | 0.001 |
|
| setNodeColorBypass | 0 | 0 | 0 |
|
| setNodeColorDefault | 0 | 0 | 0 |
|
| setNodeColorMapping | 0 | 0 | 0 |
|
| setNodeComboOpacityMapping | 0 | 0 | 0 |
|
| setNodeCustomBarChart | 0 | 0 | 0 |
|
| setNodeCustomBoxChart | 0 | 0 | 0 |
|
| setNodeCustomHeatMapChart | 0 | 0 | 0 |
|
| setNodeCustomLineChart | 0 | 0 | 0 |
|
| setNodeCustomLinearGradient | 0.001 | 0.000 | 0.001 |
|
| setNodeCustomPieChart | 0.001 | 0.000 | 0.001 |
|
| setNodeCustomPosition | 0 | 0 | 0 |
|
| setNodeCustomRadialGradient | 0 | 0 | 0 |
|
| setNodeCustomRingChart | 0 | 0 | 0 |
|
| setNodeFillOpacityBypass | 0 | 0 | 0 |
|
| setNodeFillOpacityDefault | 0 | 0 | 0 |
|
| setNodeFillOpacityMapping | 0 | 0 | 0 |
|
| setNodeFontFaceBypass | 0 | 0 | 0 |
|
| setNodeFontFaceDefault | 0 | 0 | 0 |
|
| setNodeFontFaceMapping | 0 | 0 | 0 |
|
| setNodeFontSizeBypass | 0 | 0 | 0 |
|
| setNodeFontSizeDefault | 0.001 | 0.000 | 0.000 |
|
| setNodeFontSizeMapping | 0.001 | 0.000 | 0.001 |
|
| setNodeHeightBypass | 0.000 | 0.000 | 0.001 |
|
| setNodeHeightDefault | 0 | 0 | 0 |
|
| setNodeHeightMapping | 0 | 0 | 0 |
|
| setNodeLabelBypass | 0 | 0 | 0 |
|
| setNodeLabelColorBypass | 0 | 0 | 0 |
|
| setNodeLabelColorDefault | 0 | 0 | 0 |
|
| setNodeLabelColorMapping | 0 | 0 | 0 |
|
| setNodeLabelDefault | 0 | 0 | 0 |
|
| setNodeLabelMapping | 0 | 0 | 0 |
|
| setNodeLabelOpacityBypass | 0.001 | 0.000 | 0.000 |
|
| setNodeLabelOpacityDefault | 0.001 | 0.000 | 0.001 |
|
| setNodeLabelOpacityMapping | 0 | 0 | 0 |
|
| setNodeOpacityBypass | 0 | 0 | 0 |
|
| setNodePropertyBypass | 0 | 0 | 0 |
|
| setNodeSelectionColorDefault | 0 | 0 | 0 |
|
| setNodeShapeBypass | 0 | 0 | 0 |
|
| setNodeShapeDefault | 0 | 0 | 0 |
|
| setNodeShapeMapping | 0 | 0 | 0 |
|
| setNodeSizeBypass | 0 | 0 | 0 |
|
| setNodeSizeDefault | 0 | 0 | 0 |
|
| setNodeSizeMapping | 0 | 0 | 0 |
|
| setNodeTooltipBypass | 0 | 0 | 0 |
|
| setNodeTooltipDefault | 0.001 | 0.000 | 0.000 |
|
| setNodeTooltipMapping | 0 | 0 | 0 |
|
| setNodeWidthBypass | 0 | 0 | 0 |
|
| setNodeWidthDefault | 0 | 0 | 0 |
|
| setNodeWidthMapping | 0 | 0 | 0 |
|
| setStyleDependencies | 0.001 | 0.000 | 0.001 |
|
| setVisualPropertyDefault | 0.000 | 0.000 | 0.001 |
|
| setVisualStyle | 0 | 0 | 0 |
|
| syncNodeCustomGraphicsSize | 0 | 0 | 0 |
|
| toggleGraphicsDetails | 0 | 0 | 0 |
|
| unhideAll | 0 | 0 | 0 |
|
| unhideEdges | 0 | 0 | 0 |
|
| unhideNodes | 0 | 0 | 0 |
|
| uninstallApp | 0 | 0 | 0 |
|
| updateApp | 0 | 0 | 0 |
|
| updateNetworkInNDEx | 0.001 | 0.000 | 0.000 |
|
| updateStyleDefaults | 0.001 | 0.000 | 0.001 |
|
| updateStyleMapping | 0 | 0 | 0 |
|