| Back to Multiple platform build/check report for BioC 3.11 |
|
This page was generated on 2020-10-17 11:57:34 -0400 (Sat, 17 Oct 2020).
| TO THE DEVELOPERS/MAINTAINERS OF THE RCM PACKAGE: Please make sure to use the following settings in order to reproduce any error or warning you see on this page. |
| Package 1435/1905 | Hostname | OS / Arch | INSTALL | BUILD | CHECK | BUILD BIN | ||||||
| RCM 1.4.0 Joris Meys
| malbec2 | Linux (Ubuntu 18.04.4 LTS) / x86_64 | OK | OK | WARNINGS | |||||||
| tokay2 | Windows Server 2012 R2 Standard / x64 | [ OK ] | OK | WARNINGS | OK | |||||||
| machv2 | macOS 10.14.6 Mojave / x86_64 | OK | OK | WARNINGS | OK |
| Package: RCM |
| Version: 1.4.0 |
| Command: C:\cygwin\bin\curl.exe -O https://malbec2.bioconductor.org/BBS/3.11/bioc/src/contrib/RCM_1.4.0.tar.gz && rm -rf RCM.buildbin-libdir && mkdir RCM.buildbin-libdir && C:\Users\biocbuild\bbs-3.11-bioc\R\bin\R.exe CMD INSTALL --merge-multiarch --build --library=RCM.buildbin-libdir RCM_1.4.0.tar.gz && C:\Users\biocbuild\bbs-3.11-bioc\R\bin\R.exe CMD INSTALL RCM_1.4.0.zip && rm RCM_1.4.0.tar.gz RCM_1.4.0.zip |
| StartedAt: 2020-10-16 17:49:03 -0400 (Fri, 16 Oct 2020) |
| EndedAt: 2020-10-16 17:50:57 -0400 (Fri, 16 Oct 2020) |
| EllapsedTime: 113.7 seconds |
| RetCode: 0 |
| Status: OK |
##############################################################################
##############################################################################
###
### Running command:
###
### C:\cygwin\bin\curl.exe -O https://malbec2.bioconductor.org/BBS/3.11/bioc/src/contrib/RCM_1.4.0.tar.gz && rm -rf RCM.buildbin-libdir && mkdir RCM.buildbin-libdir && C:\Users\biocbuild\bbs-3.11-bioc\R\bin\R.exe CMD INSTALL --merge-multiarch --build --library=RCM.buildbin-libdir RCM_1.4.0.tar.gz && C:\Users\biocbuild\bbs-3.11-bioc\R\bin\R.exe CMD INSTALL RCM_1.4.0.zip && rm RCM_1.4.0.tar.gz RCM_1.4.0.zip
###
##############################################################################
##############################################################################
% Total % Received % Xferd Average Speed Time Time Time Current
Dload Upload Total Spent Left Speed
0 0 0 0 0 0 0 0 --:--:-- --:--:-- --:--:-- 0
0 2721k 0 0 0 0 0 0 --:--:-- --:--:-- --:--:-- 0
100 2721k 100 2721k 0 0 14.4M 0 --:--:-- --:--:-- --:--:-- 14.9M
install for i386
* installing *source* package 'RCM' ...
** using staged installation
** R
** data
*** moving datasets to lazyload DB
** inst
** byte-compile and prepare package for lazy loading
** help
*** installing help indices
converting help for package 'RCM'
finding HTML links ... done
JacCol_constr html
JacCol_constr_noLab html
LR_nb html
LR_nb_Jac html
NBalphaInfl html
NBcolInfl html
NBjacobianAbunds html
NBjacobianCol html
NBjacobianColNP html
NBjacobianLibSizes html
NBjacobianPsi html
NBjacobianRow html
NBpsiInfl html
NBrowInfl html
RCM html
RCM_NB html
Zeller html
addOrthProjection html
arrayprod html
buildCentMat html
buildConfMat html
buildConfMat.character html
buildConfMat.data.frame html
buildCovMat html
buildDesign html
dLR_nb html
dNBabunds html
dNBlibSizes html
dNBllcol html
dNBllcolNP html
dNBllcol_constr html
dNBllcol_constr_noLab html
dNBllrow html
dNBpsis html
deviances html
ellipseCoord html
estDisp html
estNBparams html
estNBparamsNoLab html
estNPresp html
extractCoord html
extractE html
filterConfounders html
getDevMat html
getDevianceRes html
getInflCol html
getInflRow html
getInt html
getLogLik html
getModelMat html
getRowMat html
heq_nb html
heq_nb_jac html
indentPlot html
inertia html
liks html
plot.RCM html
plotRespFun html
residualPlot html
respFunJacMat html
respFunScoreMat html
rowMultiply html
seq_k html
trimOnConfounders html
** building package indices
** installing vignettes
** testing if installed package can be loaded from temporary location
** testing if installed package can be loaded from final location
** testing if installed package keeps a record of temporary installation path
install for x64
* installing *source* package 'RCM' ...
** testing if installed package can be loaded
* MD5 sums
packaged installation of 'RCM' as RCM_1.4.0.zip
* DONE (RCM)
* installing to library 'C:/Users/biocbuild/bbs-3.11-bioc/R/library'
package 'RCM' successfully unpacked and MD5 sums checked