| Back to Multiple platform build/check report for BioC 3.11 |
|
This page was generated on 2020-10-17 11:57:29 -0400 (Sat, 17 Oct 2020).
| TO THE DEVELOPERS/MAINTAINERS OF THE ProteomicsAnnotationHubData PACKAGE: Please make sure to use the following settings in order to reproduce any error or warning you see on this page. |
| Package 1368/1905 | Hostname | OS / Arch | INSTALL | BUILD | CHECK | BUILD BIN | ||||||
| ProteomicsAnnotationHubData 1.18.0 Laurent Gatto
| malbec2 | Linux (Ubuntu 18.04.4 LTS) / x86_64 | OK | OK | OK | |||||||
| tokay2 | Windows Server 2012 R2 Standard / x64 | [ OK ] | OK | OK | OK | |||||||
| machv2 | macOS 10.14.6 Mojave / x86_64 | OK | OK | OK | OK |
| Package: ProteomicsAnnotationHubData |
| Version: 1.18.0 |
| Command: C:\cygwin\bin\curl.exe -O https://malbec2.bioconductor.org/BBS/3.11/bioc/src/contrib/ProteomicsAnnotationHubData_1.18.0.tar.gz && rm -rf ProteomicsAnnotationHubData.buildbin-libdir && mkdir ProteomicsAnnotationHubData.buildbin-libdir && C:\Users\biocbuild\bbs-3.11-bioc\R\bin\R.exe CMD INSTALL --merge-multiarch --build --library=ProteomicsAnnotationHubData.buildbin-libdir ProteomicsAnnotationHubData_1.18.0.tar.gz && C:\Users\biocbuild\bbs-3.11-bioc\R\bin\R.exe CMD INSTALL ProteomicsAnnotationHubData_1.18.0.zip && rm ProteomicsAnnotationHubData_1.18.0.tar.gz ProteomicsAnnotationHubData_1.18.0.zip |
| StartedAt: 2020-10-16 19:19:31 -0400 (Fri, 16 Oct 2020) |
| EndedAt: 2020-10-16 19:20:57 -0400 (Fri, 16 Oct 2020) |
| EllapsedTime: 85.9 seconds |
| RetCode: 0 |
| Status: OK |
##############################################################################
##############################################################################
###
### Running command:
###
### C:\cygwin\bin\curl.exe -O https://malbec2.bioconductor.org/BBS/3.11/bioc/src/contrib/ProteomicsAnnotationHubData_1.18.0.tar.gz && rm -rf ProteomicsAnnotationHubData.buildbin-libdir && mkdir ProteomicsAnnotationHubData.buildbin-libdir && C:\Users\biocbuild\bbs-3.11-bioc\R\bin\R.exe CMD INSTALL --merge-multiarch --build --library=ProteomicsAnnotationHubData.buildbin-libdir ProteomicsAnnotationHubData_1.18.0.tar.gz && C:\Users\biocbuild\bbs-3.11-bioc\R\bin\R.exe CMD INSTALL ProteomicsAnnotationHubData_1.18.0.zip && rm ProteomicsAnnotationHubData_1.18.0.tar.gz ProteomicsAnnotationHubData_1.18.0.zip
###
##############################################################################
##############################################################################
% Total % Received % Xferd Average Speed Time Time Time Current
Dload Upload Total Spent Left Speed
0 0 0 0 0 0 0 0 --:--:-- --:--:-- --:--:-- 0
100 21044 100 21044 0 0 306k 0 --:--:-- --:--:-- --:--:-- 342k
install for i386
* installing *source* package 'ProteomicsAnnotationHubData' ...
** using staged installation
** R
** inst
** byte-compile and prepare package for lazy loading
** help
*** installing help indices
converting help for package 'ProteomicsAnnotationHubData'
finding HTML links ... done
PAHD-class html
PAHD html
ProteomicsAnnotationHubData html
identicalRemLoc html
makeAnnotationHubMetadata html
readPahdFiles html
writePahdTemplate html
** building package indices
** installing vignettes
** testing if installed package can be loaded from temporary location
** testing if installed package can be loaded from final location
** testing if installed package keeps a record of temporary installation path
install for x64
* installing *source* package 'ProteomicsAnnotationHubData' ...
** testing if installed package can be loaded
* MD5 sums
packaged installation of 'ProteomicsAnnotationHubData' as ProteomicsAnnotationHubData_1.18.0.zip
* DONE (ProteomicsAnnotationHubData)
* installing to library 'C:/Users/biocbuild/bbs-3.11-bioc/R/library'
package 'ProteomicsAnnotationHubData' successfully unpacked and MD5 sums checked